BEGIN:VCALENDAR
VERSION:2.0
PRODID:-//Ôcargo Foodcourt - ECPv6.15.20//NONSGML v1.0//EN
CALSCALE:GREGORIAN
METHOD:PUBLISH
X-WR-CALNAME:Ôcargo Foodcourt
X-ORIGINAL-URL:https://www.ocargofoodcourt.com
X-WR-CALDESC:Évènements pour Ôcargo Foodcourt
REFRESH-INTERVAL;VALUE=DURATION:PT1H
X-Robots-Tag:noindex
X-PUBLISHED-TTL:PT1H
BEGIN:VTIMEZONE
TZID:Europe/Paris
BEGIN:DAYLIGHT
TZOFFSETFROM:+0100
TZOFFSETTO:+0200
TZNAME:CEST
DTSTART:20250330T010000
END:DAYLIGHT
BEGIN:STANDARD
TZOFFSETFROM:+0200
TZOFFSETTO:+0100
TZNAME:CET
DTSTART:20251026T010000
END:STANDARD
BEGIN:DAYLIGHT
TZOFFSETFROM:+0100
TZOFFSETTO:+0200
TZNAME:CEST
DTSTART:20260329T010000
END:DAYLIGHT
BEGIN:STANDARD
TZOFFSETFROM:+0200
TZOFFSETTO:+0100
TZNAME:CET
DTSTART:20261025T010000
END:STANDARD
BEGIN:DAYLIGHT
TZOFFSETFROM:+0100
TZOFFSETTO:+0200
TZNAME:CEST
DTSTART:20270328T010000
END:DAYLIGHT
BEGIN:STANDARD
TZOFFSETFROM:+0200
TZOFFSETTO:+0100
TZNAME:CET
DTSTART:20271031T010000
END:STANDARD
END:VTIMEZONE
BEGIN:VEVENT
DTSTART;TZID=Europe/Paris:20260420T200000
DTEND;TZID=Europe/Paris:20260420T200000
DTSTAMP:20260420T014002
CREATED:20251219T101328Z
LAST-MODIFIED:20251219T102108Z
UID:10005189-1776715200-1776715200@www.ocargofoodcourt.com
SUMMARY:KARAOKE
DESCRIPTION:KARAOKÉ TOUS LES LUNDIS chez ÔCargo Fréjus\nTous les lundis\, venez chanter et passer une soirée inoubliable lors de notre soirée karaoké ! \nQue vous soyez une star du micro ou juste là pour vous amuser\, notre scène est ouverte à tous !Venez partager vos talents\, découvrir de nouveaux artistes\, et profiter d’une ambiance conviviale autour des délicieux plats de nos 6 food corner.\nNe manquez pas le rendez-vous incontournable de la semaine pour un moment de détente et de divertissement !\n Entrée libre – Venez nombreux avec vos amis et votre bonne humeur ! 
URL:https://www.ocargofoodcourt.com/evenement/karaoke-5/2026-04-20/
CATEGORIES:Fréjus
ATTACH;FMTTYPE=image/png:https://www.ocargofoodcourt.com/wp-content/uploads/2025/12/Autres-animations-39.png
END:VEVENT
BEGIN:VEVENT
DTSTART;TZID=Europe/Paris:20260420T200000
DTEND;TZID=Europe/Paris:20260420T200000
DTSTAMP:20260420T014002
CREATED:20251220T123805Z
LAST-MODIFIED:20251220T123948Z
UID:10005428-1776715200-1776715200@www.ocargofoodcourt.com
SUMMARY:SOIRÉE KARAOKÉ
DESCRIPTION: SOIRÉE KARAOKÉ  \nPrêts à devenir la star de la soirée ? Ce soir\, rendez-vous à 20h pour une soirée Karaoké mémorable !Choisissez vos musiques préférées\, montez sur scène et laissez-vous emporter par l’ambiance ! Que vous soyez chanteur dans l’âme ou juste là pour vous amuser\, cette soirée est faite pour vous ! Et pour couronner le tout\, chaque lundi\, la bière est à 2€ !
URL:https://www.ocargofoodcourt.com/evenement/soiree-karaoke-162/2026-04-20/
LOCATION:Avignon\, Avignon\, France
CATEGORIES:Avignon
ATTACH;FMTTYPE=image/png:https://www.ocargofoodcourt.com/wp-content/uploads/2025/12/Karaoke-fb.png
END:VEVENT
BEGIN:VEVENT
DTSTART;TZID=Europe/Paris:20260420T200000
DTEND;TZID=Europe/Paris:20260420T200000
DTSTAMP:20260420T014002
CREATED:20260327T161633Z
LAST-MODIFIED:20260327T161703Z
UID:10006564-1776715200-1776715200@www.ocargofoodcourt.com
SUMMARY:SOIRÉE VIN
DESCRIPTION:TOUS LES 20 DU MOIS : SOIRÉE VIN CHEZ ÔCARGO ! 🍷 \nRejoignez-nous pour une soirée dédiée aux amateurs de bon vin dans une ambiance conviviale et chaleureuse. \nL’offre du mois :\nProfitez de votre bouteille de DIVINES RESTANQUES à seulement 10€ !  \n// START 20H //🍷 \nEt n’oubliez pas\, tenue correcte exigée !
URL:https://www.ocargofoodcourt.com/evenement/soiree-vin-31/
LOCATION:Avignon\, Avignon\, France
CATEGORIES:Avignon
ATTACH;FMTTYPE=image/png:https://www.ocargofoodcourt.com/wp-content/uploads/2026/03/20.04-Vin-fb.png
END:VEVENT
BEGIN:VEVENT
DTSTART;TZID=Europe/Paris:20260420T200000
DTEND;TZID=Europe/Paris:20260420T235900
DTSTAMP:20260420T014002
CREATED:20251020T112951Z
LAST-MODIFIED:20251201T151126Z
UID:10004825-1776715200-1776729540@www.ocargofoodcourt.com
SUMMARY:SOIRÉE KARAOKÉ
DESCRIPTION:🎤 SOIRÉE KARAOKÉ 🎤 \nPrêts à devenir la star de la soirée ? 🌟 Ce soir on vous donne rendez-vous à 20h pour une soirée Karaoké mémorable ! \nChoisissez vos musiques préférées\, montez sur scène\, et laissez-vous emporter par l’ambiance ! 🎶  \nQue vous soyez chanteur dans l’âme ou juste là pour vous amuser\, cette soirée est faite pour vous ! \nEt pour couronner le tout\, chaque lundi\, profitez de la bière Cargo à 2€ ! 🍻 \n🍔FOOD – BAR🍸
URL:https://www.ocargofoodcourt.com/evenement/soiree-karaoke-157/2026-04-20/
LOCATION:La Garde\, ÔCargo Food Court - 477 chemin des plantades\, La Garde\, var\, 83130\, France
CATEGORIES:La Garde
ATTACH;FMTTYPE=image/png:https://www.ocargofoodcourt.com/wp-content/uploads/2025/10/Karaoke-site-web.png
END:VEVENT
END:VCALENDAR