BEGIN:VCALENDAR
VERSION:2.0
PRODID:-//Ôcargo Foodcourt - ECPv6.15.20//NONSGML v1.0//EN
CALSCALE:GREGORIAN
METHOD:PUBLISH
X-WR-CALNAME:Ôcargo Foodcourt
X-ORIGINAL-URL:https://www.ocargofoodcourt.com
X-WR-CALDESC:Évènements pour Ôcargo Foodcourt
REFRESH-INTERVAL;VALUE=DURATION:PT1H
X-Robots-Tag:noindex
X-PUBLISHED-TTL:PT1H
BEGIN:VTIMEZONE
TZID:Europe/Paris
BEGIN:DAYLIGHT
TZOFFSETFROM:+0100
TZOFFSETTO:+0200
TZNAME:CEST
DTSTART:20250330T010000
END:DAYLIGHT
BEGIN:STANDARD
TZOFFSETFROM:+0200
TZOFFSETTO:+0100
TZNAME:CET
DTSTART:20251026T010000
END:STANDARD
BEGIN:DAYLIGHT
TZOFFSETFROM:+0100
TZOFFSETTO:+0200
TZNAME:CEST
DTSTART:20260329T010000
END:DAYLIGHT
BEGIN:STANDARD
TZOFFSETFROM:+0200
TZOFFSETTO:+0100
TZNAME:CET
DTSTART:20261025T010000
END:STANDARD
BEGIN:DAYLIGHT
TZOFFSETFROM:+0100
TZOFFSETTO:+0200
TZNAME:CEST
DTSTART:20270328T010000
END:DAYLIGHT
BEGIN:STANDARD
TZOFFSETFROM:+0200
TZOFFSETTO:+0100
TZNAME:CET
DTSTART:20271031T010000
END:STANDARD
END:VTIMEZONE
BEGIN:VEVENT
DTSTART;TZID=Europe/Paris:20260421T200000
DTEND;TZID=Europe/Paris:20260421T200000
DTSTAMP:20260421T024236
CREATED:20260316T141627Z
LAST-MODIFIED:20260316T141653Z
UID:10005895-1776801600-1776801600@www.ocargofoodcourt.com
SUMMARY:Talent SHOW
DESCRIPTION:🎤✨ SOIRÉE TALENT SHOW ✨🎤 \nÔCargo lance sa deuxième soirée Talent Show ! \nTu chantes ? Tu danses ? Tu fais de la magie\, de l’humour ou une performance originale ? C’est le moment de monter sur scène et de partager ta passion dans une ambiance conviviale et survoltée 🔥 \n🏆 Une grande finale🎁 Des lots à gagner🎉 Un public qui vote pour ses talents préférés \nEnvie de tenter ta chance ? Envoie-nous une vidéo de ta prestation avant le  16 avril pour participer à la sélection par email : ocargofrejus@gmail.com ! \nÀ ÔCargo… cette fois\, la star\, ce sera peut-être toi ✨
URL:https://www.ocargofoodcourt.com/evenement/talent-show-3/
CATEGORIES:Fréjus
ATTACH;FMTTYPE=image/png:https://www.ocargofoodcourt.com/wp-content/uploads/2026/03/Autres-animations-2026-03-16T151557.563.png
END:VEVENT
BEGIN:VEVENT
DTSTART;TZID=Europe/Paris:20260421T200000
DTEND;TZID=Europe/Paris:20260421T200000
DTSTAMP:20260421T024236
CREATED:20260320T100611Z
LAST-MODIFIED:20260320T100918Z
UID:10006018-1776801600-1776801600@www.ocargofoodcourt.com
SUMMARY:SOIRÉE JEUX DE SOCIÉTÉ
DESCRIPTION:🎲SOIRÉE JEUX🎲 \nVenez vous retrouver entre amis ou en famille autour d’un bon jeux de société ! \nEn partenariat avec l’association « Les yeux dans les jeux ».🎲 \nProfitez d’une multitude de jeux de société (Time’s Up\, Jungle Speed\, Twister et bien d’autres) et d’une animation Loup Garou. 😋 \n🍔FOOD – BAR🍸
URL:https://www.ocargofoodcourt.com/evenement/soiree-jeux-de-societe-3/
LOCATION:La Garde\, ÔCargo Food Court - 477 chemin des plantades\, La Garde\, var\, 83130\, France
CATEGORIES:La Garde
ATTACH;FMTTYPE=image/png:https://www.ocargofoodcourt.com/wp-content/uploads/2026/03/Soiree-jeux-Mars-FB-2.png
END:VEVENT
BEGIN:VEVENT
DTSTART;TZID=Europe/Paris:20260421T200000
DTEND;TZID=Europe/Paris:20260421T200000
DTSTAMP:20260421T024236
CREATED:20260327T150319Z
LAST-MODIFIED:20260327T150319Z
UID:10006304-1776801600-1776801600@www.ocargofoodcourt.com
SUMMARY:SOIRÉE MOJITO
DESCRIPTION:🍸 SOIRÉE MOJITO 🍸 \nRafraîchissez votre soirée avec un bon Mojito ! 🌿 Ce soir\, rejoignez-nous dès 20h pour une Soirée Mojito à ne pas manquer ! \nPour seulement 6€\, dégustez votre Mojito préféré\, avec plusieurs saveurs au choix pour satisfaire toutes les envies. 🍓🥭 Que vous soyez team classique\, fruité\, ou exotique\, il y en aura pour tous les goûts ! \nVenez avec vos amis\, détendez-vous\, et profitez dans une ambiance parfaite. 🎉
URL:https://www.ocargofoodcourt.com/evenement/soiree-mojito-13/2026-04-21/
LOCATION:Avignon\, Avignon\, France
CATEGORIES:Avignon
ATTACH;FMTTYPE=image/png:https://www.ocargofoodcourt.com/wp-content/uploads/2026/03/mojito.png
END:VEVENT
BEGIN:VEVENT
DTSTART;TZID=Europe/Paris:20260421T200000
DTEND;TZID=Europe/Paris:20260421T200000
DTSTAMP:20260421T024236
CREATED:20260327T162012Z
LAST-MODIFIED:20260327T162012Z
UID:10006565-1776801600-1776801600@www.ocargofoodcourt.com
SUMMARY:SOIRÉE JEUX
DESCRIPTION:🎲SOIRÉE JEUX🎲 \nVenez vous retrouver entre amis ou en famille autour d’un bon jeu de société ! \nEn partenariat avec « La Tricherie ».🎲 \nProfitez d’une multitude de jeux de société (Time’s Up\, Jungle Speed\, Twister et bien d’autres) et d’une animation Loup Garou. 😋 \nEt pour couronner le tout\, comme chaque mardi profitez de notre mojito à 6€ 🍸
URL:https://www.ocargofoodcourt.com/evenement/soiree-jeux-50/
LOCATION:Avignon\, Avignon\, France
CATEGORIES:Avignon
ATTACH;FMTTYPE=image/png:https://www.ocargofoodcourt.com/wp-content/uploads/2026/03/21.04-MOJITO-JEUX-FB.png
END:VEVENT
BEGIN:VEVENT
DTSTART;TZID=Europe/Paris:20260421T200000
DTEND;TZID=Europe/Paris:20260421T235900
DTSTAMP:20260421T024236
CREATED:20251020T113135Z
LAST-MODIFIED:20251201T151200Z
UID:10004881-1776801600-1776815940@www.ocargofoodcourt.com
SUMMARY:MOJITO PARTY
DESCRIPTION:🍹 SOIRÉE MOJITO 🍹 \nRafraîchissez votre soirée avec un bon Mojito ! 🌿 Ce soir\, rejoignez-nous dès 20h pour une Soirée Mojito à ne pas manquer ! \nPour seulement 6€\, dégustez votre Mojito préféré\, avec plusieurs saveurs au choix pour satisfaire toutes les envies. 🍋🥭 Que vous soyez team classique\, fruité\, ou exotique\, il y en aura pour tous les goûts ! \nVenez avec vos amis\, détendez-vous\, et profitez dans une ambiance parfaite. 🎉 \n🍔FOOD – BAR🍸
URL:https://www.ocargofoodcourt.com/evenement/mojito-party-135/2026-04-21/
LOCATION:La Garde\, ÔCargo Food Court - 477 chemin des plantades\, La Garde\, var\, 83130\, France
CATEGORIES:La Garde
ATTACH;FMTTYPE=image/png:https://www.ocargofoodcourt.com/wp-content/uploads/2025/10/MOJITO-site-web-FB.png
END:VEVENT
BEGIN:VEVENT
DTSTART;TZID=Europe/Paris:20260421T210000
DTEND;TZID=Europe/Paris:20260421T230000
DTSTAMP:20260421T024236
CREATED:20260325T160443Z
LAST-MODIFIED:20260325T160448Z
UID:10006036-1776805200-1776812400@www.ocargofoodcourt.com
SUMMARY:COUPE DE FRANCE DEMI-FINALE - LENS VS TOULOUSE
DESCRIPTION:COUPE DE FRANCE \n\nLENS – TOULOUSE21H\n\nNous diffusons le match sur grand écran intérieur et extérieur pour que vous puissiez suivre chaque action dans une ambiance de folie ! \nVenez encourager votre équipe dans une atmosphère festive et conviviale.\n\nFOOD – BAR
URL:https://www.ocargofoodcourt.com/evenement/coupe-de-france-demi-finale-lens-vs-toulouse/
LOCATION:La Garde\, ÔCargo Food Court - 477 chemin des plantades\, La Garde\, var\, 83130\, France
CATEGORIES:La Garde
ATTACH;FMTTYPE=image/png:https://www.ocargofoodcourt.com/wp-content/uploads/2026/03/COUPE-DE-FRANCE-21-AVRIL-FB.png
END:VEVENT
END:VCALENDAR