BEGIN:VCALENDAR
VERSION:2.0
PRODID:-//Ôcargo Foodcourt - ECPv6.15.20//NONSGML v1.0//EN
CALSCALE:GREGORIAN
METHOD:PUBLISH
X-WR-CALNAME:Ôcargo Foodcourt
X-ORIGINAL-URL:https://www.ocargofoodcourt.com
X-WR-CALDESC:Évènements pour Ôcargo Foodcourt
REFRESH-INTERVAL;VALUE=DURATION:PT1H
X-Robots-Tag:noindex
X-PUBLISHED-TTL:PT1H
BEGIN:VTIMEZONE
TZID:Europe/Paris
BEGIN:DAYLIGHT
TZOFFSETFROM:+0100
TZOFFSETTO:+0200
TZNAME:CEST
DTSTART:20250330T010000
END:DAYLIGHT
BEGIN:STANDARD
TZOFFSETFROM:+0200
TZOFFSETTO:+0100
TZNAME:CET
DTSTART:20251026T010000
END:STANDARD
BEGIN:DAYLIGHT
TZOFFSETFROM:+0100
TZOFFSETTO:+0200
TZNAME:CEST
DTSTART:20260329T010000
END:DAYLIGHT
BEGIN:STANDARD
TZOFFSETFROM:+0200
TZOFFSETTO:+0100
TZNAME:CET
DTSTART:20261025T010000
END:STANDARD
BEGIN:DAYLIGHT
TZOFFSETFROM:+0100
TZOFFSETTO:+0200
TZNAME:CEST
DTSTART:20270328T010000
END:DAYLIGHT
BEGIN:STANDARD
TZOFFSETFROM:+0200
TZOFFSETTO:+0100
TZNAME:CET
DTSTART:20271031T010000
END:STANDARD
END:VTIMEZONE
BEGIN:VEVENT
DTSTART;TZID=Europe/Paris:20260422T113000
DTEND;TZID=Europe/Paris:20260422T163000
DTSTAMP:20260422T030913
CREATED:20260415T163119Z
LAST-MODIFIED:20260415T163119Z
UID:10006600-1776857400-1776875400@www.ocargofoodcourt.com
SUMMARY:BOUM DE PÂQUES
DESCRIPTION:🐰🥚 Le Lapin de Pâques est passé… et il a tout caché chez nous 👀 \nRendez-vous mercredi 22 avril pour une chasse aux œufs géante 🎉👉 Boum de Pâques spéciale famille ! \n🍫 Œufs en chocolat partout🎁 Cadeaux à gagner🎨 Maquillage GRATUIT pour les enfants💃 Musique & ambiance festive toute l’après-midi \n✨ Un moment magique pour petits et grands \n📍 Viens faire la fête avec nous !
URL:https://www.ocargofoodcourt.com/evenement/boum-de-paques-2/
LOCATION:Avignon\, Avignon\, France
CATEGORIES:Avignon
ATTACH;FMTTYPE=image/png:https://www.ocargofoodcourt.com/wp-content/uploads/2026/04/22.04-Boum-de-paques.png
END:VEVENT
BEGIN:VEVENT
DTSTART;TZID=Europe/Paris:20260422T190000
DTEND;TZID=Europe/Paris:20260422T210000
DTSTAMP:20260422T030913
CREATED:20260325T151802Z
LAST-MODIFIED:20260325T151808Z
UID:10006031-1776884400-1776891600@www.ocargofoodcourt.com
SUMMARY:LIGUE 1 - PSG VS NANTES
DESCRIPTION:⚽ LIGUE 1 ⚽ \n💥PSG – NANTES💥🕘19H \nNous diffusons le match sur grand écran intérieur et extérieur pour que vous puissiez suivre chaque action dans une ambiance de folie ! 📺🌟 \nVenez encourager votre équipe dans une atmosphère festive et conviviale. \n🍔FOOD – BAR🍸
URL:https://www.ocargofoodcourt.com/evenement/ligue-1-psg-vs-nantes/
LOCATION:La Garde\, ÔCargo Food Court - 477 chemin des plantades\, La Garde\, var\, 83130\, France
CATEGORIES:La Garde
ATTACH;FMTTYPE=image/png:https://www.ocargofoodcourt.com/wp-content/uploads/2026/03/LIGUE-1-22-AVRIL.png
END:VEVENT
BEGIN:VEVENT
DTSTART;TZID=Europe/Paris:20260422T200000
DTEND;TZID=Europe/Paris:20260422T200000
DTSTAMP:20260422T030913
CREATED:20260316T140257Z
LAST-MODIFIED:20260316T140312Z
UID:10005892-1776888000-1776888000@www.ocargofoodcourt.com
SUMMARY:SBK
DESCRIPTION:C’est le retour de la plus grande soirée Salsa Bachata Kizomba ouverte à tous Cours et soirée offerts Ôcargo Fréjus\, entrée gratuite\nUne ambiance de folie vous attend dans un lieu exceptionnel de +1500m² avec 6 food corners gourmands  et un grand bar pour vous rafraîchir  !\n\nAU PROGRAMME :19H30 – Accueil & chill autour d’un verre ou d’un plat20H15 – Initiation Bachata (pas de bases)21H00 – Cours Bachata débutant évolutif21h30 – Soirée Salsa Bachata Kizomba\n\nCours OFFERTS soirée GRATUITEAmbiance garantie\, sourires obligatoires !
URL:https://www.ocargofoodcourt.com/evenement/sbk-6/
CATEGORIES:Fréjus
ATTACH;FMTTYPE=image/png:https://www.ocargofoodcourt.com/wp-content/uploads/2026/03/Autres-animations-2026-03-16T145816.952.png
END:VEVENT
BEGIN:VEVENT
DTSTART;TZID=Europe/Paris:20260422T200000
DTEND;TZID=Europe/Paris:20260422T200000
DTSTAMP:20260422T030913
CREATED:20260327T144536Z
LAST-MODIFIED:20260327T152501Z
UID:10006043-1776888000-1776888000@www.ocargofoodcourt.com
SUMMARY:SOIRÉE APERO PUNCH
DESCRIPTION:🍹 SOIRÉE APÉRO PUNCH 🍹 \n🍹 Envie de décompresser dans une ambiance chill ? Ce soir\, on vous attend dès 20h pour une Soirée Apéro Punch conviviale ! 🌴✨ \nSavourez un délicieux Punch frais et fruité aux saveurs variées\, parfait pour vous détendre après une longue journée. 🎶
URL:https://www.ocargofoodcourt.com/evenement/soiree-apero-punch-8/2026-04-22/
LOCATION:Avignon\, Avignon\, France
CATEGORIES:Avignon
ATTACH;FMTTYPE=image/png:https://www.ocargofoodcourt.com/wp-content/uploads/2026/03/punch-fb-1.png
END:VEVENT
BEGIN:VEVENT
DTSTART;TZID=Europe/Paris:20260422T200000
DTEND;TZID=Europe/Paris:20260422T200000
DTSTAMP:20260422T030913
CREATED:20260327T162748Z
LAST-MODIFIED:20260327T162748Z
UID:10006566-1776888000-1776888000@www.ocargofoodcourt.com
SUMMARY:SOIRÉE SBK
DESCRIPTION:💃SOIRÉE SBK💃 \nPréparez-vous pour une soirée SBK\, avec Jérémy qui va mettre le feu à la piste🔥 \nSalsa\, bachata\, kizomba… Laissez-vous porter par le rythme et partagez un moment inoubliable ! \nEt comme chaque mercredi\, le punch à 7€ pour accompagner vos pas de danse ! 🍹
URL:https://www.ocargofoodcourt.com/evenement/soiree-sbk-8/
LOCATION:Avignon\, Avignon\, France
CATEGORIES:Avignon
ATTACH;FMTTYPE=image/png:https://www.ocargofoodcourt.com/wp-content/uploads/2026/03/22.04-Punch-sbk-fb.png
END:VEVENT
BEGIN:VEVENT
DTSTART;TZID=Europe/Paris:20260422T200000
DTEND;TZID=Europe/Paris:20260422T235900
DTSTAMP:20260422T030913
CREATED:20251020T113245Z
LAST-MODIFIED:20251201T151239Z
UID:10004937-1776888000-1776902340@www.ocargofoodcourt.com
SUMMARY:APERO PUNCH
DESCRIPTION:🍹 SOIRÉE APÉRO PUNCH 🍹 \nEnvie de décompresser dans une ambiance chill ? Ce soir\, on vous attend dès 20h pour une Soirée Apéro Punch relaxante et conviviale ! 🌴✨ \nSavourez un délicieux Punch aux saveurs variées et plongez dans une ambiance chill et lounge parfaite pour vous détendre après une longue journée. 🎶 \n🍔FOOD – BAR🍸
URL:https://www.ocargofoodcourt.com/evenement/apero-punch-66/2026-04-22/
LOCATION:La Garde\, ÔCargo Food Court - 477 chemin des plantades\, La Garde\, var\, 83130\, France
CATEGORIES:La Garde
ATTACH;FMTTYPE=image/png:https://www.ocargofoodcourt.com/wp-content/uploads/2025/10/Apero-Punch-site-web-FB.png
END:VEVENT
BEGIN:VEVENT
DTSTART;TZID=Europe/Paris:20260422T210000
DTEND;TZID=Europe/Paris:20260422T230000
DTSTAMP:20260422T030913
CREATED:20260325T160245Z
LAST-MODIFIED:20260325T160245Z
UID:10006035-1776891600-1776898800@www.ocargofoodcourt.com
SUMMARY:COUPE DE FRANCE DEMI-FINALE - STRASBOURG VS NICE
DESCRIPTION:⚽ COUPE DE FRANCE ⚽ \n💥STRASBOURG – NICE💥🕘21H \nNous diffusons le match sur grand écran intérieur et extérieur pour que vous puissiez suivre chaque action dans une ambiance de folie ! 📺🌟 \nVenez encourager votre équipe dans une atmosphère festive et conviviale.  \n🍔FOOD – BAR🍸
URL:https://www.ocargofoodcourt.com/evenement/coupe-de-france-demi-finale-strasbourg-vs-nice/
LOCATION:La Garde\, ÔCargo Food Court - 477 chemin des plantades\, La Garde\, var\, 83130\, France
CATEGORIES:La Garde
ATTACH;FMTTYPE=image/png:https://www.ocargofoodcourt.com/wp-content/uploads/2026/03/COUPE-DE-FRANCE-22-AVRIL-FB.png
END:VEVENT
END:VCALENDAR