BEGIN:VCALENDAR
VERSION:2.0
PRODID:-//Ôcargo Foodcourt - ECPv6.15.20//NONSGML v1.0//EN
CALSCALE:GREGORIAN
METHOD:PUBLISH
X-ORIGINAL-URL:https://www.ocargofoodcourt.com
X-WR-CALDESC:Évènements pour Ôcargo Foodcourt
REFRESH-INTERVAL;VALUE=DURATION:PT1H
X-Robots-Tag:noindex
X-PUBLISHED-TTL:PT1H
BEGIN:VTIMEZONE
TZID:Europe/Paris
BEGIN:DAYLIGHT
TZOFFSETFROM:+0100
TZOFFSETTO:+0200
TZNAME:CEST
DTSTART:20250330T010000
END:DAYLIGHT
BEGIN:STANDARD
TZOFFSETFROM:+0200
TZOFFSETTO:+0100
TZNAME:CET
DTSTART:20251026T010000
END:STANDARD
BEGIN:DAYLIGHT
TZOFFSETFROM:+0100
TZOFFSETTO:+0200
TZNAME:CEST
DTSTART:20260329T010000
END:DAYLIGHT
BEGIN:STANDARD
TZOFFSETFROM:+0200
TZOFFSETTO:+0100
TZNAME:CET
DTSTART:20261025T010000
END:STANDARD
BEGIN:DAYLIGHT
TZOFFSETFROM:+0100
TZOFFSETTO:+0200
TZNAME:CEST
DTSTART:20270328T010000
END:DAYLIGHT
BEGIN:STANDARD
TZOFFSETFROM:+0200
TZOFFSETTO:+0100
TZNAME:CET
DTSTART:20271031T010000
END:STANDARD
END:VTIMEZONE
BEGIN:VEVENT
DTSTART;TZID=Europe/Paris:20260424T200000
DTEND;TZID=Europe/Paris:20260424T235900
DTSTAMP:20260423T193917
CREATED:20260423T155724Z
LAST-MODIFIED:20260423T155724Z
UID:10006638-1777060800-1777075140@www.ocargofoodcourt.com
SUMMARY:🎸 SOIRÉE CONCERT LIVE & DJ 🎧
DESCRIPTION:Préparez-vous pour une soirée inoubliable ! \nCe soir\, rejoignez nous dès 20h pour un Concert Live avec le groupe Pat Garett & Co \, un groupe énergique qui va enflammer la scène ! 🎶🔥 \nEnsuite\, à partir de 22h30 et jusqu’à 1h\, laissez-vous emporter par les beats dynamiques de DJ Steven pour une DJ Party mémorable ! 💃🕺 \nRassemblez vos amis et vivez une soirée pleine de musique\, de danse et de bonne humeur ! 🎉 \n🎵 🍔FOOD – BAR🍸 \n👕Tenue correcte exigée👕
URL:https://www.ocargofoodcourt.com/evenement/%f0%9f%8e%b8-soiree-concert-live-dj-%f0%9f%8e%a7-6/
LOCATION:Aix en Provence\, 610 Rue Georges Claude ZI\, Aix-en-Provence\, 13290\, France
CATEGORIES:Aix en Provence
ATTACH;FMTTYPE=image/png:https://www.ocargofoodcourt.com/wp-content/uploads/2026/04/STEVEN-24-Avril-FB.png
END:VEVENT
BEGIN:VEVENT
DTSTART;TZID=Europe/Paris:20260425T200000
DTEND;TZID=Europe/Paris:20260425T235900
DTSTAMP:20260423T193917
CREATED:20260423T155955Z
LAST-MODIFIED:20260423T155955Z
UID:10006639-1777147200-1777161540@www.ocargofoodcourt.com
SUMMARY:🎸 SOIRÉE CONCERT LIVE & DJ 🎧
DESCRIPTION:Préparez-vous pour une soirée inoubliable ! \nCe soir\, rejoignez nous dès 20h pour un Concert Live avec le groupe Hit’Story un groupe pop-rock énergique qui va enflammer la scène ! 🎶🔥 \nEnsuite\, à partir de 22h30 et jusqu’à 1h\, laissez-vous emporter par les beats dynamiques de DJ Nillow  pour une DJ Party mémorable ! 💃🕺 \nRassemblez vos amis et vivez une soirée pleine de musique\, de danse et de bonne humeur ! 🎉 \n🎵 🍔FOOD – BAR🍸 \n👕Tenue correcte exigée👕
URL:https://www.ocargofoodcourt.com/evenement/%f0%9f%8e%b8-soiree-concert-live-dj-%f0%9f%8e%a7-7/
LOCATION:Aix en Provence\, 610 Rue Georges Claude ZI\, Aix-en-Provence\, 13290\, France
CATEGORIES:Aix en Provence
ATTACH;FMTTYPE=image/png:https://www.ocargofoodcourt.com/wp-content/uploads/2026/04/HITS-STORY-25-Avril-FB.png
END:VEVENT
BEGIN:VEVENT
DTSTART;TZID=Europe/Paris:20260427T200000
DTEND;TZID=Europe/Paris:20260427T235900
DTSTAMP:20260423T193917
CREATED:20260423T160138Z
LAST-MODIFIED:20260423T160138Z
UID:10006640-1777320000-1777334340@www.ocargofoodcourt.com
SUMMARY:🎤 SOIRÉE KARAOKÉ 🎤
DESCRIPTION:Envie de briller sous les projecteurs ? 🌟 Rendez-vous ce soir dès 20h pour une soirée Karaoké pleine d’ambiance et de bonne humeur ! \nPrenez le micro\, choisissez vos titres préférés et laissez parler la star qui est en vous ! 🎶 \nQue vous veniez pour performer ou simplement pour passer un bon moment entre amis\, tout est réuni pour une soirée inoubliable ! \nEt comme chaque lundi\, profitez de la bière Cargo à seulement 2€ ! 🍻 \n🍔FOOD – BAR🍸
URL:https://www.ocargofoodcourt.com/evenement/%f0%9f%8e%a4-soiree-karaoke-%f0%9f%8e%a4-3/
LOCATION:Aix en Provence\, 610 Rue Georges Claude ZI\, Aix-en-Provence\, 13290\, France
CATEGORIES:Aix en Provence
ATTACH;FMTTYPE=image/png:https://www.ocargofoodcourt.com/wp-content/uploads/2026/04/Karaoke-27-Avril-fb.png
END:VEVENT
BEGIN:VEVENT
DTSTART;TZID=Europe/Paris:20260428T210000
DTEND;TZID=Europe/Paris:20260428T235900
DTSTAMP:20260423T193917
CREATED:20260423T160444Z
LAST-MODIFIED:20260423T160444Z
UID:10006641-1777410000-1777420740@www.ocargofoodcourt.com
SUMMARY:⚽Ligue des champions ⚽
DESCRIPTION:Ce soir\, ne manquez pas le choc de la Ligue des Champions ! 🎉 \n💥PSG – BAYERN 💥 \nNous diffusons le match sur grand écran intérieur et extérieur pour que vous puissiez suivre chaque action dans une ambiance de folie ! 📺 \nVenez encourager votre équipe dans une atmosphère festive et conviviale.
URL:https://www.ocargofoodcourt.com/evenement/%e2%9a%bdligue-des-champions-%e2%9a%bd/
LOCATION:Aix en Provence\, 610 Rue Georges Claude ZI\, Aix-en-Provence\, 13290\, France
CATEGORIES:Aix en Provence
ATTACH;FMTTYPE=image/png:https://www.ocargofoodcourt.com/wp-content/uploads/2026/04/LDC-28_04.png
END:VEVENT
BEGIN:VEVENT
DTSTART;TZID=Europe/Paris:20260429T210000
DTEND;TZID=Europe/Paris:20260429T235900
DTSTAMP:20260423T193917
CREATED:20260423T160625Z
LAST-MODIFIED:20260423T160625Z
UID:10006642-1777496400-1777507140@www.ocargofoodcourt.com
SUMMARY:⚽ LIGUE DES CHAMPIONS ⚽
DESCRIPTION:Ce soir\, ne manquez pas le choc de la Ligue des Champions ! 🎉 \n💥ATLETICO MADRID – ARSENAL 💥 \nNous diffusons le match sur grand écran intérieur et extérieur pour que vous puissiez suivre chaque action dans une ambiance de folie ! 📺 \nVenez encourager votre équipe dans une atmosphère festive et conviviale.
URL:https://www.ocargofoodcourt.com/evenement/%e2%9a%bd-ligue-des-champions-%e2%9a%bd-2/
LOCATION:Aix en Provence\, 610 Rue Georges Claude ZI\, Aix-en-Provence\, 13290\, France
CATEGORIES:Aix en Provence
ATTACH;FMTTYPE=image/png:https://www.ocargofoodcourt.com/wp-content/uploads/2026/04/LDC-29_04.png
END:VEVENT
BEGIN:VEVENT
DTSTART;TZID=Europe/Paris:20260430T200000
DTEND;TZID=Europe/Paris:20260430T235900
DTSTAMP:20260423T193917
CREATED:20260423T161023Z
LAST-MODIFIED:20260423T161023Z
UID:10006643-1777579200-1777593540@www.ocargofoodcourt.com
SUMMARY:Soirée Urbaine 😎
DESCRIPTION:Préparez-vous pour une soirée 100% urbaine ! 🔥 Ce soir\, rendez-vous dès 20h pour une ambiance Hip-Hop comme on les aime ! 🎶 \nAu programme\, un show live qui va faire vibrer la scène avec les meilleurs sons rap\, R&B et vibes urbaines du moment ! 🎤✨ \nRassemblez vos amis et venez kiffer une soirée pleine de rythme\, de style et de bonne énergie ! 🎉🔥 \n🍔FOOD – BAR🍸 \n👕Tenue correcte exigée👕
URL:https://www.ocargofoodcourt.com/evenement/soiree-urbaine-%f0%9f%98%8e/
LOCATION:Aix en Provence\, 610 Rue Georges Claude ZI\, Aix-en-Provence\, 13290\, France
CATEGORIES:Aix en Provence
ATTACH;FMTTYPE=image/png:https://www.ocargofoodcourt.com/wp-content/uploads/2026/04/Soiree-urbaine-scaled.png
END:VEVENT
END:VCALENDAR