BEGIN:VCALENDAR
VERSION:2.0
PRODID:-//Ôcargo Foodcourt - ECPv6.15.20//NONSGML v1.0//EN
CALSCALE:GREGORIAN
METHOD:PUBLISH
X-ORIGINAL-URL:https://www.ocargofoodcourt.com
X-WR-CALDESC:Évènements pour Ôcargo Foodcourt
REFRESH-INTERVAL;VALUE=DURATION:PT1H
X-Robots-Tag:noindex
X-PUBLISHED-TTL:PT1H
BEGIN:VTIMEZONE
TZID:Europe/Paris
BEGIN:DAYLIGHT
TZOFFSETFROM:+0100
TZOFFSETTO:+0200
TZNAME:CEST
DTSTART:20230326T010000
END:DAYLIGHT
BEGIN:STANDARD
TZOFFSETFROM:+0200
TZOFFSETTO:+0100
TZNAME:CET
DTSTART:20231029T010000
END:STANDARD
BEGIN:DAYLIGHT
TZOFFSETFROM:+0100
TZOFFSETTO:+0200
TZNAME:CEST
DTSTART:20240331T010000
END:DAYLIGHT
BEGIN:STANDARD
TZOFFSETFROM:+0200
TZOFFSETTO:+0100
TZNAME:CET
DTSTART:20241027T010000
END:STANDARD
BEGIN:DAYLIGHT
TZOFFSETFROM:+0100
TZOFFSETTO:+0200
TZNAME:CEST
DTSTART:20250330T010000
END:DAYLIGHT
BEGIN:STANDARD
TZOFFSETFROM:+0200
TZOFFSETTO:+0100
TZNAME:CET
DTSTART:20251026T010000
END:STANDARD
END:VTIMEZONE
BEGIN:VEVENT
DTSTART;TZID=Europe/Paris:20240108T200000
DTEND;TZID=Europe/Paris:20240109T000000
DTSTAMP:20260422T104552
CREATED:20231220T094205Z
LAST-MODIFIED:20231220T094205Z
UID:10003226-1704744000-1704758400@www.ocargofoodcourt.com
SUMMARY:SOIRÉE KARAOKÉ
DESCRIPTION:
URL:https://www.ocargofoodcourt.com/evenement/soiree-karaoke-47/
LOCATION:ôcargo foodcourt La garde\, 477 chemin des plantades\, La garde\, 83130\, France
CATEGORIES:La Garde
ATTACH;FMTTYPE=image/png:https://www.ocargofoodcourt.com/wp-content/uploads/2023/12/KARAOKE-8-janvier-FB.png
END:VEVENT
BEGIN:VEVENT
DTSTART;TZID=Europe/Paris:20240109T200000
DTEND;TZID=Europe/Paris:20240110T000000
DTSTAMP:20260422T104552
CREATED:20231220T094629Z
LAST-MODIFIED:20231220T094629Z
UID:10003228-1704830400-1704844800@www.ocargofoodcourt.com
SUMMARY:MOJITO PARTY
DESCRIPTION:
URL:https://www.ocargofoodcourt.com/evenement/mojito-party-56/
LOCATION:ôcargo foodcourt La garde\, 477 chemin des plantades\, La garde\, 83130\, France
CATEGORIES:La Garde
ATTACH;FMTTYPE=image/png:https://www.ocargofoodcourt.com/wp-content/uploads/2023/12/MOJITO-9-janv-FB.png
END:VEVENT
BEGIN:VEVENT
DTSTART;TZID=Europe/Paris:20240110T200000
DTEND;TZID=Europe/Paris:20240111T000000
DTSTAMP:20260422T104552
CREATED:20231220T095019Z
LAST-MODIFIED:20231220T095019Z
UID:10003230-1704916800-1704931200@www.ocargofoodcourt.com
SUMMARY:SOIRÉE JEUX
DESCRIPTION:
URL:https://www.ocargofoodcourt.com/evenement/soiree-jeux-18/
LOCATION:ôcargo foodcourt La garde\, 477 chemin des plantades\, La garde\, 83130\, France
CATEGORIES:La Garde
ATTACH;FMTTYPE=image/png:https://www.ocargofoodcourt.com/wp-content/uploads/2023/12/Soiree-jeux-11-oct-FB-.png
END:VEVENT
BEGIN:VEVENT
DTSTART;TZID=Europe/Paris:20240111T200000
DTEND;TZID=Europe/Paris:20240112T000000
DTSTAMP:20260422T104552
CREATED:20231220T095555Z
LAST-MODIFIED:20231220T095555Z
UID:10003231-1705003200-1705017600@www.ocargofoodcourt.com
SUMMARY:DJ PARTY - DJ DEZZE
DESCRIPTION:
URL:https://www.ocargofoodcourt.com/evenement/dj-party-dj-dezze/
LOCATION:ôcargo foodcourt La garde\, 477 chemin des plantades\, La garde\, 83130\, France
CATEGORIES:La Garde
ATTACH;FMTTYPE=image/png:https://www.ocargofoodcourt.com/wp-content/uploads/2023/12/DJ-11-janv-FB.png
END:VEVENT
BEGIN:VEVENT
DTSTART;TZID=Europe/Paris:20240112T200000
DTEND;TZID=Europe/Paris:20240113T010000
DTSTAMP:20260422T104552
CREATED:20231220T100956Z
LAST-MODIFIED:20231220T100956Z
UID:10003232-1705089600-1705107600@www.ocargofoodcourt.com
SUMMARY:CONCERT SOUL AZUR & DJ
DESCRIPTION:
URL:https://www.ocargofoodcourt.com/evenement/concert-soul-azur-dj-6/
LOCATION:ôcargo foodcourt La garde\, 477 chemin des plantades\, La garde\, 83130\, France
CATEGORIES:La Garde
ATTACH;FMTTYPE=image/png:https://www.ocargofoodcourt.com/wp-content/uploads/2023/12/CONCERT-12-JANV-FB.png
END:VEVENT
BEGIN:VEVENT
DTSTART;TZID=Europe/Paris:20240113T160000
DTEND;TZID=Europe/Paris:20240113T180000
DTSTAMP:20260422T104552
CREATED:20231220T101720Z
LAST-MODIFIED:20231220T101720Z
UID:10003233-1705161600-1705168800@www.ocargofoodcourt.com
SUMMARY:CHAMPIONS CUP - TOULON - MUNSTER
DESCRIPTION:
URL:https://www.ocargofoodcourt.com/evenement/champions-cup-toulon-munster/
LOCATION:ôcargo foodcourt La garde\, 477 chemin des plantades\, La garde\, 83130\, France
CATEGORIES:La Garde
ATTACH;FMTTYPE=image/png:https://www.ocargofoodcourt.com/wp-content/uploads/2023/12/H-Cup-13-janv-FB.png
END:VEVENT
BEGIN:VEVENT
DTSTART;TZID=Europe/Paris:20240113T200000
DTEND;TZID=Europe/Paris:20240114T010000
DTSTAMP:20260422T104552
CREATED:20231220T102341Z
LAST-MODIFIED:20231220T102341Z
UID:10003234-1705176000-1705194000@www.ocargofoodcourt.com
SUMMARY:CONCERT SUE ELLEN & DJ
DESCRIPTION:
URL:https://www.ocargofoodcourt.com/evenement/concert-sue-ellen-dj-2/
LOCATION:ôcargo foodcourt La garde\, 477 chemin des plantades\, La garde\, 83130\, France
CATEGORIES:La Garde
ATTACH;FMTTYPE=image/png:https://www.ocargofoodcourt.com/wp-content/uploads/2023/12/CONCERT-13-JANV-FB.png
END:VEVENT
BEGIN:VEVENT
DTSTART;TZID=Europe/Paris:20240115T200000
DTEND;TZID=Europe/Paris:20240116T000000
DTSTAMP:20260422T104552
CREATED:20231220T102627Z
LAST-MODIFIED:20231220T102627Z
UID:10003235-1705348800-1705363200@www.ocargofoodcourt.com
SUMMARY:SOIRÉE KARAOKÉ
DESCRIPTION:
URL:https://www.ocargofoodcourt.com/evenement/soiree-karaoke-48/
LOCATION:ôcargo foodcourt La garde\, 477 chemin des plantades\, La garde\, 83130\, France
CATEGORIES:La Garde
ATTACH;FMTTYPE=image/png:https://www.ocargofoodcourt.com/wp-content/uploads/2023/12/KARAOKE-15-Janvier-FB.png
END:VEVENT
BEGIN:VEVENT
DTSTART;TZID=Europe/Paris:20240116T200000
DTEND;TZID=Europe/Paris:20240117T000000
DTSTAMP:20260422T104552
CREATED:20231220T103144Z
LAST-MODIFIED:20231220T103144Z
UID:10003236-1705435200-1705449600@www.ocargofoodcourt.com
SUMMARY:MOJITO PARTY
DESCRIPTION:
URL:https://www.ocargofoodcourt.com/evenement/mojito-party-57/
LOCATION:ôcargo foodcourt La garde\, 477 chemin des plantades\, La garde\, 83130\, France
CATEGORIES:La Garde
ATTACH;FMTTYPE=image/png:https://www.ocargofoodcourt.com/wp-content/uploads/2023/12/MOJITO-16-janv-FB.png
END:VEVENT
BEGIN:VEVENT
DTSTART;TZID=Europe/Paris:20240117T200000
DTEND;TZID=Europe/Paris:20240118T000000
DTSTAMP:20260422T104552
CREATED:20231220T104135Z
LAST-MODIFIED:20231220T104135Z
UID:10002919-1705521600-1705536000@www.ocargofoodcourt.com
SUMMARY:SOIRÉE BLIND TEST - HARRY POTTER (PART.2)
DESCRIPTION:
URL:https://www.ocargofoodcourt.com/evenement/soiree-blind-test-harry-potter-part-2/
LOCATION:ôcargo foodcourt La garde\, 477 chemin des plantades\, La garde\, 83130\, France
CATEGORIES:La Garde
ATTACH;FMTTYPE=image/png:https://www.ocargofoodcourt.com/wp-content/uploads/2023/12/Blind-test-Harry-Potter-2.png
END:VEVENT
BEGIN:VEVENT
DTSTART;TZID=Europe/Paris:20240118T200000
DTEND;TZID=Europe/Paris:20240119T000000
DTSTAMP:20260422T104552
CREATED:20231220T104738Z
LAST-MODIFIED:20231220T104738Z
UID:10002921-1705608000-1705622400@www.ocargofoodcourt.com
SUMMARY:DJ PARTY - DJ ALBAN DWZ
DESCRIPTION:
URL:https://www.ocargofoodcourt.com/evenement/dj-party-dj-alban-dwz-8/
LOCATION:ôcargo foodcourt La garde\, 477 chemin des plantades\, La garde\, 83130\, France
CATEGORIES:La Garde
ATTACH;FMTTYPE=image/png:https://www.ocargofoodcourt.com/wp-content/uploads/2023/12/DJ-18-Janv-FB.png
END:VEVENT
BEGIN:VEVENT
DTSTART;TZID=Europe/Paris:20240119T200000
DTEND;TZID=Europe/Paris:20240120T010000
DTSTAMP:20260422T104552
CREATED:20231220T110350Z
LAST-MODIFIED:20240116T103628Z
UID:10002925-1705694400-1705712400@www.ocargofoodcourt.com
SUMMARY:Dj Party - Amapiano / Afro / Shatta
DESCRIPTION:
URL:https://www.ocargofoodcourt.com/evenement/concert-smiley-dj/
LOCATION:ôcargo foodcourt La garde\, 477 chemin des plantades\, La garde\, 83130\, France
CATEGORIES:La Garde
ATTACH;FMTTYPE=image/png:https://www.ocargofoodcourt.com/wp-content/uploads/2023/12/Amapiano-19-Janvier-FB.png
END:VEVENT
BEGIN:VEVENT
DTSTART;TZID=Europe/Paris:20240119T210000
DTEND;TZID=Europe/Paris:20240120T230000
DTSTAMP:20260422T104552
CREATED:20231220T105743Z
LAST-MODIFIED:20231220T105803Z
UID:10002923-1705698000-1705791600@www.ocargofoodcourt.com
SUMMARY:CHAMPIONS CUP - GLASGOW - TOULON
DESCRIPTION:
URL:https://www.ocargofoodcourt.com/evenement/champions-cup-glasgow-toulon/
LOCATION:ôcargo foodcourt La garde\, 477 chemin des plantades\, La garde\, 83130\, France
CATEGORIES:La Garde
ATTACH;FMTTYPE=image/png:https://www.ocargofoodcourt.com/wp-content/uploads/2023/12/H-Cup-19-janv-FB.png
END:VEVENT
BEGIN:VEVENT
DTSTART;TZID=Europe/Paris:20240120T200000
DTEND;TZID=Europe/Paris:20240121T010000
DTSTAMP:20260422T104552
CREATED:20231220T111311Z
LAST-MODIFIED:20231220T111311Z
UID:10002927-1705780800-1705798800@www.ocargofoodcourt.com
SUMMARY:SOIRÉE VIN
DESCRIPTION:
URL:https://www.ocargofoodcourt.com/evenement/soiree-vin-8/
LOCATION:ôcargo foodcourt La garde\, 477 chemin des plantades\, La garde\, 83130\, France
CATEGORIES:La Garde
ATTACH;FMTTYPE=image/png:https://www.ocargofoodcourt.com/wp-content/uploads/2023/12/Fly-vin-juillet-dj-ozen.png
END:VEVENT
BEGIN:VEVENT
DTSTART;TZID=Europe/Paris:20240120T200000
DTEND;TZID=Europe/Paris:20240121T010000
DTSTAMP:20260422T104552
CREATED:20231220T111651Z
LAST-MODIFIED:20231220T111651Z
UID:10002929-1705780800-1705798800@www.ocargofoodcourt.com
SUMMARY:CONCERT PUZZLE 31 & DJ
DESCRIPTION:
URL:https://www.ocargofoodcourt.com/evenement/concert-puzzle-31-dj-5/
LOCATION:ôcargo foodcourt La garde\, 477 chemin des plantades\, La garde\, 83130\, France
CATEGORIES:La Garde
ATTACH;FMTTYPE=image/png:https://www.ocargofoodcourt.com/wp-content/uploads/2023/12/CONCERT-20-JANV-FB.png
END:VEVENT
BEGIN:VEVENT
DTSTART;TZID=Europe/Paris:20240122T200000
DTEND;TZID=Europe/Paris:20240123T000000
DTSTAMP:20260422T104552
CREATED:20231220T114619Z
LAST-MODIFIED:20231220T114619Z
UID:10002930-1705953600-1705968000@www.ocargofoodcourt.com
SUMMARY:SOIRÉE KARAOKÉ
DESCRIPTION:
URL:https://www.ocargofoodcourt.com/evenement/soiree-karaoke-49/
LOCATION:ôcargo foodcourt La garde\, 477 chemin des plantades\, La garde\, 83130\, France
CATEGORIES:La Garde
ATTACH;FMTTYPE=image/png:https://www.ocargofoodcourt.com/wp-content/uploads/2023/12/KARAOKE-22-janvier-FB.png
END:VEVENT
BEGIN:VEVENT
DTSTART;TZID=Europe/Paris:20240123T200000
DTEND;TZID=Europe/Paris:20240124T000000
DTSTAMP:20260422T104552
CREATED:20231220T114855Z
LAST-MODIFIED:20231220T114855Z
UID:10002931-1706040000-1706054400@www.ocargofoodcourt.com
SUMMARY:MOJITO PARTY
DESCRIPTION:
URL:https://www.ocargofoodcourt.com/evenement/mojito-party-58/
LOCATION:ôcargo foodcourt La garde\, 477 chemin des plantades\, La garde\, 83130\, France
CATEGORIES:La Garde
ATTACH;FMTTYPE=image/png:https://www.ocargofoodcourt.com/wp-content/uploads/2023/12/MOJITO-23-janv-FB.png
END:VEVENT
BEGIN:VEVENT
DTSTART;TZID=Europe/Paris:20240124T200000
DTEND;TZID=Europe/Paris:20240125T010000
DTSTAMP:20260422T104552
CREATED:20231220T115455Z
LAST-MODIFIED:20231220T115455Z
UID:10002932-1706126400-1706144400@www.ocargofoodcourt.com
SUMMARY:APÉRO PUNCH
DESCRIPTION:
URL:https://www.ocargofoodcourt.com/evenement/apero-punch/
LOCATION:ôcargo foodcourt La garde\, 477 chemin des plantades\, La garde\, 83130\, France
ATTACH;FMTTYPE=image/png:https://www.ocargofoodcourt.com/wp-content/uploads/2023/12/Apero-punch-du-cargo-FB-1.png
END:VEVENT
BEGIN:VEVENT
DTSTART;TZID=Europe/Paris:20240125T200000
DTEND;TZID=Europe/Paris:20240126T000000
DTSTAMP:20260422T104552
CREATED:20231220T120127Z
LAST-MODIFIED:20240124T093204Z
UID:10002933-1706212800-1706227200@www.ocargofoodcourt.com
SUMMARY:FULL MOON PARTY
DESCRIPTION:
URL:https://www.ocargofoodcourt.com/evenement/full-moon-party-2/
LOCATION:ôcargo foodcourt La garde\, 477 chemin des plantades\, La garde\, 83130\, France
CATEGORIES:La Garde
ATTACH;FMTTYPE=image/png:https://www.ocargofoodcourt.com/wp-content/uploads/2023/12/Full-Moon-25-Janvier-FB-1.png
END:VEVENT
BEGIN:VEVENT
DTSTART;TZID=Europe/Paris:20240126T200000
DTEND;TZID=Europe/Paris:20240127T010000
DTSTAMP:20260422T104552
CREATED:20231220T120416Z
LAST-MODIFIED:20231220T120416Z
UID:10003237-1706299200-1706317200@www.ocargofoodcourt.com
SUMMARY:CONCERT SOUL AZUR & DJ
DESCRIPTION:
URL:https://www.ocargofoodcourt.com/evenement/concert-soul-azur-dj-7/
LOCATION:ôcargo foodcourt La garde\, 477 chemin des plantades\, La garde\, 83130\, France
CATEGORIES:La Garde
ATTACH;FMTTYPE=image/png:https://www.ocargofoodcourt.com/wp-content/uploads/2023/12/CONCERT-26-JANV.png
END:VEVENT
BEGIN:VEVENT
DTSTART;TZID=Europe/Paris:20240127T200000
DTEND;TZID=Europe/Paris:20240128T030000
DTSTAMP:20260422T104552
CREATED:20231220T121745Z
LAST-MODIFIED:20240109T144740Z
UID:10003238-1706385600-1706410800@www.ocargofoodcourt.com
SUMMARY:SHOWCASE TRAGÉDIE
DESCRIPTION:
URL:https://www.ocargofoodcourt.com/evenement/showcase-tragedie/
LOCATION:ôcargo foodcourt La garde\, 477 chemin des plantades\, La garde\, 83130\, France
CATEGORIES:La Garde
ATTACH;FMTTYPE=image/png:https://www.ocargofoodcourt.com/wp-content/uploads/2023/12/Tragedie-27-Janvier-1.png
END:VEVENT
BEGIN:VEVENT
DTSTART;TZID=Europe/Paris:20240129T200000
DTEND;TZID=Europe/Paris:20240130T000000
DTSTAMP:20260422T104552
CREATED:20231220T122138Z
LAST-MODIFIED:20231220T122138Z
UID:10003239-1706558400-1706572800@www.ocargofoodcourt.com
SUMMARY:SOIRÉE KARAOKÉ
DESCRIPTION:
URL:https://www.ocargofoodcourt.com/evenement/soiree-karaoke-50/
LOCATION:ôcargo foodcourt La garde\, 477 chemin des plantades\, La garde\, 83130\, France
ATTACH;FMTTYPE=image/png:https://www.ocargofoodcourt.com/wp-content/uploads/2023/12/KARAOKE-29-janvier-FB.png
END:VEVENT
BEGIN:VEVENT
DTSTART;TZID=Europe/Paris:20240131T200000
DTEND;TZID=Europe/Paris:20240201T000000
DTSTAMP:20260422T104552
CREATED:20231220T143336Z
LAST-MODIFIED:20231220T143336Z
UID:10003250-1706731200-1706745600@www.ocargofoodcourt.com
SUMMARY:SOIRÉE BLIND TEST - STAR WARS
DESCRIPTION:
URL:https://www.ocargofoodcourt.com/evenement/soiree-blind-test-star-wars/
LOCATION:ôcargo foodcourt La garde\, 477 chemin des plantades\, La garde\, 83130\, France
CATEGORIES:La Garde
ATTACH;FMTTYPE=image/png:https://www.ocargofoodcourt.com/wp-content/uploads/2023/12/Blind-Test-Star-Wars-.png
END:VEVENT
END:VCALENDAR