BEGIN:VCALENDAR
VERSION:2.0
PRODID:-//Ôcargo Foodcourt - ECPv6.15.20//NONSGML v1.0//EN
CALSCALE:GREGORIAN
METHOD:PUBLISH
X-WR-CALNAME:Ôcargo Foodcourt
X-ORIGINAL-URL:https://www.ocargofoodcourt.com
X-WR-CALDESC:Évènements pour Ôcargo Foodcourt
REFRESH-INTERVAL;VALUE=DURATION:PT1H
X-Robots-Tag:noindex
X-PUBLISHED-TTL:PT1H
BEGIN:VTIMEZONE
TZID:Europe/Paris
BEGIN:DAYLIGHT
TZOFFSETFROM:+0100
TZOFFSETTO:+0200
TZNAME:CEST
DTSTART:20250330T010000
END:DAYLIGHT
BEGIN:STANDARD
TZOFFSETFROM:+0200
TZOFFSETTO:+0100
TZNAME:CET
DTSTART:20251026T010000
END:STANDARD
BEGIN:DAYLIGHT
TZOFFSETFROM:+0100
TZOFFSETTO:+0200
TZNAME:CEST
DTSTART:20260329T010000
END:DAYLIGHT
BEGIN:STANDARD
TZOFFSETFROM:+0200
TZOFFSETTO:+0100
TZNAME:CET
DTSTART:20261025T010000
END:STANDARD
BEGIN:DAYLIGHT
TZOFFSETFROM:+0100
TZOFFSETTO:+0200
TZNAME:CEST
DTSTART:20270328T010000
END:DAYLIGHT
BEGIN:STANDARD
TZOFFSETFROM:+0200
TZOFFSETTO:+0100
TZNAME:CET
DTSTART:20271031T010000
END:STANDARD
END:VTIMEZONE
BEGIN:VEVENT
DTSTART;TZID=Europe/Paris:20261005T200000
DTEND;TZID=Europe/Paris:20261005T200000
DTSTAMP:20260419T174523
CREATED:20251219T101328Z
LAST-MODIFIED:20251219T102108Z
UID:10005209-1791230400-1791230400@www.ocargofoodcourt.com
SUMMARY:KARAOKE
DESCRIPTION:KARAOKÉ TOUS LES LUNDIS chez ÔCargo Fréjus\nTous les lundis\, venez chanter et passer une soirée inoubliable lors de notre soirée karaoké ! \nQue vous soyez une star du micro ou juste là pour vous amuser\, notre scène est ouverte à tous !Venez partager vos talents\, découvrir de nouveaux artistes\, et profiter d’une ambiance conviviale autour des délicieux plats de nos 6 food corner.\nNe manquez pas le rendez-vous incontournable de la semaine pour un moment de détente et de divertissement !\n Entrée libre – Venez nombreux avec vos amis et votre bonne humeur ! 
URL:https://www.ocargofoodcourt.com/evenement/karaoke-5/2026-10-05/
CATEGORIES:Fréjus
ATTACH;FMTTYPE=image/png:https://www.ocargofoodcourt.com/wp-content/uploads/2025/12/Autres-animations-39.png
END:VEVENT
BEGIN:VEVENT
DTSTART;TZID=Europe/Paris:20261005T200000
DTEND;TZID=Europe/Paris:20261005T200000
DTSTAMP:20260419T174523
CREATED:20251220T123805Z
LAST-MODIFIED:20251220T123948Z
UID:10005452-1791230400-1791230400@www.ocargofoodcourt.com
SUMMARY:SOIRÉE KARAOKÉ
DESCRIPTION: SOIRÉE KARAOKÉ  \nPrêts à devenir la star de la soirée ? Ce soir\, rendez-vous à 20h pour une soirée Karaoké mémorable !Choisissez vos musiques préférées\, montez sur scène et laissez-vous emporter par l’ambiance ! Que vous soyez chanteur dans l’âme ou juste là pour vous amuser\, cette soirée est faite pour vous ! Et pour couronner le tout\, chaque lundi\, la bière est à 2€ !
URL:https://www.ocargofoodcourt.com/evenement/soiree-karaoke-162/2026-10-05/
LOCATION:Avignon\, Avignon\, France
CATEGORIES:Avignon
ATTACH;FMTTYPE=image/png:https://www.ocargofoodcourt.com/wp-content/uploads/2025/12/Karaoke-fb.png
END:VEVENT
BEGIN:VEVENT
DTSTART;TZID=Europe/Paris:20261005T200000
DTEND;TZID=Europe/Paris:20261005T235900
DTSTAMP:20260419T174523
CREATED:20251020T112951Z
LAST-MODIFIED:20251201T151126Z
UID:10004849-1791230400-1791244740@www.ocargofoodcourt.com
SUMMARY:SOIRÉE KARAOKÉ
DESCRIPTION:🎤 SOIRÉE KARAOKÉ 🎤 \nPrêts à devenir la star de la soirée ? 🌟 Ce soir on vous donne rendez-vous à 20h pour une soirée Karaoké mémorable ! \nChoisissez vos musiques préférées\, montez sur scène\, et laissez-vous emporter par l’ambiance ! 🎶  \nQue vous soyez chanteur dans l’âme ou juste là pour vous amuser\, cette soirée est faite pour vous ! \nEt pour couronner le tout\, chaque lundi\, profitez de la bière Cargo à 2€ ! 🍻 \n🍔FOOD – BAR🍸
URL:https://www.ocargofoodcourt.com/evenement/soiree-karaoke-157/2026-10-05/
LOCATION:La Garde\, ÔCargo Food Court - 477 chemin des plantades\, La Garde\, var\, 83130\, France
CATEGORIES:La Garde
ATTACH;FMTTYPE=image/png:https://www.ocargofoodcourt.com/wp-content/uploads/2025/10/Karaoke-site-web.png
END:VEVENT
BEGIN:VEVENT
DTSTART;TZID=Europe/Paris:20261006T200000
DTEND;TZID=Europe/Paris:20261006T200000
DTSTAMP:20260419T174523
CREATED:20260327T150319Z
LAST-MODIFIED:20260327T150319Z
UID:10006328-1791316800-1791316800@www.ocargofoodcourt.com
SUMMARY:SOIRÉE MOJITO
DESCRIPTION:🍸 SOIRÉE MOJITO 🍸 \nRafraîchissez votre soirée avec un bon Mojito ! 🌿 Ce soir\, rejoignez-nous dès 20h pour une Soirée Mojito à ne pas manquer ! \nPour seulement 6€\, dégustez votre Mojito préféré\, avec plusieurs saveurs au choix pour satisfaire toutes les envies. 🍓🥭 Que vous soyez team classique\, fruité\, ou exotique\, il y en aura pour tous les goûts ! \nVenez avec vos amis\, détendez-vous\, et profitez dans une ambiance parfaite. 🎉
URL:https://www.ocargofoodcourt.com/evenement/soiree-mojito-13/2026-10-06/
LOCATION:Avignon\, Avignon\, France
CATEGORIES:Avignon
ATTACH;FMTTYPE=image/png:https://www.ocargofoodcourt.com/wp-content/uploads/2026/03/mojito.png
END:VEVENT
BEGIN:VEVENT
DTSTART;TZID=Europe/Paris:20261006T200000
DTEND;TZID=Europe/Paris:20261006T235900
DTSTAMP:20260419T174523
CREATED:20251020T113135Z
LAST-MODIFIED:20251201T151200Z
UID:10004905-1791316800-1791331140@www.ocargofoodcourt.com
SUMMARY:MOJITO PARTY
DESCRIPTION:🍹 SOIRÉE MOJITO 🍹 \nRafraîchissez votre soirée avec un bon Mojito ! 🌿 Ce soir\, rejoignez-nous dès 20h pour une Soirée Mojito à ne pas manquer ! \nPour seulement 6€\, dégustez votre Mojito préféré\, avec plusieurs saveurs au choix pour satisfaire toutes les envies. 🍋🥭 Que vous soyez team classique\, fruité\, ou exotique\, il y en aura pour tous les goûts ! \nVenez avec vos amis\, détendez-vous\, et profitez dans une ambiance parfaite. 🎉 \n🍔FOOD – BAR🍸
URL:https://www.ocargofoodcourt.com/evenement/mojito-party-135/2026-10-06/
LOCATION:La Garde\, ÔCargo Food Court - 477 chemin des plantades\, La Garde\, var\, 83130\, France
CATEGORIES:La Garde
ATTACH;FMTTYPE=image/png:https://www.ocargofoodcourt.com/wp-content/uploads/2025/10/MOJITO-site-web-FB.png
END:VEVENT
BEGIN:VEVENT
DTSTART;TZID=Europe/Paris:20261007T200000
DTEND;TZID=Europe/Paris:20261007T200000
DTSTAMP:20260419T174523
CREATED:20260327T144536Z
LAST-MODIFIED:20260327T152501Z
UID:10006067-1791403200-1791403200@www.ocargofoodcourt.com
SUMMARY:SOIRÉE APERO PUNCH
DESCRIPTION:🍹 SOIRÉE APÉRO PUNCH 🍹 \n🍹 Envie de décompresser dans une ambiance chill ? Ce soir\, on vous attend dès 20h pour une Soirée Apéro Punch conviviale ! 🌴✨ \nSavourez un délicieux Punch frais et fruité aux saveurs variées\, parfait pour vous détendre après une longue journée. 🎶
URL:https://www.ocargofoodcourt.com/evenement/soiree-apero-punch-8/2026-10-07/
LOCATION:Avignon\, Avignon\, France
CATEGORIES:Avignon
ATTACH;FMTTYPE=image/png:https://www.ocargofoodcourt.com/wp-content/uploads/2026/03/punch-fb-1.png
END:VEVENT
BEGIN:VEVENT
DTSTART;TZID=Europe/Paris:20261007T200000
DTEND;TZID=Europe/Paris:20261007T235900
DTSTAMP:20260419T174523
CREATED:20251020T113245Z
LAST-MODIFIED:20251201T151239Z
UID:10004961-1791403200-1791417540@www.ocargofoodcourt.com
SUMMARY:APERO PUNCH
DESCRIPTION:🍹 SOIRÉE APÉRO PUNCH 🍹 \nEnvie de décompresser dans une ambiance chill ? Ce soir\, on vous attend dès 20h pour une Soirée Apéro Punch relaxante et conviviale ! 🌴✨ \nSavourez un délicieux Punch aux saveurs variées et plongez dans une ambiance chill et lounge parfaite pour vous détendre après une longue journée. 🎶 \n🍔FOOD – BAR🍸
URL:https://www.ocargofoodcourt.com/evenement/apero-punch-66/2026-10-07/
LOCATION:La Garde\, ÔCargo Food Court - 477 chemin des plantades\, La Garde\, var\, 83130\, France
CATEGORIES:La Garde
ATTACH;FMTTYPE=image/png:https://www.ocargofoodcourt.com/wp-content/uploads/2025/10/Apero-Punch-site-web-FB.png
END:VEVENT
BEGIN:VEVENT
DTSTART;TZID=Europe/Paris:20261012T200000
DTEND;TZID=Europe/Paris:20261012T200000
DTSTAMP:20260419T174523
CREATED:20251219T101328Z
LAST-MODIFIED:20251219T102108Z
UID:10005210-1791835200-1791835200@www.ocargofoodcourt.com
SUMMARY:KARAOKE
DESCRIPTION:KARAOKÉ TOUS LES LUNDIS chez ÔCargo Fréjus\nTous les lundis\, venez chanter et passer une soirée inoubliable lors de notre soirée karaoké ! \nQue vous soyez une star du micro ou juste là pour vous amuser\, notre scène est ouverte à tous !Venez partager vos talents\, découvrir de nouveaux artistes\, et profiter d’une ambiance conviviale autour des délicieux plats de nos 6 food corner.\nNe manquez pas le rendez-vous incontournable de la semaine pour un moment de détente et de divertissement !\n Entrée libre – Venez nombreux avec vos amis et votre bonne humeur ! 
URL:https://www.ocargofoodcourt.com/evenement/karaoke-5/2026-10-12/
CATEGORIES:Fréjus
ATTACH;FMTTYPE=image/png:https://www.ocargofoodcourt.com/wp-content/uploads/2025/12/Autres-animations-39.png
END:VEVENT
BEGIN:VEVENT
DTSTART;TZID=Europe/Paris:20261012T200000
DTEND;TZID=Europe/Paris:20261012T200000
DTSTAMP:20260419T174523
CREATED:20251220T123805Z
LAST-MODIFIED:20251220T123948Z
UID:10005453-1791835200-1791835200@www.ocargofoodcourt.com
SUMMARY:SOIRÉE KARAOKÉ
DESCRIPTION: SOIRÉE KARAOKÉ  \nPrêts à devenir la star de la soirée ? Ce soir\, rendez-vous à 20h pour une soirée Karaoké mémorable !Choisissez vos musiques préférées\, montez sur scène et laissez-vous emporter par l’ambiance ! Que vous soyez chanteur dans l’âme ou juste là pour vous amuser\, cette soirée est faite pour vous ! Et pour couronner le tout\, chaque lundi\, la bière est à 2€ !
URL:https://www.ocargofoodcourt.com/evenement/soiree-karaoke-162/2026-10-12/
LOCATION:Avignon\, Avignon\, France
CATEGORIES:Avignon
ATTACH;FMTTYPE=image/png:https://www.ocargofoodcourt.com/wp-content/uploads/2025/12/Karaoke-fb.png
END:VEVENT
BEGIN:VEVENT
DTSTART;TZID=Europe/Paris:20261012T200000
DTEND;TZID=Europe/Paris:20261012T235900
DTSTAMP:20260419T174523
CREATED:20251020T112951Z
LAST-MODIFIED:20251201T151126Z
UID:10004850-1791835200-1791849540@www.ocargofoodcourt.com
SUMMARY:SOIRÉE KARAOKÉ
DESCRIPTION:🎤 SOIRÉE KARAOKÉ 🎤 \nPrêts à devenir la star de la soirée ? 🌟 Ce soir on vous donne rendez-vous à 20h pour une soirée Karaoké mémorable ! \nChoisissez vos musiques préférées\, montez sur scène\, et laissez-vous emporter par l’ambiance ! 🎶  \nQue vous soyez chanteur dans l’âme ou juste là pour vous amuser\, cette soirée est faite pour vous ! \nEt pour couronner le tout\, chaque lundi\, profitez de la bière Cargo à 2€ ! 🍻 \n🍔FOOD – BAR🍸
URL:https://www.ocargofoodcourt.com/evenement/soiree-karaoke-157/2026-10-12/
LOCATION:La Garde\, ÔCargo Food Court - 477 chemin des plantades\, La Garde\, var\, 83130\, France
CATEGORIES:La Garde
ATTACH;FMTTYPE=image/png:https://www.ocargofoodcourt.com/wp-content/uploads/2025/10/Karaoke-site-web.png
END:VEVENT
BEGIN:VEVENT
DTSTART;TZID=Europe/Paris:20261013T200000
DTEND;TZID=Europe/Paris:20261013T200000
DTSTAMP:20260419T174523
CREATED:20260327T150319Z
LAST-MODIFIED:20260327T150319Z
UID:10006329-1791921600-1791921600@www.ocargofoodcourt.com
SUMMARY:SOIRÉE MOJITO
DESCRIPTION:🍸 SOIRÉE MOJITO 🍸 \nRafraîchissez votre soirée avec un bon Mojito ! 🌿 Ce soir\, rejoignez-nous dès 20h pour une Soirée Mojito à ne pas manquer ! \nPour seulement 6€\, dégustez votre Mojito préféré\, avec plusieurs saveurs au choix pour satisfaire toutes les envies. 🍓🥭 Que vous soyez team classique\, fruité\, ou exotique\, il y en aura pour tous les goûts ! \nVenez avec vos amis\, détendez-vous\, et profitez dans une ambiance parfaite. 🎉
URL:https://www.ocargofoodcourt.com/evenement/soiree-mojito-13/2026-10-13/
LOCATION:Avignon\, Avignon\, France
CATEGORIES:Avignon
ATTACH;FMTTYPE=image/png:https://www.ocargofoodcourt.com/wp-content/uploads/2026/03/mojito.png
END:VEVENT
BEGIN:VEVENT
DTSTART;TZID=Europe/Paris:20261013T200000
DTEND;TZID=Europe/Paris:20261013T235900
DTSTAMP:20260419T174523
CREATED:20251020T113135Z
LAST-MODIFIED:20251201T151200Z
UID:10004906-1791921600-1791935940@www.ocargofoodcourt.com
SUMMARY:MOJITO PARTY
DESCRIPTION:🍹 SOIRÉE MOJITO 🍹 \nRafraîchissez votre soirée avec un bon Mojito ! 🌿 Ce soir\, rejoignez-nous dès 20h pour une Soirée Mojito à ne pas manquer ! \nPour seulement 6€\, dégustez votre Mojito préféré\, avec plusieurs saveurs au choix pour satisfaire toutes les envies. 🍋🥭 Que vous soyez team classique\, fruité\, ou exotique\, il y en aura pour tous les goûts ! \nVenez avec vos amis\, détendez-vous\, et profitez dans une ambiance parfaite. 🎉 \n🍔FOOD – BAR🍸
URL:https://www.ocargofoodcourt.com/evenement/mojito-party-135/2026-10-13/
LOCATION:La Garde\, ÔCargo Food Court - 477 chemin des plantades\, La Garde\, var\, 83130\, France
CATEGORIES:La Garde
ATTACH;FMTTYPE=image/png:https://www.ocargofoodcourt.com/wp-content/uploads/2025/10/MOJITO-site-web-FB.png
END:VEVENT
BEGIN:VEVENT
DTSTART;TZID=Europe/Paris:20261014T200000
DTEND;TZID=Europe/Paris:20261014T200000
DTSTAMP:20260419T174523
CREATED:20260327T144536Z
LAST-MODIFIED:20260327T152501Z
UID:10006068-1792008000-1792008000@www.ocargofoodcourt.com
SUMMARY:SOIRÉE APERO PUNCH
DESCRIPTION:🍹 SOIRÉE APÉRO PUNCH 🍹 \n🍹 Envie de décompresser dans une ambiance chill ? Ce soir\, on vous attend dès 20h pour une Soirée Apéro Punch conviviale ! 🌴✨ \nSavourez un délicieux Punch frais et fruité aux saveurs variées\, parfait pour vous détendre après une longue journée. 🎶
URL:https://www.ocargofoodcourt.com/evenement/soiree-apero-punch-8/2026-10-14/
LOCATION:Avignon\, Avignon\, France
CATEGORIES:Avignon
ATTACH;FMTTYPE=image/png:https://www.ocargofoodcourt.com/wp-content/uploads/2026/03/punch-fb-1.png
END:VEVENT
BEGIN:VEVENT
DTSTART;TZID=Europe/Paris:20261014T200000
DTEND;TZID=Europe/Paris:20261014T235900
DTSTAMP:20260419T174523
CREATED:20251020T113245Z
LAST-MODIFIED:20251201T151239Z
UID:10004962-1792008000-1792022340@www.ocargofoodcourt.com
SUMMARY:APERO PUNCH
DESCRIPTION:🍹 SOIRÉE APÉRO PUNCH 🍹 \nEnvie de décompresser dans une ambiance chill ? Ce soir\, on vous attend dès 20h pour une Soirée Apéro Punch relaxante et conviviale ! 🌴✨ \nSavourez un délicieux Punch aux saveurs variées et plongez dans une ambiance chill et lounge parfaite pour vous détendre après une longue journée. 🎶 \n🍔FOOD – BAR🍸
URL:https://www.ocargofoodcourt.com/evenement/apero-punch-66/2026-10-14/
LOCATION:La Garde\, ÔCargo Food Court - 477 chemin des plantades\, La Garde\, var\, 83130\, France
CATEGORIES:La Garde
ATTACH;FMTTYPE=image/png:https://www.ocargofoodcourt.com/wp-content/uploads/2025/10/Apero-Punch-site-web-FB.png
END:VEVENT
BEGIN:VEVENT
DTSTART;TZID=Europe/Paris:20261019T200000
DTEND;TZID=Europe/Paris:20261019T200000
DTSTAMP:20260419T174523
CREATED:20251219T101328Z
LAST-MODIFIED:20251219T102108Z
UID:10005211-1792440000-1792440000@www.ocargofoodcourt.com
SUMMARY:KARAOKE
DESCRIPTION:KARAOKÉ TOUS LES LUNDIS chez ÔCargo Fréjus\nTous les lundis\, venez chanter et passer une soirée inoubliable lors de notre soirée karaoké ! \nQue vous soyez une star du micro ou juste là pour vous amuser\, notre scène est ouverte à tous !Venez partager vos talents\, découvrir de nouveaux artistes\, et profiter d’une ambiance conviviale autour des délicieux plats de nos 6 food corner.\nNe manquez pas le rendez-vous incontournable de la semaine pour un moment de détente et de divertissement !\n Entrée libre – Venez nombreux avec vos amis et votre bonne humeur ! 
URL:https://www.ocargofoodcourt.com/evenement/karaoke-5/2026-10-19/
CATEGORIES:Fréjus
ATTACH;FMTTYPE=image/png:https://www.ocargofoodcourt.com/wp-content/uploads/2025/12/Autres-animations-39.png
END:VEVENT
BEGIN:VEVENT
DTSTART;TZID=Europe/Paris:20261019T200000
DTEND;TZID=Europe/Paris:20261019T200000
DTSTAMP:20260419T174523
CREATED:20251220T123805Z
LAST-MODIFIED:20251220T123948Z
UID:10005454-1792440000-1792440000@www.ocargofoodcourt.com
SUMMARY:SOIRÉE KARAOKÉ
DESCRIPTION: SOIRÉE KARAOKÉ  \nPrêts à devenir la star de la soirée ? Ce soir\, rendez-vous à 20h pour une soirée Karaoké mémorable !Choisissez vos musiques préférées\, montez sur scène et laissez-vous emporter par l’ambiance ! Que vous soyez chanteur dans l’âme ou juste là pour vous amuser\, cette soirée est faite pour vous ! Et pour couronner le tout\, chaque lundi\, la bière est à 2€ !
URL:https://www.ocargofoodcourt.com/evenement/soiree-karaoke-162/2026-10-19/
LOCATION:Avignon\, Avignon\, France
CATEGORIES:Avignon
ATTACH;FMTTYPE=image/png:https://www.ocargofoodcourt.com/wp-content/uploads/2025/12/Karaoke-fb.png
END:VEVENT
BEGIN:VEVENT
DTSTART;TZID=Europe/Paris:20261019T200000
DTEND;TZID=Europe/Paris:20261019T235900
DTSTAMP:20260419T174523
CREATED:20251020T112951Z
LAST-MODIFIED:20251201T151126Z
UID:10004851-1792440000-1792454340@www.ocargofoodcourt.com
SUMMARY:SOIRÉE KARAOKÉ
DESCRIPTION:🎤 SOIRÉE KARAOKÉ 🎤 \nPrêts à devenir la star de la soirée ? 🌟 Ce soir on vous donne rendez-vous à 20h pour une soirée Karaoké mémorable ! \nChoisissez vos musiques préférées\, montez sur scène\, et laissez-vous emporter par l’ambiance ! 🎶  \nQue vous soyez chanteur dans l’âme ou juste là pour vous amuser\, cette soirée est faite pour vous ! \nEt pour couronner le tout\, chaque lundi\, profitez de la bière Cargo à 2€ ! 🍻 \n🍔FOOD – BAR🍸
URL:https://www.ocargofoodcourt.com/evenement/soiree-karaoke-157/2026-10-19/
LOCATION:La Garde\, ÔCargo Food Court - 477 chemin des plantades\, La Garde\, var\, 83130\, France
CATEGORIES:La Garde
ATTACH;FMTTYPE=image/png:https://www.ocargofoodcourt.com/wp-content/uploads/2025/10/Karaoke-site-web.png
END:VEVENT
BEGIN:VEVENT
DTSTART;TZID=Europe/Paris:20261020T200000
DTEND;TZID=Europe/Paris:20261020T200000
DTSTAMP:20260419T174523
CREATED:20260327T150319Z
LAST-MODIFIED:20260327T150319Z
UID:10006330-1792526400-1792526400@www.ocargofoodcourt.com
SUMMARY:SOIRÉE MOJITO
DESCRIPTION:🍸 SOIRÉE MOJITO 🍸 \nRafraîchissez votre soirée avec un bon Mojito ! 🌿 Ce soir\, rejoignez-nous dès 20h pour une Soirée Mojito à ne pas manquer ! \nPour seulement 6€\, dégustez votre Mojito préféré\, avec plusieurs saveurs au choix pour satisfaire toutes les envies. 🍓🥭 Que vous soyez team classique\, fruité\, ou exotique\, il y en aura pour tous les goûts ! \nVenez avec vos amis\, détendez-vous\, et profitez dans une ambiance parfaite. 🎉
URL:https://www.ocargofoodcourt.com/evenement/soiree-mojito-13/2026-10-20/
LOCATION:Avignon\, Avignon\, France
CATEGORIES:Avignon
ATTACH;FMTTYPE=image/png:https://www.ocargofoodcourt.com/wp-content/uploads/2026/03/mojito.png
END:VEVENT
BEGIN:VEVENT
DTSTART;TZID=Europe/Paris:20261020T200000
DTEND;TZID=Europe/Paris:20261020T235900
DTSTAMP:20260419T174523
CREATED:20251020T113135Z
LAST-MODIFIED:20251201T151200Z
UID:10004907-1792526400-1792540740@www.ocargofoodcourt.com
SUMMARY:MOJITO PARTY
DESCRIPTION:🍹 SOIRÉE MOJITO 🍹 \nRafraîchissez votre soirée avec un bon Mojito ! 🌿 Ce soir\, rejoignez-nous dès 20h pour une Soirée Mojito à ne pas manquer ! \nPour seulement 6€\, dégustez votre Mojito préféré\, avec plusieurs saveurs au choix pour satisfaire toutes les envies. 🍋🥭 Que vous soyez team classique\, fruité\, ou exotique\, il y en aura pour tous les goûts ! \nVenez avec vos amis\, détendez-vous\, et profitez dans une ambiance parfaite. 🎉 \n🍔FOOD – BAR🍸
URL:https://www.ocargofoodcourt.com/evenement/mojito-party-135/2026-10-20/
LOCATION:La Garde\, ÔCargo Food Court - 477 chemin des plantades\, La Garde\, var\, 83130\, France
CATEGORIES:La Garde
ATTACH;FMTTYPE=image/png:https://www.ocargofoodcourt.com/wp-content/uploads/2025/10/MOJITO-site-web-FB.png
END:VEVENT
BEGIN:VEVENT
DTSTART;TZID=Europe/Paris:20261021T200000
DTEND;TZID=Europe/Paris:20261021T200000
DTSTAMP:20260419T174523
CREATED:20260327T144536Z
LAST-MODIFIED:20260327T152501Z
UID:10006069-1792612800-1792612800@www.ocargofoodcourt.com
SUMMARY:SOIRÉE APERO PUNCH
DESCRIPTION:🍹 SOIRÉE APÉRO PUNCH 🍹 \n🍹 Envie de décompresser dans une ambiance chill ? Ce soir\, on vous attend dès 20h pour une Soirée Apéro Punch conviviale ! 🌴✨ \nSavourez un délicieux Punch frais et fruité aux saveurs variées\, parfait pour vous détendre après une longue journée. 🎶
URL:https://www.ocargofoodcourt.com/evenement/soiree-apero-punch-8/2026-10-21/
LOCATION:Avignon\, Avignon\, France
CATEGORIES:Avignon
ATTACH;FMTTYPE=image/png:https://www.ocargofoodcourt.com/wp-content/uploads/2026/03/punch-fb-1.png
END:VEVENT
BEGIN:VEVENT
DTSTART;TZID=Europe/Paris:20261021T200000
DTEND;TZID=Europe/Paris:20261021T235900
DTSTAMP:20260419T174523
CREATED:20251020T113245Z
LAST-MODIFIED:20251201T151239Z
UID:10004963-1792612800-1792627140@www.ocargofoodcourt.com
SUMMARY:APERO PUNCH
DESCRIPTION:🍹 SOIRÉE APÉRO PUNCH 🍹 \nEnvie de décompresser dans une ambiance chill ? Ce soir\, on vous attend dès 20h pour une Soirée Apéro Punch relaxante et conviviale ! 🌴✨ \nSavourez un délicieux Punch aux saveurs variées et plongez dans une ambiance chill et lounge parfaite pour vous détendre après une longue journée. 🎶 \n🍔FOOD – BAR🍸
URL:https://www.ocargofoodcourt.com/evenement/apero-punch-66/2026-10-21/
LOCATION:La Garde\, ÔCargo Food Court - 477 chemin des plantades\, La Garde\, var\, 83130\, France
CATEGORIES:La Garde
ATTACH;FMTTYPE=image/png:https://www.ocargofoodcourt.com/wp-content/uploads/2025/10/Apero-Punch-site-web-FB.png
END:VEVENT
BEGIN:VEVENT
DTSTART;TZID=Europe/Paris:20261026T200000
DTEND;TZID=Europe/Paris:20261026T200000
DTSTAMP:20260419T174523
CREATED:20251219T101328Z
LAST-MODIFIED:20251219T102108Z
UID:10005140-1793044800-1793044800@www.ocargofoodcourt.com
SUMMARY:KARAOKE
DESCRIPTION:KARAOKÉ TOUS LES LUNDIS chez ÔCargo Fréjus\nTous les lundis\, venez chanter et passer une soirée inoubliable lors de notre soirée karaoké ! \nQue vous soyez une star du micro ou juste là pour vous amuser\, notre scène est ouverte à tous !Venez partager vos talents\, découvrir de nouveaux artistes\, et profiter d’une ambiance conviviale autour des délicieux plats de nos 6 food corner.\nNe manquez pas le rendez-vous incontournable de la semaine pour un moment de détente et de divertissement !\n Entrée libre – Venez nombreux avec vos amis et votre bonne humeur ! 
URL:https://www.ocargofoodcourt.com/evenement/karaoke-5/2026-10-26/
CATEGORIES:Fréjus
ATTACH;FMTTYPE=image/png:https://www.ocargofoodcourt.com/wp-content/uploads/2025/12/Autres-animations-39.png
END:VEVENT
BEGIN:VEVENT
DTSTART;TZID=Europe/Paris:20261026T200000
DTEND;TZID=Europe/Paris:20261026T200000
DTSTAMP:20260419T174523
CREATED:20251220T123805Z
LAST-MODIFIED:20251220T123948Z
UID:10005455-1793044800-1793044800@www.ocargofoodcourt.com
SUMMARY:SOIRÉE KARAOKÉ
DESCRIPTION: SOIRÉE KARAOKÉ  \nPrêts à devenir la star de la soirée ? Ce soir\, rendez-vous à 20h pour une soirée Karaoké mémorable !Choisissez vos musiques préférées\, montez sur scène et laissez-vous emporter par l’ambiance ! Que vous soyez chanteur dans l’âme ou juste là pour vous amuser\, cette soirée est faite pour vous ! Et pour couronner le tout\, chaque lundi\, la bière est à 2€ !
URL:https://www.ocargofoodcourt.com/evenement/soiree-karaoke-162/2026-10-26/
LOCATION:Avignon\, Avignon\, France
CATEGORIES:Avignon
ATTACH;FMTTYPE=image/png:https://www.ocargofoodcourt.com/wp-content/uploads/2025/12/Karaoke-fb.png
END:VEVENT
BEGIN:VEVENT
DTSTART;TZID=Europe/Paris:20261026T200000
DTEND;TZID=Europe/Paris:20261026T235900
DTSTAMP:20260419T174523
CREATED:20251020T112951Z
LAST-MODIFIED:20251201T151126Z
UID:10004852-1793044800-1793059140@www.ocargofoodcourt.com
SUMMARY:SOIRÉE KARAOKÉ
DESCRIPTION:🎤 SOIRÉE KARAOKÉ 🎤 \nPrêts à devenir la star de la soirée ? 🌟 Ce soir on vous donne rendez-vous à 20h pour une soirée Karaoké mémorable ! \nChoisissez vos musiques préférées\, montez sur scène\, et laissez-vous emporter par l’ambiance ! 🎶  \nQue vous soyez chanteur dans l’âme ou juste là pour vous amuser\, cette soirée est faite pour vous ! \nEt pour couronner le tout\, chaque lundi\, profitez de la bière Cargo à 2€ ! 🍻 \n🍔FOOD – BAR🍸
URL:https://www.ocargofoodcourt.com/evenement/soiree-karaoke-157/2026-10-26/
LOCATION:La Garde\, ÔCargo Food Court - 477 chemin des plantades\, La Garde\, var\, 83130\, France
CATEGORIES:La Garde
ATTACH;FMTTYPE=image/png:https://www.ocargofoodcourt.com/wp-content/uploads/2025/10/Karaoke-site-web.png
END:VEVENT
BEGIN:VEVENT
DTSTART;TZID=Europe/Paris:20261027T200000
DTEND;TZID=Europe/Paris:20261027T200000
DTSTAMP:20260419T174523
CREATED:20260327T150319Z
LAST-MODIFIED:20260327T150319Z
UID:10006331-1793131200-1793131200@www.ocargofoodcourt.com
SUMMARY:SOIRÉE MOJITO
DESCRIPTION:🍸 SOIRÉE MOJITO 🍸 \nRafraîchissez votre soirée avec un bon Mojito ! 🌿 Ce soir\, rejoignez-nous dès 20h pour une Soirée Mojito à ne pas manquer ! \nPour seulement 6€\, dégustez votre Mojito préféré\, avec plusieurs saveurs au choix pour satisfaire toutes les envies. 🍓🥭 Que vous soyez team classique\, fruité\, ou exotique\, il y en aura pour tous les goûts ! \nVenez avec vos amis\, détendez-vous\, et profitez dans une ambiance parfaite. 🎉
URL:https://www.ocargofoodcourt.com/evenement/soiree-mojito-13/2026-10-27/
LOCATION:Avignon\, Avignon\, France
CATEGORIES:Avignon
ATTACH;FMTTYPE=image/png:https://www.ocargofoodcourt.com/wp-content/uploads/2026/03/mojito.png
END:VEVENT
BEGIN:VEVENT
DTSTART;TZID=Europe/Paris:20261027T200000
DTEND;TZID=Europe/Paris:20261027T235900
DTSTAMP:20260419T174523
CREATED:20251020T113135Z
LAST-MODIFIED:20251201T151200Z
UID:10004908-1793131200-1793145540@www.ocargofoodcourt.com
SUMMARY:MOJITO PARTY
DESCRIPTION:🍹 SOIRÉE MOJITO 🍹 \nRafraîchissez votre soirée avec un bon Mojito ! 🌿 Ce soir\, rejoignez-nous dès 20h pour une Soirée Mojito à ne pas manquer ! \nPour seulement 6€\, dégustez votre Mojito préféré\, avec plusieurs saveurs au choix pour satisfaire toutes les envies. 🍋🥭 Que vous soyez team classique\, fruité\, ou exotique\, il y en aura pour tous les goûts ! \nVenez avec vos amis\, détendez-vous\, et profitez dans une ambiance parfaite. 🎉 \n🍔FOOD – BAR🍸
URL:https://www.ocargofoodcourt.com/evenement/mojito-party-135/2026-10-27/
LOCATION:La Garde\, ÔCargo Food Court - 477 chemin des plantades\, La Garde\, var\, 83130\, France
CATEGORIES:La Garde
ATTACH;FMTTYPE=image/png:https://www.ocargofoodcourt.com/wp-content/uploads/2025/10/MOJITO-site-web-FB.png
END:VEVENT
BEGIN:VEVENT
DTSTART;TZID=Europe/Paris:20261028T200000
DTEND;TZID=Europe/Paris:20261028T200000
DTSTAMP:20260419T174523
CREATED:20260327T144536Z
LAST-MODIFIED:20260327T152501Z
UID:10006070-1793217600-1793217600@www.ocargofoodcourt.com
SUMMARY:SOIRÉE APERO PUNCH
DESCRIPTION:🍹 SOIRÉE APÉRO PUNCH 🍹 \n🍹 Envie de décompresser dans une ambiance chill ? Ce soir\, on vous attend dès 20h pour une Soirée Apéro Punch conviviale ! 🌴✨ \nSavourez un délicieux Punch frais et fruité aux saveurs variées\, parfait pour vous détendre après une longue journée. 🎶
URL:https://www.ocargofoodcourt.com/evenement/soiree-apero-punch-8/2026-10-28/
LOCATION:Avignon\, Avignon\, France
CATEGORIES:Avignon
ATTACH;FMTTYPE=image/png:https://www.ocargofoodcourt.com/wp-content/uploads/2026/03/punch-fb-1.png
END:VEVENT
BEGIN:VEVENT
DTSTART;TZID=Europe/Paris:20261028T200000
DTEND;TZID=Europe/Paris:20261028T235900
DTSTAMP:20260419T174523
CREATED:20251020T113245Z
LAST-MODIFIED:20251201T151239Z
UID:10004964-1793217600-1793231940@www.ocargofoodcourt.com
SUMMARY:APERO PUNCH
DESCRIPTION:🍹 SOIRÉE APÉRO PUNCH 🍹 \nEnvie de décompresser dans une ambiance chill ? Ce soir\, on vous attend dès 20h pour une Soirée Apéro Punch relaxante et conviviale ! 🌴✨ \nSavourez un délicieux Punch aux saveurs variées et plongez dans une ambiance chill et lounge parfaite pour vous détendre après une longue journée. 🎶 \n🍔FOOD – BAR🍸
URL:https://www.ocargofoodcourt.com/evenement/apero-punch-66/2026-10-28/
LOCATION:La Garde\, ÔCargo Food Court - 477 chemin des plantades\, La Garde\, var\, 83130\, France
CATEGORIES:La Garde
ATTACH;FMTTYPE=image/png:https://www.ocargofoodcourt.com/wp-content/uploads/2025/10/Apero-Punch-site-web-FB.png
END:VEVENT
END:VCALENDAR