BEGIN:VCALENDAR
VERSION:2.0
PRODID:-//Ôcargo Foodcourt - ECPv6.15.20//NONSGML v1.0//EN
CALSCALE:GREGORIAN
METHOD:PUBLISH
X-ORIGINAL-URL:https://www.ocargofoodcourt.com
X-WR-CALDESC:Évènements pour Ôcargo Foodcourt
REFRESH-INTERVAL;VALUE=DURATION:PT1H
X-Robots-Tag:noindex
X-PUBLISHED-TTL:PT1H
BEGIN:VTIMEZONE
TZID:Europe/Paris
BEGIN:DAYLIGHT
TZOFFSETFROM:+0100
TZOFFSETTO:+0200
TZNAME:CEST
DTSTART:20250330T010000
END:DAYLIGHT
BEGIN:STANDARD
TZOFFSETFROM:+0200
TZOFFSETTO:+0100
TZNAME:CET
DTSTART:20251026T010000
END:STANDARD
BEGIN:DAYLIGHT
TZOFFSETFROM:+0100
TZOFFSETTO:+0200
TZNAME:CEST
DTSTART:20260329T010000
END:DAYLIGHT
BEGIN:STANDARD
TZOFFSETFROM:+0200
TZOFFSETTO:+0100
TZNAME:CET
DTSTART:20261025T010000
END:STANDARD
BEGIN:DAYLIGHT
TZOFFSETFROM:+0100
TZOFFSETTO:+0200
TZNAME:CEST
DTSTART:20270328T010000
END:DAYLIGHT
BEGIN:STANDARD
TZOFFSETFROM:+0200
TZOFFSETTO:+0100
TZNAME:CET
DTSTART:20271031T010000
END:STANDARD
END:VTIMEZONE
BEGIN:VEVENT
DTSTART;TZID=Europe/Paris:20260423T200000
DTEND;TZID=Europe/Paris:20260423T200000
DTSTAMP:20260423T175051
CREATED:20260320T101141Z
LAST-MODIFIED:20260320T101149Z
UID:10006019-1776974400-1776974400@www.ocargofoodcourt.com
SUMMARY:DJ PARTY - DJ DEZZE
DESCRIPTION:🎧 DJ PARTY 🎧 \nEnvie de danser sur vos morceaux préférés ? Rejoignez-nous dès 20h pour une Soirée DJ Party explosive ! 🎶🔥 \nDJ DEZZE va faire monter la température avec des mix incroyables et les meilleurs hits du moment. C’est le moment idéal pour vous déhancher sur vos musique préférées ! 💃🕺 \nRassemblez vos amis\, laissez-vous emporter par le rythme ! 🎵✨ \n🍔FOOD – BAR🍸
URL:https://www.ocargofoodcourt.com/evenement/dj-party-dj-dezze-13/
LOCATION:La Garde\, ÔCargo Food Court - 477 chemin des plantades\, La Garde\, var\, 83130\, France
CATEGORIES:La Garde
ATTACH;FMTTYPE=image/png:https://www.ocargofoodcourt.com/wp-content/uploads/2026/03/DJ-23-Avril-FB.png
END:VEVENT
BEGIN:VEVENT
DTSTART;TZID=Europe/Paris:20260423T200000
DTEND;TZID=Europe/Paris:20260423T200000
DTSTAMP:20260423T175051
CREATED:20260327T163233Z
LAST-MODIFIED:20260327T163233Z
UID:10006567-1776974400-1776974400@www.ocargofoodcourt.com
SUMMARY:SOIRÉE DJ
DESCRIPTION:🎧 SOIRÉE DJ 🎧 \nEnvie de danser sur vos morceaux préférés ? Ce soir\, rejoignez-nous dès 20h pour une soirée DJ Party explosive ! 🎶🔥 \nDJ KARMO va faire monter la température avec des mix incroyables et les meilleurs hits du moment. C’est le moment idéal pour vous déhancher sur vos musiques préférées ! 💃🕺 \nRassemblez vos amis\, laissez-vous emporter par le rythme ! 🎵✨
URL:https://www.ocargofoodcourt.com/evenement/soiree-dj-8/
LOCATION:Avignon\, Avignon\, France
CATEGORIES:Avignon
ATTACH;FMTTYPE=image/png:https://www.ocargofoodcourt.com/wp-content/uploads/2026/03/23.04-DJ-Party-FB.png
END:VEVENT
BEGIN:VEVENT
DTSTART;TZID=Europe/Paris:20260423T210000
DTEND;TZID=Europe/Paris:20260424T010000
DTSTAMP:20260423T175051
CREATED:20260316T145610Z
LAST-MODIFIED:20260316T145610Z
UID:10006010-1776978000-1776992400@www.ocargofoodcourt.com
SUMMARY:DJ SET NICOLAS MARX
DESCRIPTION: SOIRÉE DJ PARTY Envie de danser sur vos morceaux préférés ?Ce soir\, rejoignez-nous dès 21h pour une Soirée DJ Party explosive ! DJ CORVEN va faire monter la température avec des mix incroyables et les meilleurs hits du moment. C’est le moment idéal pour vous déhancher sur vos musique préférées ! Rassemblez vos amis\, laissez-vous emporter par le rythme ! FOOD – BAR
URL:https://www.ocargofoodcourt.com/evenement/dj-set-nicolas-marx/
CATEGORIES:Fréjus
ATTACH;FMTTYPE=image/png:https://www.ocargofoodcourt.com/wp-content/uploads/2026/03/Jeudi-MARX.png
END:VEVENT
BEGIN:VEVENT
DTSTART;TZID=Europe/Paris:20260424T200000
DTEND;TZID=Europe/Paris:20260424T200000
DTSTAMP:20260423T175051
CREATED:20260320T102059Z
LAST-MODIFIED:20260320T102105Z
UID:10006020-1777060800-1777060800@www.ocargofoodcourt.com
SUMMARY:CONCERT LIVE THE LUNATICS & DJ SLYBACK
DESCRIPTION:🎸 SOIRÉE CONCERT LIVE & DJ 🎧 \nPréparez-vous pour une soirée inoubliable ! Rejoignez-nous dès 20h pour un Concert Live avec le groupe THE LUNATICS\, un groupe pop-rock énergique qui va enflammer la scène ! 🎶🔥 \nEnsuite\, à partir de 22h30 jusqu’à 1h\, laissez-vous emporter par les beats dynamiques de DJ SLYBACK pour une soirée mémorable ! 💃🕺 \nRassemblez vos amis et vivez une soirée pleine de musique\, de danse et de bonne humeur ! 🎉🎵 \n🍔FOOD – BAR🍸 \n👕Tenue correcte exigée👕
URL:https://www.ocargofoodcourt.com/evenement/concert-live-the-lunatics-dj-slyback/
LOCATION:La Garde\, ÔCargo Food Court - 477 chemin des plantades\, La Garde\, var\, 83130\, France
CATEGORIES:La Garde
ATTACH;FMTTYPE=image/png:https://www.ocargofoodcourt.com/wp-content/uploads/2026/03/CONCERT-24-Avril-FB.png
END:VEVENT
BEGIN:VEVENT
DTSTART;TZID=Europe/Paris:20260424T200000
DTEND;TZID=Europe/Paris:20260424T200000
DTSTAMP:20260423T175051
CREATED:20260415T163553Z
LAST-MODIFIED:20260415T163553Z
UID:10006601-1777060800-1777060800@www.ocargofoodcourt.com
SUMMARY:SOIRÉE BLANCHE
DESCRIPTION:Prépare-toi pour une nuit hors du commun…\n\n\n \n\n\n🎧 DJ Thbaud Fabre aux platines\n\n\n💃 Performeuses pendant la soirée\n\n\n✨ Décoration immersive\n\n\n \n\n\n⚠️ Dress code : BLANC \n\n\n \n\n\nOn compte sur vous pour jouer le jeu 🤍\n\n\nÇa va être… magique 🔥
URL:https://www.ocargofoodcourt.com/evenement/soiree-blanche-2/
LOCATION:Avignon\, Avignon\, France
CATEGORIES:Avignon
ATTACH;FMTTYPE=image/png:https://www.ocargofoodcourt.com/wp-content/uploads/2026/04/24.04-Soiree-blanche-Fb.png
END:VEVENT
BEGIN:VEVENT
DTSTART;TZID=Europe/Paris:20260425T190000
DTEND;TZID=Europe/Paris:20260425T210000
DTSTAMP:20260423T175051
CREATED:20260325T152049Z
LAST-MODIFIED:20260325T152053Z
UID:10006032-1777143600-1777150800@www.ocargofoodcourt.com
SUMMARY:LIGUE 1 - ANGERS VS PSG
DESCRIPTION:⚽ LIGUE 1 ⚽ \n💥ANGERS – PSG💥🕘19H \nNous diffusons le match sur grand écran intérieur et extérieur pour que vous puissiez suivre chaque action dans une ambiance de folie ! 📺🌟 \nVenez encourager votre équipe dans une atmosphère festive et conviviale. \n🍔FOOD – BAR🍸
URL:https://www.ocargofoodcourt.com/evenement/ligue-1-angers-vs-psg/
LOCATION:La Garde\, ÔCargo Food Court - 477 chemin des plantades\, La Garde\, var\, 83130\, France
CATEGORIES:La Garde
ATTACH;FMTTYPE=image/png:https://www.ocargofoodcourt.com/wp-content/uploads/2026/03/LIGUE-1-25-AVRIL.png
END:VEVENT
BEGIN:VEVENT
DTSTART;TZID=Europe/Paris:20260425T200000
DTEND;TZID=Europe/Paris:20260425T200000
DTSTAMP:20260423T175051
CREATED:20260320T102337Z
LAST-MODIFIED:20260320T102347Z
UID:10006021-1777147200-1777147200@www.ocargofoodcourt.com
SUMMARY:SOIRÉE CHÉRIE FM
DESCRIPTION:CHÉRIE FEEL-GOOD PARTY \nPréparez-vous à revivre vos plus grands souvenirs avec la team Chérie FM aux platines !\nBack to 2000 : hits cultes\, vibes rétro et ambiance survoltée au programme !\n Que vous soyez en famille ou entre amis\, sortez vos plus beaux looks et venez danser jusqu’au bout de la nuit !\n Tenue correcte exigée
URL:https://www.ocargofoodcourt.com/evenement/soiree-cherie-fm/
LOCATION:La Garde\, ÔCargo Food Court - 477 chemin des plantades\, La Garde\, var\, 83130\, France
CATEGORIES:La Garde
ATTACH;FMTTYPE=image/jpeg:https://www.ocargofoodcourt.com/wp-content/uploads/2026/03/CARRE-CG2000-OCARGO-25-avril-2026.jpg
END:VEVENT
BEGIN:VEVENT
DTSTART;TZID=Europe/Paris:20260425T200000
DTEND;TZID=Europe/Paris:20260425T200000
DTSTAMP:20260423T175051
CREATED:20260327T163650Z
LAST-MODIFIED:20260327T163811Z
UID:10006568-1777147200-1777147200@www.ocargofoodcourt.com
SUMMARY:SOIRÉE CONCERT & DJ
DESCRIPTION:🎸 SOIRÉE CONCERT LIVE & DJ 🎧 \nPréparez-vous pour une soirée inoubliable !  \nRejoignez-nous dès 20h pour un Concert Live avec le groupe MAGE\, un groupe pop-rock énergique qui va enflammer la scène ! 🎶🔥 \nEnsuite\, à partir de 22h30\, laissez-vous emporter par les beats dynamiques de DJ BBAK pour une DJ Party mémorable ! 💃🕺 \nRassemblez vos amis et vivez une soirée pleine de musique\, de danse et de bonne humeur ! 🎵🎉 \nEt n’oubliez pas\, tenue correcte exigée ! 👕
URL:https://www.ocargofoodcourt.com/evenement/soiree-concert-dj-15/
LOCATION:Avignon\, Avignon\, France
CATEGORIES:Avignon
ATTACH;FMTTYPE=image/png:https://www.ocargofoodcourt.com/wp-content/uploads/2026/03/25.04-Concert-Fb.png
END:VEVENT
BEGIN:VEVENT
DTSTART;TZID=Europe/Paris:20260427T200000
DTEND;TZID=Europe/Paris:20260427T200000
DTSTAMP:20260423T175051
CREATED:20251219T101328Z
LAST-MODIFIED:20251219T102108Z
UID:10005190-1777320000-1777320000@www.ocargofoodcourt.com
SUMMARY:KARAOKE
DESCRIPTION:KARAOKÉ TOUS LES LUNDIS chez ÔCargo Fréjus\nTous les lundis\, venez chanter et passer une soirée inoubliable lors de notre soirée karaoké ! \nQue vous soyez une star du micro ou juste là pour vous amuser\, notre scène est ouverte à tous !Venez partager vos talents\, découvrir de nouveaux artistes\, et profiter d’une ambiance conviviale autour des délicieux plats de nos 6 food corner.\nNe manquez pas le rendez-vous incontournable de la semaine pour un moment de détente et de divertissement !\n Entrée libre – Venez nombreux avec vos amis et votre bonne humeur ! 
URL:https://www.ocargofoodcourt.com/evenement/karaoke-5/2026-04-27/
CATEGORIES:Fréjus
ATTACH;FMTTYPE=image/png:https://www.ocargofoodcourt.com/wp-content/uploads/2025/12/Autres-animations-39.png
END:VEVENT
BEGIN:VEVENT
DTSTART;TZID=Europe/Paris:20260427T200000
DTEND;TZID=Europe/Paris:20260427T200000
DTSTAMP:20260423T175051
CREATED:20251220T123805Z
LAST-MODIFIED:20251220T123948Z
UID:10005429-1777320000-1777320000@www.ocargofoodcourt.com
SUMMARY:SOIRÉE KARAOKÉ
DESCRIPTION: SOIRÉE KARAOKÉ  \nPrêts à devenir la star de la soirée ? Ce soir\, rendez-vous à 20h pour une soirée Karaoké mémorable !Choisissez vos musiques préférées\, montez sur scène et laissez-vous emporter par l’ambiance ! Que vous soyez chanteur dans l’âme ou juste là pour vous amuser\, cette soirée est faite pour vous ! Et pour couronner le tout\, chaque lundi\, la bière est à 2€ !
URL:https://www.ocargofoodcourt.com/evenement/soiree-karaoke-162/2026-04-27/
LOCATION:Avignon\, Avignon\, France
CATEGORIES:Avignon
ATTACH;FMTTYPE=image/png:https://www.ocargofoodcourt.com/wp-content/uploads/2025/12/Karaoke-fb.png
END:VEVENT
BEGIN:VEVENT
DTSTART;TZID=Europe/Paris:20260427T200000
DTEND;TZID=Europe/Paris:20260427T235900
DTSTAMP:20260423T175051
CREATED:20251020T112951Z
LAST-MODIFIED:20251201T151126Z
UID:10004826-1777320000-1777334340@www.ocargofoodcourt.com
SUMMARY:SOIRÉE KARAOKÉ
DESCRIPTION:🎤 SOIRÉE KARAOKÉ 🎤 \nPrêts à devenir la star de la soirée ? 🌟 Ce soir on vous donne rendez-vous à 20h pour une soirée Karaoké mémorable ! \nChoisissez vos musiques préférées\, montez sur scène\, et laissez-vous emporter par l’ambiance ! 🎶  \nQue vous soyez chanteur dans l’âme ou juste là pour vous amuser\, cette soirée est faite pour vous ! \nEt pour couronner le tout\, chaque lundi\, profitez de la bière Cargo à 2€ ! 🍻 \n🍔FOOD – BAR🍸
URL:https://www.ocargofoodcourt.com/evenement/soiree-karaoke-157/2026-04-27/
LOCATION:La Garde\, ÔCargo Food Court - 477 chemin des plantades\, La Garde\, var\, 83130\, France
CATEGORIES:La Garde
ATTACH;FMTTYPE=image/png:https://www.ocargofoodcourt.com/wp-content/uploads/2025/10/Karaoke-site-web.png
END:VEVENT
BEGIN:VEVENT
DTSTART;TZID=Europe/Paris:20260428T200000
DTEND;TZID=Europe/Paris:20260428T200000
DTSTAMP:20260423T175051
CREATED:20260327T150319Z
LAST-MODIFIED:20260327T150319Z
UID:10006305-1777406400-1777406400@www.ocargofoodcourt.com
SUMMARY:SOIRÉE MOJITO
DESCRIPTION:🍸 SOIRÉE MOJITO 🍸 \nRafraîchissez votre soirée avec un bon Mojito ! 🌿 Ce soir\, rejoignez-nous dès 20h pour une Soirée Mojito à ne pas manquer ! \nPour seulement 6€\, dégustez votre Mojito préféré\, avec plusieurs saveurs au choix pour satisfaire toutes les envies. 🍓🥭 Que vous soyez team classique\, fruité\, ou exotique\, il y en aura pour tous les goûts ! \nVenez avec vos amis\, détendez-vous\, et profitez dans une ambiance parfaite. 🎉
URL:https://www.ocargofoodcourt.com/evenement/soiree-mojito-13/2026-04-28/
LOCATION:Avignon\, Avignon\, France
CATEGORIES:Avignon
ATTACH;FMTTYPE=image/png:https://www.ocargofoodcourt.com/wp-content/uploads/2026/03/mojito.png
END:VEVENT
BEGIN:VEVENT
DTSTART;TZID=Europe/Paris:20260428T200000
DTEND;TZID=Europe/Paris:20260428T235900
DTSTAMP:20260423T175051
CREATED:20251020T113135Z
LAST-MODIFIED:20251201T151200Z
UID:10004882-1777406400-1777420740@www.ocargofoodcourt.com
SUMMARY:MOJITO PARTY
DESCRIPTION:🍹 SOIRÉE MOJITO 🍹 \nRafraîchissez votre soirée avec un bon Mojito ! 🌿 Ce soir\, rejoignez-nous dès 20h pour une Soirée Mojito à ne pas manquer ! \nPour seulement 6€\, dégustez votre Mojito préféré\, avec plusieurs saveurs au choix pour satisfaire toutes les envies. 🍋🥭 Que vous soyez team classique\, fruité\, ou exotique\, il y en aura pour tous les goûts ! \nVenez avec vos amis\, détendez-vous\, et profitez dans une ambiance parfaite. 🎉 \n🍔FOOD – BAR🍸
URL:https://www.ocargofoodcourt.com/evenement/mojito-party-135/2026-04-28/
LOCATION:La Garde\, ÔCargo Food Court - 477 chemin des plantades\, La Garde\, var\, 83130\, France
CATEGORIES:La Garde
ATTACH;FMTTYPE=image/png:https://www.ocargofoodcourt.com/wp-content/uploads/2025/10/MOJITO-site-web-FB.png
END:VEVENT
BEGIN:VEVENT
DTSTART;TZID=Europe/Paris:20260428T210000
DTEND;TZID=Europe/Paris:20260428T210000
DTSTAMP:20260423T175051
CREATED:20260423T130151Z
LAST-MODIFIED:20260423T130151Z
UID:10006636-1777410000-1777410000@www.ocargofoodcourt.com
SUMMARY:DEMI-FINALE LDC
DESCRIPTION:⚽ LIGUE DES CHAMPIONS ⚽ \nNe manquez pas le choc de la Ligue des Champions ! 🎉 \n💥 PSG – BAYERN 💥 \nNous diffusons le match sur grand écran pour que vous puissiez suivre chaque action dans une ambiance de folie ! 📺🌟 \nVenez encourager votre équipe dans une atmosphère festive et conviviale 😊
URL:https://www.ocargofoodcourt.com/evenement/demi-finale-ldc/
LOCATION:Avignon\, Avignon\, France
CATEGORIES:Avignon
ATTACH;FMTTYPE=image/png:https://www.ocargofoodcourt.com/wp-content/uploads/2026/04/28.04-LDC-FB.png
END:VEVENT
BEGIN:VEVENT
DTSTART;TZID=Europe/Paris:20260428T210000
DTEND;TZID=Europe/Paris:20260428T233000
DTSTAMP:20260423T175051
CREATED:20260316T143104Z
LAST-MODIFIED:20260316T144039Z
UID:10006007-1777410000-1777419000@www.ocargofoodcourt.com
SUMMARY:LIGUE DES CHAMPIONS
DESCRIPTION: Vivez la Ligue des Champions en grand ! Tous les matchs seront diffusés en direct sur écrans géants avec son Ambiance garantie\, supporters réunis et émotions partagées ! Boissons fraîches –  Restauration sur place – 
URL:https://www.ocargofoodcourt.com/evenement/ligue-des-champions-64/2026-04-28/
CATEGORIES:Fréjus
ATTACH;FMTTYPE=image/png:https://www.ocargofoodcourt.com/wp-content/uploads/2025/12/Sport-FB-1.png
END:VEVENT
BEGIN:VEVENT
DTSTART;TZID=Europe/Paris:20260429T200000
DTEND;TZID=Europe/Paris:20260429T200000
DTSTAMP:20260423T175051
CREATED:20260327T144536Z
LAST-MODIFIED:20260327T152501Z
UID:10006044-1777492800-1777492800@www.ocargofoodcourt.com
SUMMARY:SOIRÉE APERO PUNCH
DESCRIPTION:🍹 SOIRÉE APÉRO PUNCH 🍹 \n🍹 Envie de décompresser dans une ambiance chill ? Ce soir\, on vous attend dès 20h pour une Soirée Apéro Punch conviviale ! 🌴✨ \nSavourez un délicieux Punch frais et fruité aux saveurs variées\, parfait pour vous détendre après une longue journée. 🎶
URL:https://www.ocargofoodcourt.com/evenement/soiree-apero-punch-8/2026-04-29/
LOCATION:Avignon\, Avignon\, France
CATEGORIES:Avignon
ATTACH;FMTTYPE=image/png:https://www.ocargofoodcourt.com/wp-content/uploads/2026/03/punch-fb-1.png
END:VEVENT
BEGIN:VEVENT
DTSTART;TZID=Europe/Paris:20260429T200000
DTEND;TZID=Europe/Paris:20260429T200000
DTSTAMP:20260423T175051
CREATED:20260422T152250Z
LAST-MODIFIED:20260422T152250Z
UID:10006635-1777492800-1777492800@www.ocargofoodcourt.com
SUMMARY:QUIZ SPÉCIAL JACSKON
DESCRIPTION: Quiz Spécial Jackson Family ! \n\nÀ l’occasion de la venue des 3T chez nous le 8 mai et de la sortie du biopic de Michael Jackson au cinéma… on vous a préparé un quiz 100% Jackson ! \nDe Michael Jackson à Janet Jackson\, en passant par les mythiques The Jackson 5… replongez dans les hits incontournables\, les clips cultes et les anecdotes qui ont marqué l’histoire de la musique \n\n Pensez à venir avec vos téléphones bien chargés pour participer !\n\n Venez défier vos amis dans une ambiance fun et musicale… et prouvez que vous êtes le vrai fan de la Jackson Family ! 
URL:https://www.ocargofoodcourt.com/evenement/quiz-special-jacskon/
LOCATION:Avignon\, Avignon\, France
CATEGORIES:Avignon
ATTACH;FMTTYPE=image/png:https://www.ocargofoodcourt.com/wp-content/uploads/2026/04/29.04-QUIZ-JACKSON-fb.png
END:VEVENT
BEGIN:VEVENT
DTSTART;TZID=Europe/Paris:20260429T200000
DTEND;TZID=Europe/Paris:20260429T235900
DTSTAMP:20260423T175051
CREATED:20251020T113245Z
LAST-MODIFIED:20251201T151239Z
UID:10004938-1777492800-1777507140@www.ocargofoodcourt.com
SUMMARY:APERO PUNCH
DESCRIPTION:🍹 SOIRÉE APÉRO PUNCH 🍹 \nEnvie de décompresser dans une ambiance chill ? Ce soir\, on vous attend dès 20h pour une Soirée Apéro Punch relaxante et conviviale ! 🌴✨ \nSavourez un délicieux Punch aux saveurs variées et plongez dans une ambiance chill et lounge parfaite pour vous détendre après une longue journée. 🎶 \n🍔FOOD – BAR🍸
URL:https://www.ocargofoodcourt.com/evenement/apero-punch-66/2026-04-29/
LOCATION:La Garde\, ÔCargo Food Court - 477 chemin des plantades\, La Garde\, var\, 83130\, France
CATEGORIES:La Garde
ATTACH;FMTTYPE=image/png:https://www.ocargofoodcourt.com/wp-content/uploads/2025/10/Apero-Punch-site-web-FB.png
END:VEVENT
BEGIN:VEVENT
DTSTART;TZID=Europe/Paris:20260429T210000
DTEND;TZID=Europe/Paris:20260429T210000
DTSTAMP:20260423T175051
CREATED:20260423T134619Z
LAST-MODIFIED:20260423T134619Z
UID:10006637-1777496400-1777496400@www.ocargofoodcourt.com
SUMMARY:DEMI-FINALE LDC
DESCRIPTION:⚽ LIGUE DES CHAMPIONS ⚽ \nNe manquez pas le choc de la Ligue des Champions ! 🎉 \n💥 ATLETICO – ARSENAL 💥 \nNous diffusons le match sur grand écran pour que vous puissiez suivre chaque action dans une ambiance de folie ! 📺🌟 \nVenez encourager votre équipe dans une atmosphère festive et conviviale 😊
URL:https://www.ocargofoodcourt.com/evenement/demi-finale-ldc-2/
LOCATION:Avignon\, Avignon\, France
CATEGORIES:Avignon
ATTACH;FMTTYPE=image/png:https://www.ocargofoodcourt.com/wp-content/uploads/2026/04/29.04-LDC-FB.png
END:VEVENT
BEGIN:VEVENT
DTSTART;TZID=Europe/Paris:20260429T210000
DTEND;TZID=Europe/Paris:20260429T233000
DTSTAMP:20260423T175051
CREATED:20260316T143104Z
LAST-MODIFIED:20260316T144039Z
UID:10006008-1777496400-1777505400@www.ocargofoodcourt.com
SUMMARY:LIGUE DES CHAMPIONS
DESCRIPTION: Vivez la Ligue des Champions en grand ! Tous les matchs seront diffusés en direct sur écrans géants avec son Ambiance garantie\, supporters réunis et émotions partagées ! Boissons fraîches –  Restauration sur place – 
URL:https://www.ocargofoodcourt.com/evenement/ligue-des-champions-64/2026-04-29/
CATEGORIES:Fréjus
ATTACH;FMTTYPE=image/png:https://www.ocargofoodcourt.com/wp-content/uploads/2025/12/Sport-FB-1.png
END:VEVENT
BEGIN:VEVENT
DTSTART;TZID=Europe/Paris:20260430T200000
DTEND;TZID=Europe/Paris:20260430T200000
DTSTAMP:20260423T175051
CREATED:20260320T103845Z
LAST-MODIFIED:20260320T103851Z
UID:10006022-1777579200-1777579200@www.ocargofoodcourt.com
SUMMARY:DJ PARTY ANNÉE 80/90 - DJ REDGE
DESCRIPTION:🎧 DJ PARTY 🎧 \nEnvie de danser sur vos morceaux préférés ? Rejoignez-nous dès 20h pour une Soirée DJ Party explosive ! 🎶🔥 \nDJ REDGE va faire monter la température avec des mix incroyables et les meilleurs hits des année 80/90. C’est le moment idéal pour vous déhancher sur vos musique préférées ! 💃🕺 \nRassemblez vos amis\, laissez-vous emporter par le rythme ! 🎵✨ \n🍔FOOD – BAR🍸
URL:https://www.ocargofoodcourt.com/evenement/dj-party-annee-80-90-dj-redge/
LOCATION:La Garde\, ÔCargo Food Court - 477 chemin des plantades\, La Garde\, var\, 83130\, France
CATEGORIES:La Garde
ATTACH;FMTTYPE=image/png:https://www.ocargofoodcourt.com/wp-content/uploads/2026/03/DJ-30-Avril-FB.png
END:VEVENT
BEGIN:VEVENT
DTSTART;TZID=Europe/Paris:20260430T200000
DTEND;TZID=Europe/Paris:20260430T200000
DTSTAMP:20260423T175051
CREATED:20260327T164429Z
LAST-MODIFIED:20260327T164429Z
UID:10006569-1777579200-1777579200@www.ocargofoodcourt.com
SUMMARY:SOIRÉE CÉLIBATAIRE
DESCRIPTION:💘 SOIRÉE CÉLIBATAIRE – EN COLLAB AVEC BODYHOUSE 💘 \nCélibataire ? Curieux ? Envie de passer une soirée différente\, drôle et décomplexée ? \nChez Ôcargo\, on secoue les cocktails… et les rencontres !  \nAU PROGRAMME : \n🎧 DJ set pour faire monter l’ambiance \n🎲 Animations et jeux pour briser la glace en douceur avec notre animateur Aïmed ! \n📸 Photobooth \n💌 Messagerie de l’amour \n❤️‍🔥 Stand BodyHouse : \nDécouverte de jouets et accessoires\, conseils malins\, discussions sans tabou… et plein de goodies à remporter ! \nEnvie de flirter\, rigoler\, et (peut-être) repartir avec plus qu’un numéro ? 🫢 \nViens vivre une soirée sans prise de tête\, fun et pleine de surprises ! 
URL:https://www.ocargofoodcourt.com/evenement/soiree-celibataire-2/
LOCATION:Avignon\, Avignon\, France
CATEGORIES:Avignon
ATTACH;FMTTYPE=image/png:https://www.ocargofoodcourt.com/wp-content/uploads/2026/03/30.04-Celib-Party-Fb.png
END:VEVENT
BEGIN:VEVENT
DTSTART;TZID=Europe/Paris:20260430T210000
DTEND;TZID=Europe/Paris:20260501T010000
DTSTAMP:20260423T175051
CREATED:20260316T140546Z
LAST-MODIFIED:20260316T140546Z
UID:10005893-1777582800-1777597200@www.ocargofoodcourt.com
SUMMARY:Latin Addict
DESCRIPTION:LATIN ADDICT Meilleur Raggaeton Show d’Europe depuis près de 10 ans !\n\nLatino\, Raggaeton\, Shatta : Ambiance Latino 100% garantie !\n\nShow performers Latino
URL:https://www.ocargofoodcourt.com/evenement/latin-addict/
CATEGORIES:A la une à Fréjus,Fréjus
ATTACH;FMTTYPE=image/png:https://www.ocargofoodcourt.com/wp-content/uploads/2026/03/Autres-animations-2026-03-16T145501.005.png
END:VEVENT
END:VCALENDAR