BEGIN:VCALENDAR
VERSION:2.0
PRODID:-//Ôcargo Foodcourt - ECPv6.15.20//NONSGML v1.0//EN
CALSCALE:GREGORIAN
METHOD:PUBLISH
X-ORIGINAL-URL:https://www.ocargofoodcourt.com
X-WR-CALDESC:Évènements pour Ôcargo Foodcourt
REFRESH-INTERVAL;VALUE=DURATION:PT1H
X-Robots-Tag:noindex
X-PUBLISHED-TTL:PT1H
BEGIN:VTIMEZONE
TZID:Europe/Paris
BEGIN:DAYLIGHT
TZOFFSETFROM:+0100
TZOFFSETTO:+0200
TZNAME:CEST
DTSTART:20250330T010000
END:DAYLIGHT
BEGIN:STANDARD
TZOFFSETFROM:+0200
TZOFFSETTO:+0100
TZNAME:CET
DTSTART:20251026T010000
END:STANDARD
BEGIN:DAYLIGHT
TZOFFSETFROM:+0100
TZOFFSETTO:+0200
TZNAME:CEST
DTSTART:20260329T010000
END:DAYLIGHT
BEGIN:STANDARD
TZOFFSETFROM:+0200
TZOFFSETTO:+0100
TZNAME:CET
DTSTART:20261025T010000
END:STANDARD
BEGIN:DAYLIGHT
TZOFFSETFROM:+0100
TZOFFSETTO:+0200
TZNAME:CEST
DTSTART:20270328T010000
END:DAYLIGHT
BEGIN:STANDARD
TZOFFSETFROM:+0200
TZOFFSETTO:+0100
TZNAME:CET
DTSTART:20271031T010000
END:STANDARD
END:VTIMEZONE
BEGIN:VEVENT
DTSTART;TZID=Europe/Paris:20260416T200000
DTEND;TZID=Europe/Paris:20260416T200000
DTSTAMP:20260419T184018
CREATED:20260327T165013Z
LAST-MODIFIED:20260327T165013Z
UID:10006572-1776369600-1776369600@www.ocargofoodcourt.com
SUMMARY:SOIRÉE DJ
DESCRIPTION:🎧 SOIRÉE DJ 🎧 \nEnvie de danser sur vos morceaux préférés ? Ce soir\, rejoignez-nous dès 20h pour une soirée DJ Party explosive ! 🎶🔥 \nDJ FRANK SAVANNAH va faire monter la température avec des mix incroyables et les meilleurs hits du moment. C’est le moment idéal pour vous déhancher sur vos musiques préférées ! 💃🕺 \nRassemblez vos amis\, laissez-vous emporter par le rythme ! 🎵✨
URL:https://www.ocargofoodcourt.com/evenement/soiree-dj-9/
LOCATION:Avignon\, Avignon\, France
CATEGORIES:Avignon
ATTACH;FMTTYPE=image/png:https://www.ocargofoodcourt.com/wp-content/uploads/2026/03/16.04-DJ-Party-FB-1.png
END:VEVENT
BEGIN:VEVENT
DTSTART;TZID=Europe/Paris:20260415T200000
DTEND;TZID=Europe/Paris:20260415T200000
DTSTAMP:20260419T184018
CREATED:20260327T144536Z
LAST-MODIFIED:20260327T152501Z
UID:10006042-1776283200-1776283200@www.ocargofoodcourt.com
SUMMARY:SOIRÉE APERO PUNCH
DESCRIPTION:🍹 SOIRÉE APÉRO PUNCH 🍹 \n🍹 Envie de décompresser dans une ambiance chill ? Ce soir\, on vous attend dès 20h pour une Soirée Apéro Punch conviviale ! 🌴✨ \nSavourez un délicieux Punch frais et fruité aux saveurs variées\, parfait pour vous détendre après une longue journée. 🎶
URL:https://www.ocargofoodcourt.com/evenement/soiree-apero-punch-8/2026-04-15/
LOCATION:Avignon\, Avignon\, France
CATEGORIES:Avignon
ATTACH;FMTTYPE=image/png:https://www.ocargofoodcourt.com/wp-content/uploads/2026/03/punch-fb-1.png
END:VEVENT
BEGIN:VEVENT
DTSTART;TZID=Europe/Paris:20260414T210000
DTEND;TZID=Europe/Paris:20260414T210000
DTSTAMP:20260419T184018
CREATED:20260327T154243Z
LAST-MODIFIED:20260327T154243Z
UID:10006562-1776200400-1776200400@www.ocargofoodcourt.com
SUMMARY:MATCH LDC
DESCRIPTION:⚽ LIGUE DES CHAMPIONS ⚽ \nNe manquez pas le choc de la Ligue des Champions ! 🎉 \n💥 LIVERPOOL – PSG 💥 \nNous diffusons le match sur grand écran pour que vous puissiez suivre chaque action dans une ambiance de folie ! 📺🌟 \nVenez encourager votre équipe dans une atmosphère festive et conviviale 😊
URL:https://www.ocargofoodcourt.com/evenement/match-ldc-12/
LOCATION:Avignon\, Avignon\, France
CATEGORIES:Avignon
ATTACH;FMTTYPE=image/png:https://www.ocargofoodcourt.com/wp-content/uploads/2026/03/14.04-LDC-FB.png
END:VEVENT
BEGIN:VEVENT
DTSTART;TZID=Europe/Paris:20260414T200000
DTEND;TZID=Europe/Paris:20260414T200000
DTSTAMP:20260419T184018
CREATED:20260327T150319Z
LAST-MODIFIED:20260327T150319Z
UID:10006303-1776196800-1776196800@www.ocargofoodcourt.com
SUMMARY:SOIRÉE MOJITO
DESCRIPTION:🍸 SOIRÉE MOJITO 🍸 \nRafraîchissez votre soirée avec un bon Mojito ! 🌿 Ce soir\, rejoignez-nous dès 20h pour une Soirée Mojito à ne pas manquer ! \nPour seulement 6€\, dégustez votre Mojito préféré\, avec plusieurs saveurs au choix pour satisfaire toutes les envies. 🍓🥭 Que vous soyez team classique\, fruité\, ou exotique\, il y en aura pour tous les goûts ! \nVenez avec vos amis\, détendez-vous\, et profitez dans une ambiance parfaite. 🎉
URL:https://www.ocargofoodcourt.com/evenement/soiree-mojito-13/2026-04-14/
LOCATION:Avignon\, Avignon\, France
CATEGORIES:Avignon
ATTACH;FMTTYPE=image/png:https://www.ocargofoodcourt.com/wp-content/uploads/2026/03/mojito.png
END:VEVENT
BEGIN:VEVENT
DTSTART;TZID=Europe/Paris:20260413T200000
DTEND;TZID=Europe/Paris:20260413T200000
DTSTAMP:20260419T184019
CREATED:20251220T123805Z
LAST-MODIFIED:20251220T123948Z
UID:10005427-1776110400-1776110400@www.ocargofoodcourt.com
SUMMARY:SOIRÉE KARAOKÉ
DESCRIPTION: SOIRÉE KARAOKÉ  \nPrêts à devenir la star de la soirée ? Ce soir\, rendez-vous à 20h pour une soirée Karaoké mémorable !Choisissez vos musiques préférées\, montez sur scène et laissez-vous emporter par l’ambiance ! Que vous soyez chanteur dans l’âme ou juste là pour vous amuser\, cette soirée est faite pour vous ! Et pour couronner le tout\, chaque lundi\, la bière est à 2€ !
URL:https://www.ocargofoodcourt.com/evenement/soiree-karaoke-162/2026-04-13/
LOCATION:Avignon\, Avignon\, France
CATEGORIES:Avignon
ATTACH;FMTTYPE=image/png:https://www.ocargofoodcourt.com/wp-content/uploads/2025/12/Karaoke-fb.png
END:VEVENT
BEGIN:VEVENT
DTSTART;TZID=Europe/Paris:20260411T200000
DTEND;TZID=Europe/Paris:20260411T200000
DTSTAMP:20260419T184019
CREATED:20260327T145949Z
LAST-MODIFIED:20260327T145949Z
UID:10006301-1775937600-1775937600@www.ocargofoodcourt.com
SUMMARY:SOIRÉE DISCO
DESCRIPTION:🕺✨ SOIRÉE DISCO ✨🕺 \nSortez les paillettes\, les pantalons pattes d’eph et vos meilleurs déhanchés… 🪩🔥 \n🎤 Namas Pamous en concert live jusqu’à 22h30 pour lancer la vibe disco comme il se doit\n🎧 & DJ Julien K aux platines pour vous faire danser toute la nuit \n💿 Funk\, disco\, hits incontournables… une seule mission\, mettre le feu au dancefloor ! \n💥 Prêt à remonter le temps et faire trembler la piste ?
URL:https://www.ocargofoodcourt.com/evenement/soiree-disco-2/
LOCATION:Avignon\, Avignon\, France
CATEGORIES:Avignon
ATTACH;FMTTYPE=image/png:https://www.ocargofoodcourt.com/wp-content/uploads/2026/03/11.04-Concert-Fb.png
END:VEVENT
BEGIN:VEVENT
DTSTART;TZID=Europe/Paris:20260410T200000
DTEND;TZID=Europe/Paris:20260410T200000
DTSTAMP:20260419T184019
CREATED:20260327T144148Z
LAST-MODIFIED:20260327T144649Z
UID:10006040-1775851200-1775851200@www.ocargofoodcourt.com
SUMMARY:SOIRÉE CONCERT & DJ
DESCRIPTION:🎸 SOIRÉE CONCERT LIVE & DJ 🎧 \nPréparez-vous pour une soirée inoubliable !  \nRejoignez-nous dès 20h pour un Concert Live avec le groupe BUCKROGERS\, un groupe pop-rock énergique qui va enflammer la scène ! 🎶🔥 \nEnsuite\, à partir de 22h30\, laissez-vous emporter par les beats dynamiques de DJ STÉFAN DEL CORSO  pour une DJ Party mémorable ! 💃🕺 \nRassemblez vos amis et vivez une soirée pleine de musique\, de danse et de bonne humeur ! 🎵🎉 \nEt n’oubliez pas\, tenue correcte exigée ! 👕
URL:https://www.ocargofoodcourt.com/evenement/soiree-concert-live-dj-40/
LOCATION:Avignon\, Avignon\, France
CATEGORIES:Avignon
ATTACH;FMTTYPE=image/png:https://www.ocargofoodcourt.com/wp-content/uploads/2026/03/10.04-Concert-Fb.png
END:VEVENT
BEGIN:VEVENT
DTSTART;TZID=Europe/Paris:20260409T200000
DTEND;TZID=Europe/Paris:20260409T200000
DTSTAMP:20260419T184019
CREATED:20260327T143727Z
LAST-MODIFIED:20260327T144244Z
UID:10006039-1775764800-1775764800@www.ocargofoodcourt.com
SUMMARY:SOIRÉE DJ
DESCRIPTION:🎧 SOIRÉE DJ 🎧 \nEnvie de danser sur vos morceaux préférés ? Ce soir\, rejoignez-nous dès 20h pour une soirée DJ Party explosive ! 🎶🔥 \nDJ CYRIL FLIX va faire monter la température avec des mix incroyables et les meilleurs hits du moment. C’est le moment idéal pour vous déhancher sur vos musiques préférées ! 💃🕺 \nRassemblez vos amis\, laissez-vous emporter par le rythme ! 🎵✨
URL:https://www.ocargofoodcourt.com/evenement/soiree-dj-6/
LOCATION:Avignon\, Avignon\, France
CATEGORIES:Avignon
ATTACH;FMTTYPE=image/png:https://www.ocargofoodcourt.com/wp-content/uploads/2026/03/09.04-DJ-Party-FB.png
END:VEVENT
BEGIN:VEVENT
DTSTART;TZID=Europe/Paris:20260408T210000
DTEND;TZID=Europe/Paris:20260408T230000
DTSTAMP:20260419T184019
CREATED:20260327T142855Z
LAST-MODIFIED:20260327T142855Z
UID:10006038-1775682000-1775689200@www.ocargofoodcourt.com
SUMMARY:MATCH LDC
DESCRIPTION:⚽ LIGUE DES CHAMPIONS ⚽ \nNe manquez pas le choc de la Ligue des Champions ! 🎉 \n💥 PSG – LIVERPOOL 💥 \nNous diffusons le match sur grand écran pour que vous puissiez suivre chaque action dans une ambiance de folie ! 📺🌟 \nVenez encourager votre équipe dans une atmosphère festive et conviviale 😊
URL:https://www.ocargofoodcourt.com/evenement/match-ldc-11/
LOCATION:Avignon\, Avignon\, France
CATEGORIES:Avignon
ATTACH;FMTTYPE=image/png:https://www.ocargofoodcourt.com/wp-content/uploads/2026/03/08.04-LDC-FB.png
END:VEVENT
BEGIN:VEVENT
DTSTART;TZID=Europe/Paris:20260408T200000
DTEND;TZID=Europe/Paris:20260408T200000
DTSTAMP:20260419T184019
CREATED:20260327T144536Z
LAST-MODIFIED:20260327T152501Z
UID:10006041-1775678400-1775678400@www.ocargofoodcourt.com
SUMMARY:SOIRÉE APERO PUNCH
DESCRIPTION:🍹 SOIRÉE APÉRO PUNCH 🍹 \n🍹 Envie de décompresser dans une ambiance chill ? Ce soir\, on vous attend dès 20h pour une Soirée Apéro Punch conviviale ! 🌴✨ \nSavourez un délicieux Punch frais et fruité aux saveurs variées\, parfait pour vous détendre après une longue journée. 🎶
URL:https://www.ocargofoodcourt.com/evenement/soiree-apero-punch-8/2026-04-08/
LOCATION:Avignon\, Avignon\, France
CATEGORIES:Avignon
ATTACH;FMTTYPE=image/png:https://www.ocargofoodcourt.com/wp-content/uploads/2026/03/punch-fb-1.png
END:VEVENT
BEGIN:VEVENT
DTSTART;TZID=Europe/Paris:20260407T200000
DTEND;TZID=Europe/Paris:20260407T200000
DTSTAMP:20260419T184019
CREATED:20260327T150319Z
LAST-MODIFIED:20260327T150319Z
UID:10006302-1775592000-1775592000@www.ocargofoodcourt.com
SUMMARY:SOIRÉE MOJITO
DESCRIPTION:🍸 SOIRÉE MOJITO 🍸 \nRafraîchissez votre soirée avec un bon Mojito ! 🌿 Ce soir\, rejoignez-nous dès 20h pour une Soirée Mojito à ne pas manquer ! \nPour seulement 6€\, dégustez votre Mojito préféré\, avec plusieurs saveurs au choix pour satisfaire toutes les envies. 🍓🥭 Que vous soyez team classique\, fruité\, ou exotique\, il y en aura pour tous les goûts ! \nVenez avec vos amis\, détendez-vous\, et profitez dans une ambiance parfaite. 🎉
URL:https://www.ocargofoodcourt.com/evenement/soiree-mojito-13/2026-04-07/
LOCATION:Avignon\, Avignon\, France
CATEGORIES:Avignon
ATTACH;FMTTYPE=image/png:https://www.ocargofoodcourt.com/wp-content/uploads/2026/03/mojito.png
END:VEVENT
BEGIN:VEVENT
DTSTART;TZID=Europe/Paris:20260407T200000
DTEND;TZID=Europe/Paris:20260407T200000
DTSTAMP:20260419T184019
CREATED:20260327T140231Z
LAST-MODIFIED:20260327T140241Z
UID:10006037-1775592000-1775592000@www.ocargofoodcourt.com
SUMMARY:SOIRÉE JEUX
DESCRIPTION:🎲SOIRÉE JEUX🎲 \nVenez vous retrouver entre amis ou en famille autour d’un bon jeu de société ! \nEn partenariat avec « La Tricherie ».🎲 \nProfitez d’une multitude de jeux de société (Time’s Up\, Jungle Speed\, Twister et bien d’autres) et d’une animation Loup Garou. 😋 \nEt pour couronner le tout\, comme chaque mardi profitez de notre mojito à 6€ 🍸
URL:https://www.ocargofoodcourt.com/evenement/soiree-jeux-49/
LOCATION:Avignon\, Avignon\, France
CATEGORIES:Avignon
ATTACH;FMTTYPE=image/png:https://www.ocargofoodcourt.com/wp-content/uploads/2026/03/07.04-MOJITO-JEUX-FB.png
END:VEVENT
BEGIN:VEVENT
DTSTART;TZID=Europe/Paris:20260406T200000
DTEND;TZID=Europe/Paris:20260406T200000
DTSTAMP:20260419T184019
CREATED:20251220T123805Z
LAST-MODIFIED:20251220T123948Z
UID:10005426-1775505600-1775505600@www.ocargofoodcourt.com
SUMMARY:SOIRÉE KARAOKÉ
DESCRIPTION: SOIRÉE KARAOKÉ  \nPrêts à devenir la star de la soirée ? Ce soir\, rendez-vous à 20h pour une soirée Karaoké mémorable !Choisissez vos musiques préférées\, montez sur scène et laissez-vous emporter par l’ambiance ! Que vous soyez chanteur dans l’âme ou juste là pour vous amuser\, cette soirée est faite pour vous ! Et pour couronner le tout\, chaque lundi\, la bière est à 2€ !
URL:https://www.ocargofoodcourt.com/evenement/soiree-karaoke-162/2026-04-06/
LOCATION:Avignon\, Avignon\, France
CATEGORIES:Avignon
ATTACH;FMTTYPE=image/png:https://www.ocargofoodcourt.com/wp-content/uploads/2025/12/Karaoke-fb.png
END:VEVENT
BEGIN:VEVENT
DTSTART;VALUE=DATE:20260406
DTEND;VALUE=DATE:20260407
DTSTAMP:20260419T184019
CREATED:20260401T170254Z
LAST-MODIFIED:20260401T170254Z
UID:10006574-1775433600-1775519999@www.ocargofoodcourt.com
SUMMARY:FERMETURE EXCEPTIONELLE
DESCRIPTION:Nous sommes fermés aujourd’hui ! \nNous vous souhaitons des joyeuses fêtes de Pâques et nous vous retrouvons dès demain !
URL:https://www.ocargofoodcourt.com/evenement/fermeture-exceptionelle/
LOCATION:Avignon\, Avignon\, France
CATEGORIES:Avignon
ATTACH;FMTTYPE=image/png:https://www.ocargofoodcourt.com/wp-content/uploads/2026/04/INFORMATION-fermeture-fb.png
END:VEVENT
BEGIN:VEVENT
DTSTART;TZID=Europe/Paris:20260404T200000
DTEND;TZID=Europe/Paris:20260404T200000
DTSTAMP:20260419T184019
CREATED:20260224T160139Z
LAST-MODIFIED:20260224T160139Z
UID:10005875-1775332800-1775332800@www.ocargofoodcourt.com
SUMMARY:SOIRÉE CONCERT & DJ
DESCRIPTION:🎸 SOIRÉE CONCERT LIVE & DJ 🎧 \nPréparez-vous pour une soirée inoubliable !  \nRejoignez-nous dès 20h pour un Concert Live avec le groupe NO NAME\, un groupe pop-rock énergique qui va enflammer la scène ! 🎶🔥 \nEnsuite\, à partir de 22h30\, laissez-vous emporter par les beats dynamiques de DJ JB pour une DJ Party mémorable ! 💃🕺 \nRassemblez vos amis et vivez une soirée pleine de musique\, de danse et de bonne humeur ! 🎵🎉 \nEt n’oubliez pas\, tenue correcte exigée ! 👕
URL:https://www.ocargofoodcourt.com/evenement/soiree-concert-dj-13/
LOCATION:Avignon\, Avignon\, France
CATEGORIES:Avignon
ATTACH;FMTTYPE=image/png:https://www.ocargofoodcourt.com/wp-content/uploads/2026/02/04.04-Concert-Fb.png
END:VEVENT
BEGIN:VEVENT
DTSTART;TZID=Europe/Paris:20260403T200000
DTEND;TZID=Europe/Paris:20260403T200000
DTSTAMP:20260419T184019
CREATED:20260224T155600Z
LAST-MODIFIED:20260224T155657Z
UID:10005874-1775246400-1775246400@www.ocargofoodcourt.com
SUMMARY:SOIRÉE CONCERT & DJ
DESCRIPTION:🎸 SOIRÉE CONCERT LIVE & DJ 🎧 \nPréparez-vous pour une soirée inoubliable !  \nRejoignez-nous dès 20h pour un Concert Live avec le groupe SLOW RUSH un groupe pop-rock énergique qui va enflammer la scène ! 🎶🔥 \nEnsuite\, à partir de 22h30\, laissez-vous emporter par les beats dynamiques de DJ MV pour une DJ Party mémorable ! 💃🕺 \nRassemblez vos amis et vivez une soirée pleine de musique\, de danse et de bonne humeur ! 🎵🎉 \nEt n’oubliez pas\, tenue correcte exigée ! 👕
URL:https://www.ocargofoodcourt.com/evenement/soiree-concert-dj-12/
LOCATION:Avignon\, Avignon\, France
CATEGORIES:Avignon
ATTACH;FMTTYPE=image/png:https://www.ocargofoodcourt.com/wp-content/uploads/2026/02/03.04-Concert-Fb.png
END:VEVENT
BEGIN:VEVENT
DTSTART;TZID=Europe/Paris:20260402T200000
DTEND;TZID=Europe/Paris:20260402T200000
DTSTAMP:20260419T184019
CREATED:20260224T155216Z
LAST-MODIFIED:20260227T163254Z
UID:10005873-1775160000-1775160000@www.ocargofoodcourt.com
SUMMARY:SOIRÉE DJ
DESCRIPTION:🎧 SOIRÉE DJ 🎧 \nEnvie de danser sur vos morceaux préférés ? Ce soir\, rejoignez-nous dès 20h pour une soirée DJ Party explosive ! 🎶🔥 \nDJ KARMO va faire monter la température avec des mix incroyables et les meilleurs hits du moment. C’est le moment idéal pour vous déhancher sur vos musiques préférées ! 💃🕺 \nRassemblez vos amis\, laissez-vous emporter par le rythme ! 🎵✨
URL:https://www.ocargofoodcourt.com/evenement/soiree-dj-5/
LOCATION:Avignon\, Avignon\, France
CATEGORIES:Avignon
ATTACH;FMTTYPE=image/png:https://www.ocargofoodcourt.com/wp-content/uploads/2026/02/02.04-DJ-Party-FB.png
END:VEVENT
BEGIN:VEVENT
DTSTART;TZID=Europe/Paris:20260401T200000
DTEND;TZID=Europe/Paris:20260401T200000
DTSTAMP:20260419T184019
CREATED:20260224T155022Z
LAST-MODIFIED:20260224T155022Z
UID:10005872-1775073600-1775073600@www.ocargofoodcourt.com
SUMMARY:SOIRÉE SBK
DESCRIPTION:💃SOIRÉE SBK💃 \nPréparez-vous pour une soirée SBK\, avec Jérémy qui va mettre le feu à la piste🔥 \nSalsa\, bachata\, kizomba… Laissez-vous porter par le rythme et partagez un moment inoubliable ! \nEt comme chaque mercredi\, le punch à 7€ pour accompagner vos pas de danse ! 🍹
URL:https://www.ocargofoodcourt.com/evenement/soiree-sbk-6/
LOCATION:Avignon\, Avignon\, France
CATEGORIES:Avignon
ATTACH;FMTTYPE=image/png:https://www.ocargofoodcourt.com/wp-content/uploads/2026/02/01.04-Punch-sbk-fb.png
END:VEVENT
BEGIN:VEVENT
DTSTART;TZID=Europe/Paris:20260331T200000
DTEND;TZID=Europe/Paris:20260331T200000
DTSTAMP:20260419T184019
CREATED:20260224T154822Z
LAST-MODIFIED:20260224T154822Z
UID:10005871-1774987200-1774987200@www.ocargofoodcourt.com
SUMMARY:SOIRÉE QUIZ ANNÉES 80
DESCRIPTION:🎤✨ SOIRÉE QUIZ ANNÉES 80 💿🎶 \nFans des années 80\, amateurs de tubes cultes et rois du refrain par cœur\, cette soirée est faite pour vous ! Venez tester vos connaissances avec un quiz interactif 100% musique des 80’s. 🎵 \nSaurez-vous reconnaître un hit dès les premières notes ? Retrouver l’artiste derrière un titre mythique ? Compléter les paroles sans hésiter ? 🧠✨ \n⚠️ Venez avec votre téléphone bien chargé 📱\, il vous sera indispensable pour participer ! \nAmbiance rétro\, compétition et fous rires garantis… Qui sera le champion des années 80 ? 🏆🔥 \nEt comme chaque mardi\, profitez de notre mojito à 6€ 🍸
URL:https://www.ocargofoodcourt.com/evenement/soiree-quiz-annees-80/
LOCATION:Avignon\, Avignon\, France
CATEGORIES:Avignon
ATTACH;FMTTYPE=image/png:https://www.ocargofoodcourt.com/wp-content/uploads/2026/02/31.03-Quiz-80s-Fb.png
END:VEVENT
BEGIN:VEVENT
DTSTART;TZID=Europe/Paris:20260330T200000
DTEND;TZID=Europe/Paris:20260330T200000
DTSTAMP:20260419T184019
CREATED:20251220T123805Z
LAST-MODIFIED:20251220T123948Z
UID:10005425-1774900800-1774900800@www.ocargofoodcourt.com
SUMMARY:SOIRÉE KARAOKÉ
DESCRIPTION: SOIRÉE KARAOKÉ  \nPrêts à devenir la star de la soirée ? Ce soir\, rendez-vous à 20h pour une soirée Karaoké mémorable !Choisissez vos musiques préférées\, montez sur scène et laissez-vous emporter par l’ambiance ! Que vous soyez chanteur dans l’âme ou juste là pour vous amuser\, cette soirée est faite pour vous ! Et pour couronner le tout\, chaque lundi\, la bière est à 2€ !
URL:https://www.ocargofoodcourt.com/evenement/soiree-karaoke-162/2026-03-30/
LOCATION:Avignon\, Avignon\, France
CATEGORIES:Avignon
ATTACH;FMTTYPE=image/png:https://www.ocargofoodcourt.com/wp-content/uploads/2025/12/Karaoke-fb.png
END:VEVENT
BEGIN:VEVENT
DTSTART;TZID=Europe/Paris:20260328T200000
DTEND;TZID=Europe/Paris:20260328T200000
DTSTAMP:20260419T184019
CREATED:20260224T153556Z
LAST-MODIFIED:20260224T153556Z
UID:10005870-1774728000-1774728000@www.ocargofoodcourt.com
SUMMARY:SOIRÉE CONCERT & DJ
DESCRIPTION:🎸 SOIRÉE CONCERT LIVE & DJ 🎧 \nPréparez-vous pour une soirée inoubliable !  \nRejoignez-nous dès 20h pour un Concert Live avec le groupe BIRMINGHAM\, un groupe pop-rock énergique qui va enflammer la scène ! 🎶🔥 \nEnsuite\, à partir de 22h30\, laissez-vous emporter par les beats dynamiques de DJ LUCAS B pour une DJ Party mémorable ! 💃🕺 \nRassemblez vos amis et vivez une soirée pleine de musique\, de danse et de bonne humeur ! 🎵🎉 \nEt n’oubliez pas\, tenue correcte exigée ! 👕
URL:https://www.ocargofoodcourt.com/evenement/soiree-concert-dj-11/
LOCATION:Avignon\, Avignon\, France
CATEGORIES:Avignon
ATTACH;FMTTYPE=image/png:https://www.ocargofoodcourt.com/wp-content/uploads/2026/02/28.03-Concert-Fb.png
END:VEVENT
BEGIN:VEVENT
DTSTART;TZID=Europe/Paris:20260327T200000
DTEND;TZID=Europe/Paris:20260327T200000
DTSTAMP:20260419T184019
CREATED:20260224T152555Z
LAST-MODIFIED:20260224T153415Z
UID:10005869-1774641600-1774641600@www.ocargofoodcourt.com
SUMMARY:SOIRÉE CONCERT & DJ
DESCRIPTION:🎸 SOIRÉE CONCERT LIVE & DJ 🎧 \nPréparez-vous pour une soirée inoubliable !  \nRejoignez-nous dès 20h pour un Concert Live avec le groupe COVERAGE\, un groupe pop-rock énergique qui va enflammer la scène ! 🎶🔥 \nEnsuite\, à partir de 22h30\, laissez-vous emporter par les beats dynamiques de DJ KARMO pour une DJ Party mémorable ! 💃🕺 \nRassemblez vos amis et vivez une soirée pleine de musique\, de danse et de bonne humeur ! 🎵🎉 \nEt n’oubliez pas\, tenue correcte exigée ! 👕
URL:https://www.ocargofoodcourt.com/evenement/soiree-concert-dj-10/
LOCATION:Avignon\, Avignon\, France
CATEGORIES:Avignon
ATTACH;FMTTYPE=image/png:https://www.ocargofoodcourt.com/wp-content/uploads/2026/02/27.03-Concert-Fb.png
END:VEVENT
BEGIN:VEVENT
DTSTART;TZID=Europe/Paris:20260326T210000
DTEND;TZID=Europe/Paris:20260326T210000
DTSTAMP:20260419T184019
CREATED:20260224T152259Z
LAST-MODIFIED:20260224T152259Z
UID:10005868-1774558800-1774558800@www.ocargofoodcourt.com
SUMMARY:MATCH DE FOOT AMICAL
DESCRIPTION:⚽ MATCH AMICAL ⚽ \nNe manquez pas ce match amical ! 🎉 \n💥 BRÉSIL – FRANCE 💥 \nNous diffusons le match sur grand écran pour que vous puissiez suivre chaque action dans une ambiance de folie ! 📺🌟 \nVenez encourager votre équipe dans une atmosphère festive et conviviale 😊
URL:https://www.ocargofoodcourt.com/evenement/match-de-foot-amical/
LOCATION:Avignon\, Avignon\, France
CATEGORIES:Avignon
ATTACH;FMTTYPE=image/png:https://www.ocargofoodcourt.com/wp-content/uploads/2026/02/26.03-Match-amical-fb.png
END:VEVENT
BEGIN:VEVENT
DTSTART;TZID=Europe/Paris:20260326T200000
DTEND;TZID=Europe/Paris:20260326T200000
DTSTAMP:20260419T184019
CREATED:20260224T151635Z
LAST-MODIFIED:20260224T151635Z
UID:10005867-1774555200-1774555200@www.ocargofoodcourt.com
SUMMARY:SOIRÉE 100% URBAINE
DESCRIPTION:🎧 SOIRÉE 100% URBAINE 🔥\n Ce soir\, vibrez sur du rap\, RnB\, afro & reggaeton avec DJ Abi aux platines ! 🎶\n Une ambiance explosive et des hits non-stop pour vous faire danser toute la nuit. 💣 \nRassemblez vos amis\, détendez-vous et laissez-vous emporter par cette ambiance unique !
URL:https://www.ocargofoodcourt.com/evenement/soiree-100-urbaine-5/
LOCATION:Avignon\, Avignon\, France
CATEGORIES:Avignon
ATTACH;FMTTYPE=image/png:https://www.ocargofoodcourt.com/wp-content/uploads/2026/02/26.03-Soiee-urbaine-Fb.png
END:VEVENT
BEGIN:VEVENT
DTSTART;TZID=Europe/Paris:20260325T200000
DTEND;TZID=Europe/Paris:20260325T200000
DTSTAMP:20260419T184019
CREATED:20260224T151403Z
LAST-MODIFIED:20260224T151403Z
UID:10005866-1774468800-1774468800@www.ocargofoodcourt.com
SUMMARY:SOIRÉE SBK
DESCRIPTION:💃SOIRÉE SBK💃 \nPréparez-vous pour une soirée SBK\, avec Jérémy qui va mettre le feu à la piste🔥 \nSalsa\, bachata\, kizomba… Laissez-vous porter par le rythme et partagez un moment inoubliable ! \nEt comme chaque mercredi\, le punch à 7€ pour accompagner vos pas de danse ! 🍹
URL:https://www.ocargofoodcourt.com/evenement/soiree-sbk-5/
LOCATION:Avignon\, Avignon\, France
CATEGORIES:Avignon
ATTACH;FMTTYPE=image/png:https://www.ocargofoodcourt.com/wp-content/uploads/2026/02/25.03-Punch-sbk-fb.png
END:VEVENT
BEGIN:VEVENT
DTSTART;TZID=Europe/Paris:20260324T200000
DTEND;TZID=Europe/Paris:20260324T200000
DTSTAMP:20260419T184019
CREATED:20260224T145937Z
LAST-MODIFIED:20260224T145937Z
UID:10005865-1774382400-1774382400@www.ocargofoodcourt.com
SUMMARY:SOIRÉE JEUX & MOJITO
DESCRIPTION:🎲SOIRÉE JEUX🎲 \nVenez vous retrouver entre amis ou en famille autour d’un bon jeu de société ! \nEn partenariat avec « La Tricherie ».🎲 \nProfitez d’une multitude de jeux de société (Time’s Up\, Jungle Speed\, Twister et bien d’autres) et d’une animation Loup Garou. 😋 \nEt pour couronner le tout\, comme chaque mardi profitez de notre mojito à 6€ 🍸
URL:https://www.ocargofoodcourt.com/evenement/soiree-jeux-mojito-4/
LOCATION:Avignon\, Avignon\, France
CATEGORIES:Avignon
ATTACH;FMTTYPE=image/png:https://www.ocargofoodcourt.com/wp-content/uploads/2026/02/24.03-MOJITO-JEUX-FB.png
END:VEVENT
BEGIN:VEVENT
DTSTART;TZID=Europe/Paris:20260323T200000
DTEND;TZID=Europe/Paris:20260323T200000
DTSTAMP:20260419T184019
CREATED:20251220T123805Z
LAST-MODIFIED:20251220T123948Z
UID:10005424-1774296000-1774296000@www.ocargofoodcourt.com
SUMMARY:SOIRÉE KARAOKÉ
DESCRIPTION: SOIRÉE KARAOKÉ  \nPrêts à devenir la star de la soirée ? Ce soir\, rendez-vous à 20h pour une soirée Karaoké mémorable !Choisissez vos musiques préférées\, montez sur scène et laissez-vous emporter par l’ambiance ! Que vous soyez chanteur dans l’âme ou juste là pour vous amuser\, cette soirée est faite pour vous ! Et pour couronner le tout\, chaque lundi\, la bière est à 2€ !
URL:https://www.ocargofoodcourt.com/evenement/soiree-karaoke-162/2026-03-23/
LOCATION:Avignon\, Avignon\, France
CATEGORIES:Avignon
ATTACH;FMTTYPE=image/png:https://www.ocargofoodcourt.com/wp-content/uploads/2025/12/Karaoke-fb.png
END:VEVENT
BEGIN:VEVENT
DTSTART;TZID=Europe/Paris:20260321T200000
DTEND;TZID=Europe/Paris:20260321T200000
DTSTAMP:20260419T184019
CREATED:20260225T144331Z
LAST-MODIFIED:20260305T163014Z
UID:10005877-1774123200-1774123200@www.ocargofoodcourt.com
SUMMARY:CHÉRIE FEEL GOOD PARTY
DESCRIPTION:🎉 CHÉRIE FEEL-GOOD PARTY 🎧 \nPréparez-vous à revivre vos plus grands souvenirs avec la team Chérie FM aux platines ! \nBack to 2000 : hits cultes\, vibes rétro et ambiance survoltée au programme ! \n👯‍♀️ Que vous soyez en famille ou entre amis\, sortez vos plus beaux looks et venez danser jusqu’au bout de la nuit ! \n✨ Tenue correcte exigée
URL:https://www.ocargofoodcourt.com/evenement/cherie-feel-good-party/
LOCATION:Avignon\, Avignon\, France
CATEGORIES:Avignon
ATTACH;FMTTYPE=image/png:https://www.ocargofoodcourt.com/wp-content/uploads/2026/02/21.03-cherie-FM-1.png
END:VEVENT
BEGIN:VEVENT
DTSTART;TZID=Europe/Paris:20260321T190000
DTEND;TZID=Europe/Paris:20260321T190000
DTSTAMP:20260419T184019
CREATED:20260225T143843Z
LAST-MODIFIED:20260225T143843Z
UID:10005876-1774119600-1774119600@www.ocargofoodcourt.com
SUMMARY:MOTO GP
DESCRIPTION:🏁 Prêts pour le départ ? \nChez ÔCargo Avignon\, on diffuse le MotoGP en direct sur écrans géants ! 🏍️🔥 \nVenez vibrer à chaque virage\, chaque dépassement\, chaque accélération… le tout avec une bonne boisson fraîche et l’ambiance ÔCargo ! 😎
URL:https://www.ocargofoodcourt.com/evenement/moto-gp/
LOCATION:Avignon\, Avignon\, France
CATEGORIES:Avignon
ATTACH;FMTTYPE=image/png:https://www.ocargofoodcourt.com/wp-content/uploads/2026/02/21.03-MOTO-GP-FB.png
END:VEVENT
BEGIN:VEVENT
DTSTART;TZID=Europe/Paris:20260320T200000
DTEND;TZID=Europe/Paris:20260320T200000
DTSTAMP:20260419T184019
CREATED:20260224T143231Z
LAST-MODIFIED:20260224T143231Z
UID:10005863-1774036800-1774036800@www.ocargofoodcourt.com
SUMMARY:SOIRÉE VIN
DESCRIPTION:TOUS LES 20 DU MOIS : SOIRÉE VIN CHEZ ÔCARGO ! 🍷 \nRejoignez-nous pour une soirée dédiée aux amateurs de bon vin dans une ambiance conviviale et chaleureuse. \nL’offre du mois :\nProfitez de votre bouteille de DIVINES RESTANQUES à seulement 10€ !  \n// START 20H //🍷 \nEt n’oubliez pas\, tenue correcte exigée ! 
URL:https://www.ocargofoodcourt.com/evenement/soiree-vin-30/
LOCATION:Avignon\, Avignon\, France
CATEGORIES:Avignon
END:VEVENT
END:VCALENDAR