BEGIN:VCALENDAR
VERSION:2.0
PRODID:-//Ôcargo Foodcourt - ECPv6.15.20//NONSGML v1.0//EN
CALSCALE:GREGORIAN
METHOD:PUBLISH
X-ORIGINAL-URL:https://www.ocargofoodcourt.com
X-WR-CALDESC:Évènements pour Ôcargo Foodcourt
REFRESH-INTERVAL;VALUE=DURATION:PT1H
X-Robots-Tag:noindex
X-PUBLISHED-TTL:PT1H
BEGIN:VTIMEZONE
TZID:Europe/Paris
BEGIN:DAYLIGHT
TZOFFSETFROM:+0100
TZOFFSETTO:+0200
TZNAME:CEST
DTSTART:20240331T010000
END:DAYLIGHT
BEGIN:STANDARD
TZOFFSETFROM:+0200
TZOFFSETTO:+0100
TZNAME:CET
DTSTART:20241027T010000
END:STANDARD
BEGIN:DAYLIGHT
TZOFFSETFROM:+0100
TZOFFSETTO:+0200
TZNAME:CEST
DTSTART:20250330T010000
END:DAYLIGHT
BEGIN:STANDARD
TZOFFSETFROM:+0200
TZOFFSETTO:+0100
TZNAME:CET
DTSTART:20251026T010000
END:STANDARD
BEGIN:DAYLIGHT
TZOFFSETFROM:+0100
TZOFFSETTO:+0200
TZNAME:CEST
DTSTART:20260329T010000
END:DAYLIGHT
BEGIN:STANDARD
TZOFFSETFROM:+0200
TZOFFSETTO:+0100
TZNAME:CET
DTSTART:20261025T010000
END:STANDARD
END:VTIMEZONE
BEGIN:VEVENT
DTSTART;TZID=Europe/Paris:20250308T200000
DTEND;TZID=Europe/Paris:20250309T010000
DTSTAMP:20260423T075352
CREATED:20250307T121015Z
LAST-MODIFIED:20250307T161037Z
UID:10003245-1741464000-1741482000@www.ocargofoodcourt.com
SUMMARY:Soirée Concert Live et DJ
DESCRIPTION:🎸 SOIRÉE CONCERT LIVE & DJ 🎧\nPréparez-vous pour une soirée inoubliable ! Ce soir\, rejoignez-nous dès 20h pour un Concert Live avec le groupe WARM UP\, un groupe énergique qui va enflammer la scène ! 🎶🔥\nEnsuite\, à partir de 22h30\, laissez-vous emporter par les beats dynamiques de DJ DAVID pour une DJ Party mémorable ! 💃🕺\nRassemblez vos amis et vivez une soirée pleine de musique\, de danse et de bonne humeur ! 🎵🎉\nEt n’oubliez pas\, tenue correcte exigée ! 👕
URL:https://www.ocargofoodcourt.com/evenement/soiree-concert-live-et-dj/
LOCATION:Avignon\, Avignon\, France
CATEGORIES:Avignon
ATTACH;FMTTYPE=image/png:https://www.ocargofoodcourt.com/wp-content/uploads/2025/03/08.03-Concert-Fb.png
END:VEVENT
END:VCALENDAR