BEGIN:VCALENDAR
VERSION:2.0
PRODID:-//Ôcargo Foodcourt - ECPv6.15.20//NONSGML v1.0//EN
CALSCALE:GREGORIAN
METHOD:PUBLISH
X-ORIGINAL-URL:https://www.ocargofoodcourt.com
X-WR-CALDESC:Évènements pour Ôcargo Foodcourt
REFRESH-INTERVAL;VALUE=DURATION:PT1H
X-Robots-Tag:noindex
X-PUBLISHED-TTL:PT1H
BEGIN:VTIMEZONE
TZID:Europe/Paris
BEGIN:DAYLIGHT
TZOFFSETFROM:+0100
TZOFFSETTO:+0200
TZNAME:CEST
DTSTART:20250330T010000
END:DAYLIGHT
BEGIN:STANDARD
TZOFFSETFROM:+0200
TZOFFSETTO:+0100
TZNAME:CET
DTSTART:20251026T010000
END:STANDARD
BEGIN:DAYLIGHT
TZOFFSETFROM:+0100
TZOFFSETTO:+0200
TZNAME:CEST
DTSTART:20260329T010000
END:DAYLIGHT
BEGIN:STANDARD
TZOFFSETFROM:+0200
TZOFFSETTO:+0100
TZNAME:CET
DTSTART:20261025T010000
END:STANDARD
BEGIN:DAYLIGHT
TZOFFSETFROM:+0100
TZOFFSETTO:+0200
TZNAME:CEST
DTSTART:20270328T010000
END:DAYLIGHT
BEGIN:STANDARD
TZOFFSETFROM:+0200
TZOFFSETTO:+0100
TZNAME:CET
DTSTART:20271031T010000
END:STANDARD
END:VTIMEZONE
BEGIN:VEVENT
DTSTART;TZID=Europe/Paris:20260423T200000
DTEND;TZID=Europe/Paris:20260423T200000
DTSTAMP:20260420T013333
CREATED:20260327T163233Z
LAST-MODIFIED:20260327T163233Z
UID:10006567-1776974400-1776974400@www.ocargofoodcourt.com
SUMMARY:SOIRÉE DJ
DESCRIPTION:🎧 SOIRÉE DJ 🎧 \nEnvie de danser sur vos morceaux préférés ? Ce soir\, rejoignez-nous dès 20h pour une soirée DJ Party explosive ! 🎶🔥 \nDJ KARMO va faire monter la température avec des mix incroyables et les meilleurs hits du moment. C’est le moment idéal pour vous déhancher sur vos musiques préférées ! 💃🕺 \nRassemblez vos amis\, laissez-vous emporter par le rythme ! 🎵✨
URL:https://www.ocargofoodcourt.com/evenement/soiree-dj-8/
LOCATION:Avignon\, Avignon\, France
CATEGORIES:Avignon
ATTACH;FMTTYPE=image/png:https://www.ocargofoodcourt.com/wp-content/uploads/2026/03/23.04-DJ-Party-FB.png
END:VEVENT
BEGIN:VEVENT
DTSTART;TZID=Europe/Paris:20260424T200000
DTEND;TZID=Europe/Paris:20260424T200000
DTSTAMP:20260420T013333
CREATED:20260415T163553Z
LAST-MODIFIED:20260415T163553Z
UID:10006601-1777060800-1777060800@www.ocargofoodcourt.com
SUMMARY:SOIRÉE BLANCHE
DESCRIPTION:Prépare-toi pour une nuit hors du commun…\n\n\n \n\n\n🎧 DJ Thbaud Fabre aux platines\n\n\n💃 Performeuses pendant la soirée\n\n\n✨ Décoration immersive\n\n\n \n\n\n⚠️ Dress code : BLANC \n\n\n \n\n\nOn compte sur vous pour jouer le jeu 🤍\n\n\nÇa va être… magique 🔥
URL:https://www.ocargofoodcourt.com/evenement/soiree-blanche-2/
LOCATION:Avignon\, Avignon\, France
CATEGORIES:Avignon
ATTACH;FMTTYPE=image/png:https://www.ocargofoodcourt.com/wp-content/uploads/2026/04/24.04-Soiree-blanche-Fb.png
END:VEVENT
BEGIN:VEVENT
DTSTART;TZID=Europe/Paris:20260425T200000
DTEND;TZID=Europe/Paris:20260425T200000
DTSTAMP:20260420T013333
CREATED:20260327T163650Z
LAST-MODIFIED:20260327T163811Z
UID:10006568-1777147200-1777147200@www.ocargofoodcourt.com
SUMMARY:SOIRÉE CONCERT & DJ
DESCRIPTION:🎸 SOIRÉE CONCERT LIVE & DJ 🎧 \nPréparez-vous pour une soirée inoubliable !  \nRejoignez-nous dès 20h pour un Concert Live avec le groupe MAGE\, un groupe pop-rock énergique qui va enflammer la scène ! 🎶🔥 \nEnsuite\, à partir de 22h30\, laissez-vous emporter par les beats dynamiques de DJ BBAK pour une DJ Party mémorable ! 💃🕺 \nRassemblez vos amis et vivez une soirée pleine de musique\, de danse et de bonne humeur ! 🎵🎉 \nEt n’oubliez pas\, tenue correcte exigée ! 👕
URL:https://www.ocargofoodcourt.com/evenement/soiree-concert-dj-15/
LOCATION:Avignon\, Avignon\, France
CATEGORIES:Avignon
ATTACH;FMTTYPE=image/png:https://www.ocargofoodcourt.com/wp-content/uploads/2026/03/25.04-Concert-Fb.png
END:VEVENT
BEGIN:VEVENT
DTSTART;TZID=Europe/Paris:20260427T200000
DTEND;TZID=Europe/Paris:20260427T200000
DTSTAMP:20260420T013333
CREATED:20251220T123805Z
LAST-MODIFIED:20251220T123948Z
UID:10005429-1777320000-1777320000@www.ocargofoodcourt.com
SUMMARY:SOIRÉE KARAOKÉ
DESCRIPTION: SOIRÉE KARAOKÉ  \nPrêts à devenir la star de la soirée ? Ce soir\, rendez-vous à 20h pour une soirée Karaoké mémorable !Choisissez vos musiques préférées\, montez sur scène et laissez-vous emporter par l’ambiance ! Que vous soyez chanteur dans l’âme ou juste là pour vous amuser\, cette soirée est faite pour vous ! Et pour couronner le tout\, chaque lundi\, la bière est à 2€ !
URL:https://www.ocargofoodcourt.com/evenement/soiree-karaoke-162/2026-04-27/
LOCATION:Avignon\, Avignon\, France
CATEGORIES:Avignon
ATTACH;FMTTYPE=image/png:https://www.ocargofoodcourt.com/wp-content/uploads/2025/12/Karaoke-fb.png
END:VEVENT
BEGIN:VEVENT
DTSTART;TZID=Europe/Paris:20260428T200000
DTEND;TZID=Europe/Paris:20260428T200000
DTSTAMP:20260420T013333
CREATED:20260327T150319Z
LAST-MODIFIED:20260327T150319Z
UID:10006305-1777406400-1777406400@www.ocargofoodcourt.com
SUMMARY:SOIRÉE MOJITO
DESCRIPTION:🍸 SOIRÉE MOJITO 🍸 \nRafraîchissez votre soirée avec un bon Mojito ! 🌿 Ce soir\, rejoignez-nous dès 20h pour une Soirée Mojito à ne pas manquer ! \nPour seulement 6€\, dégustez votre Mojito préféré\, avec plusieurs saveurs au choix pour satisfaire toutes les envies. 🍓🥭 Que vous soyez team classique\, fruité\, ou exotique\, il y en aura pour tous les goûts ! \nVenez avec vos amis\, détendez-vous\, et profitez dans une ambiance parfaite. 🎉
URL:https://www.ocargofoodcourt.com/evenement/soiree-mojito-13/2026-04-28/
LOCATION:Avignon\, Avignon\, France
CATEGORIES:Avignon
ATTACH;FMTTYPE=image/png:https://www.ocargofoodcourt.com/wp-content/uploads/2026/03/mojito.png
END:VEVENT
BEGIN:VEVENT
DTSTART;TZID=Europe/Paris:20260429T200000
DTEND;TZID=Europe/Paris:20260429T200000
DTSTAMP:20260420T013333
CREATED:20260327T144536Z
LAST-MODIFIED:20260327T152501Z
UID:10006044-1777492800-1777492800@www.ocargofoodcourt.com
SUMMARY:SOIRÉE APERO PUNCH
DESCRIPTION:🍹 SOIRÉE APÉRO PUNCH 🍹 \n🍹 Envie de décompresser dans une ambiance chill ? Ce soir\, on vous attend dès 20h pour une Soirée Apéro Punch conviviale ! 🌴✨ \nSavourez un délicieux Punch frais et fruité aux saveurs variées\, parfait pour vous détendre après une longue journée. 🎶
URL:https://www.ocargofoodcourt.com/evenement/soiree-apero-punch-8/2026-04-29/
LOCATION:Avignon\, Avignon\, France
CATEGORIES:Avignon
ATTACH;FMTTYPE=image/png:https://www.ocargofoodcourt.com/wp-content/uploads/2026/03/punch-fb-1.png
END:VEVENT
BEGIN:VEVENT
DTSTART;TZID=Europe/Paris:20260430T200000
DTEND;TZID=Europe/Paris:20260430T200000
DTSTAMP:20260420T013333
CREATED:20260327T164429Z
LAST-MODIFIED:20260327T164429Z
UID:10006569-1777579200-1777579200@www.ocargofoodcourt.com
SUMMARY:SOIRÉE CÉLIBATAIRE
DESCRIPTION:💘 SOIRÉE CÉLIBATAIRE – EN COLLAB AVEC BODYHOUSE 💘 \nCélibataire ? Curieux ? Envie de passer une soirée différente\, drôle et décomplexée ? \nChez Ôcargo\, on secoue les cocktails… et les rencontres !  \nAU PROGRAMME : \n🎧 DJ set pour faire monter l’ambiance \n🎲 Animations et jeux pour briser la glace en douceur avec notre animateur Aïmed ! \n📸 Photobooth \n💌 Messagerie de l’amour \n❤️‍🔥 Stand BodyHouse : \nDécouverte de jouets et accessoires\, conseils malins\, discussions sans tabou… et plein de goodies à remporter ! \nEnvie de flirter\, rigoler\, et (peut-être) repartir avec plus qu’un numéro ? 🫢 \nViens vivre une soirée sans prise de tête\, fun et pleine de surprises ! 
URL:https://www.ocargofoodcourt.com/evenement/soiree-celibataire-2/
LOCATION:Avignon\, Avignon\, France
CATEGORIES:Avignon
ATTACH;FMTTYPE=image/png:https://www.ocargofoodcourt.com/wp-content/uploads/2026/03/30.04-Celib-Party-Fb.png
END:VEVENT
BEGIN:VEVENT
DTSTART;TZID=Europe/Paris:20260501T200000
DTEND;TZID=Europe/Paris:20260501T200000
DTSTAMP:20260420T013333
CREATED:20260327T164630Z
LAST-MODIFIED:20260327T164630Z
UID:10006570-1777665600-1777665600@www.ocargofoodcourt.com
SUMMARY:SOIRÉE CONCERT & DJ
DESCRIPTION:🎸 SOIRÉE CONCERT LIVE & DJ 🎧 \nOUVERTURE À 17H30 ! \nPréparez-vous pour une soirée inoubliable !  \nRejoignez-nous dès 20h pour un Concert Live avec le groupe AFTERWORK\, un groupe pop-rock énergique qui va enflammer la scène ! 🎶🔥 \nEnsuite\, à partir de 22h30\, laissez-vous emporter par les beats dynamiques de DJ VINALI pour une DJ Party mémorable ! 💃🕺 \nRassemblez vos amis et vivez une soirée pleine de musique\, de danse et de bonne humeur ! 🎵🎉 \nEt n’oubliez pas\, tenue correcte exigée ! 👕
URL:https://www.ocargofoodcourt.com/evenement/soiree-concert-dj-16/
LOCATION:Avignon\, Avignon\, France
CATEGORIES:Avignon
ATTACH;FMTTYPE=image/png:https://www.ocargofoodcourt.com/wp-content/uploads/2026/03/01.05-Concert-Fb.png
END:VEVENT
BEGIN:VEVENT
DTSTART;TZID=Europe/Paris:20260502T200000
DTEND;TZID=Europe/Paris:20260502T200000
DTSTAMP:20260420T013333
CREATED:20260327T164747Z
LAST-MODIFIED:20260327T164747Z
UID:10006571-1777752000-1777752000@www.ocargofoodcourt.com
SUMMARY:SOIRÉE CONCERT & DJ
DESCRIPTION:🎸 SOIRÉE CONCERT LIVE & DJ 🎧 \nPréparez-vous pour une soirée inoubliable !  \nRejoignez-nous dès 20h pour un Concert Live avec le groupe FULLMOON\, un groupe pop-rock énergique qui va enflammer la scène ! 🎶🔥 \nEnsuite\, à partir de 22h30\, laissez-vous emporter par les beats dynamiques de DJ MV pour une DJ Party mémorable ! 💃🕺 \nRassemblez vos amis et vivez une soirée pleine de musique\, de danse et de bonne humeur ! 🎵🎉 \nEt n’oubliez pas\, tenue correcte exigée ! 👕
URL:https://www.ocargofoodcourt.com/evenement/soiree-concert-dj-17/
LOCATION:Avignon\, Avignon\, France
CATEGORIES:Avignon
ATTACH;FMTTYPE=image/png:https://www.ocargofoodcourt.com/wp-content/uploads/2026/03/02.05-Concert-Fb.png
END:VEVENT
BEGIN:VEVENT
DTSTART;TZID=Europe/Paris:20260504T200000
DTEND;TZID=Europe/Paris:20260504T200000
DTSTAMP:20260420T013333
CREATED:20251220T123805Z
LAST-MODIFIED:20251220T123948Z
UID:10005430-1777924800-1777924800@www.ocargofoodcourt.com
SUMMARY:SOIRÉE KARAOKÉ
DESCRIPTION: SOIRÉE KARAOKÉ  \nPrêts à devenir la star de la soirée ? Ce soir\, rendez-vous à 20h pour une soirée Karaoké mémorable !Choisissez vos musiques préférées\, montez sur scène et laissez-vous emporter par l’ambiance ! Que vous soyez chanteur dans l’âme ou juste là pour vous amuser\, cette soirée est faite pour vous ! Et pour couronner le tout\, chaque lundi\, la bière est à 2€ !
URL:https://www.ocargofoodcourt.com/evenement/soiree-karaoke-162/2026-05-04/
LOCATION:Avignon\, Avignon\, France
CATEGORIES:Avignon
ATTACH;FMTTYPE=image/png:https://www.ocargofoodcourt.com/wp-content/uploads/2025/12/Karaoke-fb.png
END:VEVENT
BEGIN:VEVENT
DTSTART;TZID=Europe/Paris:20260505T200000
DTEND;TZID=Europe/Paris:20260505T200000
DTSTAMP:20260420T013333
CREATED:20260327T150319Z
LAST-MODIFIED:20260327T150319Z
UID:10006306-1778011200-1778011200@www.ocargofoodcourt.com
SUMMARY:SOIRÉE MOJITO
DESCRIPTION:🍸 SOIRÉE MOJITO 🍸 \nRafraîchissez votre soirée avec un bon Mojito ! 🌿 Ce soir\, rejoignez-nous dès 20h pour une Soirée Mojito à ne pas manquer ! \nPour seulement 6€\, dégustez votre Mojito préféré\, avec plusieurs saveurs au choix pour satisfaire toutes les envies. 🍓🥭 Que vous soyez team classique\, fruité\, ou exotique\, il y en aura pour tous les goûts ! \nVenez avec vos amis\, détendez-vous\, et profitez dans une ambiance parfaite. 🎉
URL:https://www.ocargofoodcourt.com/evenement/soiree-mojito-13/2026-05-05/
LOCATION:Avignon\, Avignon\, France
CATEGORIES:Avignon
ATTACH;FMTTYPE=image/png:https://www.ocargofoodcourt.com/wp-content/uploads/2026/03/mojito.png
END:VEVENT
BEGIN:VEVENT
DTSTART;TZID=Europe/Paris:20260506T200000
DTEND;TZID=Europe/Paris:20260506T200000
DTSTAMP:20260420T013333
CREATED:20260327T144536Z
LAST-MODIFIED:20260327T152501Z
UID:10006045-1778097600-1778097600@www.ocargofoodcourt.com
SUMMARY:SOIRÉE APERO PUNCH
DESCRIPTION:🍹 SOIRÉE APÉRO PUNCH 🍹 \n🍹 Envie de décompresser dans une ambiance chill ? Ce soir\, on vous attend dès 20h pour une Soirée Apéro Punch conviviale ! 🌴✨ \nSavourez un délicieux Punch frais et fruité aux saveurs variées\, parfait pour vous détendre après une longue journée. 🎶
URL:https://www.ocargofoodcourt.com/evenement/soiree-apero-punch-8/2026-05-06/
LOCATION:Avignon\, Avignon\, France
CATEGORIES:Avignon
ATTACH;FMTTYPE=image/png:https://www.ocargofoodcourt.com/wp-content/uploads/2026/03/punch-fb-1.png
END:VEVENT
BEGIN:VEVENT
DTSTART;TZID=Europe/Paris:20260508T200000
DTEND;TZID=Europe/Paris:20260508T200000
DTSTAMP:20260420T013333
CREATED:20260409T140208Z
LAST-MODIFIED:20260409T141037Z
UID:10006593-1778270400-1778270400@www.ocargofoodcourt.com
SUMMARY:SHOWCASE EXCLUSIF 3T : LES NEVEUX DE MICHAEL JACKSON !
DESCRIPTION:À l’occasion de leur venue exceptionnelle à Cannes\npour présenter le biopic sur Michael Jackson\, les\nlégendaires 3T débarquent pour un showcase UNIQUE 🔥\nLes neveux du King de la Pop vous donnent rendez-vous\npour une soirée inoubliable\, entre émotions\, nostalgie\net vibes incroyables… \n🗓️ Une nuit exceptionnelle à partir de 20h\n🔥 Un moment rare\, intime et exclusif à ne surtout pas\nmanquer \n🎟️ Lien de la billetterie : https://yp.events/114c079a-df16-4f1b-87fa-eff31f45f1a6/SHOWCASE-3T/ticketing\nPrépare-toi à vivre une expérience unique\, au plus près\nde l’héritage Jackson… 👑
URL:https://www.ocargofoodcourt.com/evenement/showcase-exclusif-3t-les-neveux-de-michael-jackson-2/
LOCATION:Avignon\, Avignon\, France
CATEGORIES:A la une à Avignon,Avignon
ATTACH;FMTTYPE=image/png:https://www.ocargofoodcourt.com/wp-content/uploads/2026/04/Showcase-3T-FB-1.png
END:VEVENT
BEGIN:VEVENT
DTSTART;TZID=Europe/Paris:20260511T200000
DTEND;TZID=Europe/Paris:20260511T200000
DTSTAMP:20260420T013333
CREATED:20251220T123805Z
LAST-MODIFIED:20251220T123948Z
UID:10005431-1778529600-1778529600@www.ocargofoodcourt.com
SUMMARY:SOIRÉE KARAOKÉ
DESCRIPTION: SOIRÉE KARAOKÉ  \nPrêts à devenir la star de la soirée ? Ce soir\, rendez-vous à 20h pour une soirée Karaoké mémorable !Choisissez vos musiques préférées\, montez sur scène et laissez-vous emporter par l’ambiance ! Que vous soyez chanteur dans l’âme ou juste là pour vous amuser\, cette soirée est faite pour vous ! Et pour couronner le tout\, chaque lundi\, la bière est à 2€ !
URL:https://www.ocargofoodcourt.com/evenement/soiree-karaoke-162/2026-05-11/
LOCATION:Avignon\, Avignon\, France
CATEGORIES:Avignon
ATTACH;FMTTYPE=image/png:https://www.ocargofoodcourt.com/wp-content/uploads/2025/12/Karaoke-fb.png
END:VEVENT
BEGIN:VEVENT
DTSTART;TZID=Europe/Paris:20260512T200000
DTEND;TZID=Europe/Paris:20260512T200000
DTSTAMP:20260420T013333
CREATED:20260327T150319Z
LAST-MODIFIED:20260327T150319Z
UID:10006307-1778616000-1778616000@www.ocargofoodcourt.com
SUMMARY:SOIRÉE MOJITO
DESCRIPTION:🍸 SOIRÉE MOJITO 🍸 \nRafraîchissez votre soirée avec un bon Mojito ! 🌿 Ce soir\, rejoignez-nous dès 20h pour une Soirée Mojito à ne pas manquer ! \nPour seulement 6€\, dégustez votre Mojito préféré\, avec plusieurs saveurs au choix pour satisfaire toutes les envies. 🍓🥭 Que vous soyez team classique\, fruité\, ou exotique\, il y en aura pour tous les goûts ! \nVenez avec vos amis\, détendez-vous\, et profitez dans une ambiance parfaite. 🎉
URL:https://www.ocargofoodcourt.com/evenement/soiree-mojito-13/2026-05-12/
LOCATION:Avignon\, Avignon\, France
CATEGORIES:Avignon
ATTACH;FMTTYPE=image/png:https://www.ocargofoodcourt.com/wp-content/uploads/2026/03/mojito.png
END:VEVENT
BEGIN:VEVENT
DTSTART;TZID=Europe/Paris:20260513T200000
DTEND;TZID=Europe/Paris:20260513T200000
DTSTAMP:20260420T013333
CREATED:20260327T144536Z
LAST-MODIFIED:20260327T152501Z
UID:10006046-1778702400-1778702400@www.ocargofoodcourt.com
SUMMARY:SOIRÉE APERO PUNCH
DESCRIPTION:🍹 SOIRÉE APÉRO PUNCH 🍹 \n🍹 Envie de décompresser dans une ambiance chill ? Ce soir\, on vous attend dès 20h pour une Soirée Apéro Punch conviviale ! 🌴✨ \nSavourez un délicieux Punch frais et fruité aux saveurs variées\, parfait pour vous détendre après une longue journée. 🎶
URL:https://www.ocargofoodcourt.com/evenement/soiree-apero-punch-8/2026-05-13/
LOCATION:Avignon\, Avignon\, France
CATEGORIES:Avignon
ATTACH;FMTTYPE=image/png:https://www.ocargofoodcourt.com/wp-content/uploads/2026/03/punch-fb-1.png
END:VEVENT
BEGIN:VEVENT
DTSTART;TZID=Europe/Paris:20260518T200000
DTEND;TZID=Europe/Paris:20260518T200000
DTSTAMP:20260420T013333
CREATED:20251220T123805Z
LAST-MODIFIED:20251220T123948Z
UID:10005432-1779134400-1779134400@www.ocargofoodcourt.com
SUMMARY:SOIRÉE KARAOKÉ
DESCRIPTION: SOIRÉE KARAOKÉ  \nPrêts à devenir la star de la soirée ? Ce soir\, rendez-vous à 20h pour une soirée Karaoké mémorable !Choisissez vos musiques préférées\, montez sur scène et laissez-vous emporter par l’ambiance ! Que vous soyez chanteur dans l’âme ou juste là pour vous amuser\, cette soirée est faite pour vous ! Et pour couronner le tout\, chaque lundi\, la bière est à 2€ !
URL:https://www.ocargofoodcourt.com/evenement/soiree-karaoke-162/2026-05-18/
LOCATION:Avignon\, Avignon\, France
CATEGORIES:Avignon
ATTACH;FMTTYPE=image/png:https://www.ocargofoodcourt.com/wp-content/uploads/2025/12/Karaoke-fb.png
END:VEVENT
BEGIN:VEVENT
DTSTART;TZID=Europe/Paris:20260519T200000
DTEND;TZID=Europe/Paris:20260519T200000
DTSTAMP:20260420T013333
CREATED:20260327T150319Z
LAST-MODIFIED:20260327T150319Z
UID:10006308-1779220800-1779220800@www.ocargofoodcourt.com
SUMMARY:SOIRÉE MOJITO
DESCRIPTION:🍸 SOIRÉE MOJITO 🍸 \nRafraîchissez votre soirée avec un bon Mojito ! 🌿 Ce soir\, rejoignez-nous dès 20h pour une Soirée Mojito à ne pas manquer ! \nPour seulement 6€\, dégustez votre Mojito préféré\, avec plusieurs saveurs au choix pour satisfaire toutes les envies. 🍓🥭 Que vous soyez team classique\, fruité\, ou exotique\, il y en aura pour tous les goûts ! \nVenez avec vos amis\, détendez-vous\, et profitez dans une ambiance parfaite. 🎉
URL:https://www.ocargofoodcourt.com/evenement/soiree-mojito-13/2026-05-19/
LOCATION:Avignon\, Avignon\, France
CATEGORIES:Avignon
ATTACH;FMTTYPE=image/png:https://www.ocargofoodcourt.com/wp-content/uploads/2026/03/mojito.png
END:VEVENT
BEGIN:VEVENT
DTSTART;TZID=Europe/Paris:20260520T200000
DTEND;TZID=Europe/Paris:20260520T200000
DTSTAMP:20260420T013333
CREATED:20260327T144536Z
LAST-MODIFIED:20260327T152501Z
UID:10006047-1779307200-1779307200@www.ocargofoodcourt.com
SUMMARY:SOIRÉE APERO PUNCH
DESCRIPTION:🍹 SOIRÉE APÉRO PUNCH 🍹 \n🍹 Envie de décompresser dans une ambiance chill ? Ce soir\, on vous attend dès 20h pour une Soirée Apéro Punch conviviale ! 🌴✨ \nSavourez un délicieux Punch frais et fruité aux saveurs variées\, parfait pour vous détendre après une longue journée. 🎶
URL:https://www.ocargofoodcourt.com/evenement/soiree-apero-punch-8/2026-05-20/
LOCATION:Avignon\, Avignon\, France
CATEGORIES:Avignon
ATTACH;FMTTYPE=image/png:https://www.ocargofoodcourt.com/wp-content/uploads/2026/03/punch-fb-1.png
END:VEVENT
BEGIN:VEVENT
DTSTART;TZID=Europe/Paris:20260525T200000
DTEND;TZID=Europe/Paris:20260525T200000
DTSTAMP:20260420T013333
CREATED:20251220T123805Z
LAST-MODIFIED:20251220T123948Z
UID:10005433-1779739200-1779739200@www.ocargofoodcourt.com
SUMMARY:SOIRÉE KARAOKÉ
DESCRIPTION: SOIRÉE KARAOKÉ  \nPrêts à devenir la star de la soirée ? Ce soir\, rendez-vous à 20h pour une soirée Karaoké mémorable !Choisissez vos musiques préférées\, montez sur scène et laissez-vous emporter par l’ambiance ! Que vous soyez chanteur dans l’âme ou juste là pour vous amuser\, cette soirée est faite pour vous ! Et pour couronner le tout\, chaque lundi\, la bière est à 2€ !
URL:https://www.ocargofoodcourt.com/evenement/soiree-karaoke-162/2026-05-25/
LOCATION:Avignon\, Avignon\, France
CATEGORIES:Avignon
ATTACH;FMTTYPE=image/png:https://www.ocargofoodcourt.com/wp-content/uploads/2025/12/Karaoke-fb.png
END:VEVENT
BEGIN:VEVENT
DTSTART;TZID=Europe/Paris:20260526T200000
DTEND;TZID=Europe/Paris:20260526T200000
DTSTAMP:20260420T013333
CREATED:20260327T150319Z
LAST-MODIFIED:20260327T150319Z
UID:10006309-1779825600-1779825600@www.ocargofoodcourt.com
SUMMARY:SOIRÉE MOJITO
DESCRIPTION:🍸 SOIRÉE MOJITO 🍸 \nRafraîchissez votre soirée avec un bon Mojito ! 🌿 Ce soir\, rejoignez-nous dès 20h pour une Soirée Mojito à ne pas manquer ! \nPour seulement 6€\, dégustez votre Mojito préféré\, avec plusieurs saveurs au choix pour satisfaire toutes les envies. 🍓🥭 Que vous soyez team classique\, fruité\, ou exotique\, il y en aura pour tous les goûts ! \nVenez avec vos amis\, détendez-vous\, et profitez dans une ambiance parfaite. 🎉
URL:https://www.ocargofoodcourt.com/evenement/soiree-mojito-13/2026-05-26/
LOCATION:Avignon\, Avignon\, France
CATEGORIES:Avignon
ATTACH;FMTTYPE=image/png:https://www.ocargofoodcourt.com/wp-content/uploads/2026/03/mojito.png
END:VEVENT
BEGIN:VEVENT
DTSTART;TZID=Europe/Paris:20260527T200000
DTEND;TZID=Europe/Paris:20260527T200000
DTSTAMP:20260420T013333
CREATED:20260327T144536Z
LAST-MODIFIED:20260327T152501Z
UID:10006048-1779912000-1779912000@www.ocargofoodcourt.com
SUMMARY:SOIRÉE APERO PUNCH
DESCRIPTION:🍹 SOIRÉE APÉRO PUNCH 🍹 \n🍹 Envie de décompresser dans une ambiance chill ? Ce soir\, on vous attend dès 20h pour une Soirée Apéro Punch conviviale ! 🌴✨ \nSavourez un délicieux Punch frais et fruité aux saveurs variées\, parfait pour vous détendre après une longue journée. 🎶
URL:https://www.ocargofoodcourt.com/evenement/soiree-apero-punch-8/2026-05-27/
LOCATION:Avignon\, Avignon\, France
CATEGORIES:Avignon
ATTACH;FMTTYPE=image/png:https://www.ocargofoodcourt.com/wp-content/uploads/2026/03/punch-fb-1.png
END:VEVENT
BEGIN:VEVENT
DTSTART;TZID=Europe/Paris:20260601T200000
DTEND;TZID=Europe/Paris:20260601T200000
DTSTAMP:20260420T013333
CREATED:20251220T123805Z
LAST-MODIFIED:20251220T123948Z
UID:10005434-1780344000-1780344000@www.ocargofoodcourt.com
SUMMARY:SOIRÉE KARAOKÉ
DESCRIPTION: SOIRÉE KARAOKÉ  \nPrêts à devenir la star de la soirée ? Ce soir\, rendez-vous à 20h pour une soirée Karaoké mémorable !Choisissez vos musiques préférées\, montez sur scène et laissez-vous emporter par l’ambiance ! Que vous soyez chanteur dans l’âme ou juste là pour vous amuser\, cette soirée est faite pour vous ! Et pour couronner le tout\, chaque lundi\, la bière est à 2€ !
URL:https://www.ocargofoodcourt.com/evenement/soiree-karaoke-162/2026-06-01/
LOCATION:Avignon\, Avignon\, France
CATEGORIES:Avignon
ATTACH;FMTTYPE=image/png:https://www.ocargofoodcourt.com/wp-content/uploads/2025/12/Karaoke-fb.png
END:VEVENT
BEGIN:VEVENT
DTSTART;TZID=Europe/Paris:20260602T200000
DTEND;TZID=Europe/Paris:20260602T200000
DTSTAMP:20260420T013333
CREATED:20260327T150319Z
LAST-MODIFIED:20260327T150319Z
UID:10006310-1780430400-1780430400@www.ocargofoodcourt.com
SUMMARY:SOIRÉE MOJITO
DESCRIPTION:🍸 SOIRÉE MOJITO 🍸 \nRafraîchissez votre soirée avec un bon Mojito ! 🌿 Ce soir\, rejoignez-nous dès 20h pour une Soirée Mojito à ne pas manquer ! \nPour seulement 6€\, dégustez votre Mojito préféré\, avec plusieurs saveurs au choix pour satisfaire toutes les envies. 🍓🥭 Que vous soyez team classique\, fruité\, ou exotique\, il y en aura pour tous les goûts ! \nVenez avec vos amis\, détendez-vous\, et profitez dans une ambiance parfaite. 🎉
URL:https://www.ocargofoodcourt.com/evenement/soiree-mojito-13/2026-06-02/
LOCATION:Avignon\, Avignon\, France
CATEGORIES:Avignon
ATTACH;FMTTYPE=image/png:https://www.ocargofoodcourt.com/wp-content/uploads/2026/03/mojito.png
END:VEVENT
BEGIN:VEVENT
DTSTART;TZID=Europe/Paris:20260603T200000
DTEND;TZID=Europe/Paris:20260603T200000
DTSTAMP:20260420T013333
CREATED:20260327T144536Z
LAST-MODIFIED:20260327T152501Z
UID:10006049-1780516800-1780516800@www.ocargofoodcourt.com
SUMMARY:SOIRÉE APERO PUNCH
DESCRIPTION:🍹 SOIRÉE APÉRO PUNCH 🍹 \n🍹 Envie de décompresser dans une ambiance chill ? Ce soir\, on vous attend dès 20h pour une Soirée Apéro Punch conviviale ! 🌴✨ \nSavourez un délicieux Punch frais et fruité aux saveurs variées\, parfait pour vous détendre après une longue journée. 🎶
URL:https://www.ocargofoodcourt.com/evenement/soiree-apero-punch-8/2026-06-03/
LOCATION:Avignon\, Avignon\, France
CATEGORIES:Avignon
ATTACH;FMTTYPE=image/png:https://www.ocargofoodcourt.com/wp-content/uploads/2026/03/punch-fb-1.png
END:VEVENT
BEGIN:VEVENT
DTSTART;TZID=Europe/Paris:20260608T200000
DTEND;TZID=Europe/Paris:20260608T200000
DTSTAMP:20260420T013333
CREATED:20251220T123805Z
LAST-MODIFIED:20251220T123948Z
UID:10005435-1780948800-1780948800@www.ocargofoodcourt.com
SUMMARY:SOIRÉE KARAOKÉ
DESCRIPTION: SOIRÉE KARAOKÉ  \nPrêts à devenir la star de la soirée ? Ce soir\, rendez-vous à 20h pour une soirée Karaoké mémorable !Choisissez vos musiques préférées\, montez sur scène et laissez-vous emporter par l’ambiance ! Que vous soyez chanteur dans l’âme ou juste là pour vous amuser\, cette soirée est faite pour vous ! Et pour couronner le tout\, chaque lundi\, la bière est à 2€ !
URL:https://www.ocargofoodcourt.com/evenement/soiree-karaoke-162/2026-06-08/
LOCATION:Avignon\, Avignon\, France
CATEGORIES:Avignon
ATTACH;FMTTYPE=image/png:https://www.ocargofoodcourt.com/wp-content/uploads/2025/12/Karaoke-fb.png
END:VEVENT
BEGIN:VEVENT
DTSTART;TZID=Europe/Paris:20260609T200000
DTEND;TZID=Europe/Paris:20260609T200000
DTSTAMP:20260420T013333
CREATED:20260327T150319Z
LAST-MODIFIED:20260327T150319Z
UID:10006311-1781035200-1781035200@www.ocargofoodcourt.com
SUMMARY:SOIRÉE MOJITO
DESCRIPTION:🍸 SOIRÉE MOJITO 🍸 \nRafraîchissez votre soirée avec un bon Mojito ! 🌿 Ce soir\, rejoignez-nous dès 20h pour une Soirée Mojito à ne pas manquer ! \nPour seulement 6€\, dégustez votre Mojito préféré\, avec plusieurs saveurs au choix pour satisfaire toutes les envies. 🍓🥭 Que vous soyez team classique\, fruité\, ou exotique\, il y en aura pour tous les goûts ! \nVenez avec vos amis\, détendez-vous\, et profitez dans une ambiance parfaite. 🎉
URL:https://www.ocargofoodcourt.com/evenement/soiree-mojito-13/2026-06-09/
LOCATION:Avignon\, Avignon\, France
CATEGORIES:Avignon
ATTACH;FMTTYPE=image/png:https://www.ocargofoodcourt.com/wp-content/uploads/2026/03/mojito.png
END:VEVENT
BEGIN:VEVENT
DTSTART;TZID=Europe/Paris:20260610T200000
DTEND;TZID=Europe/Paris:20260610T200000
DTSTAMP:20260420T013333
CREATED:20260327T144536Z
LAST-MODIFIED:20260327T152501Z
UID:10006050-1781121600-1781121600@www.ocargofoodcourt.com
SUMMARY:SOIRÉE APERO PUNCH
DESCRIPTION:🍹 SOIRÉE APÉRO PUNCH 🍹 \n🍹 Envie de décompresser dans une ambiance chill ? Ce soir\, on vous attend dès 20h pour une Soirée Apéro Punch conviviale ! 🌴✨ \nSavourez un délicieux Punch frais et fruité aux saveurs variées\, parfait pour vous détendre après une longue journée. 🎶
URL:https://www.ocargofoodcourt.com/evenement/soiree-apero-punch-8/2026-06-10/
LOCATION:Avignon\, Avignon\, France
CATEGORIES:Avignon
ATTACH;FMTTYPE=image/png:https://www.ocargofoodcourt.com/wp-content/uploads/2026/03/punch-fb-1.png
END:VEVENT
BEGIN:VEVENT
DTSTART;TZID=Europe/Paris:20260615T200000
DTEND;TZID=Europe/Paris:20260615T200000
DTSTAMP:20260420T013333
CREATED:20251220T123805Z
LAST-MODIFIED:20251220T123948Z
UID:10005436-1781553600-1781553600@www.ocargofoodcourt.com
SUMMARY:SOIRÉE KARAOKÉ
DESCRIPTION: SOIRÉE KARAOKÉ  \nPrêts à devenir la star de la soirée ? Ce soir\, rendez-vous à 20h pour une soirée Karaoké mémorable !Choisissez vos musiques préférées\, montez sur scène et laissez-vous emporter par l’ambiance ! Que vous soyez chanteur dans l’âme ou juste là pour vous amuser\, cette soirée est faite pour vous ! Et pour couronner le tout\, chaque lundi\, la bière est à 2€ !
URL:https://www.ocargofoodcourt.com/evenement/soiree-karaoke-162/2026-06-15/
LOCATION:Avignon\, Avignon\, France
CATEGORIES:Avignon
ATTACH;FMTTYPE=image/png:https://www.ocargofoodcourt.com/wp-content/uploads/2025/12/Karaoke-fb.png
END:VEVENT
BEGIN:VEVENT
DTSTART;TZID=Europe/Paris:20260616T200000
DTEND;TZID=Europe/Paris:20260616T200000
DTSTAMP:20260420T013333
CREATED:20260327T150319Z
LAST-MODIFIED:20260327T150319Z
UID:10006312-1781640000-1781640000@www.ocargofoodcourt.com
SUMMARY:SOIRÉE MOJITO
DESCRIPTION:🍸 SOIRÉE MOJITO 🍸 \nRafraîchissez votre soirée avec un bon Mojito ! 🌿 Ce soir\, rejoignez-nous dès 20h pour une Soirée Mojito à ne pas manquer ! \nPour seulement 6€\, dégustez votre Mojito préféré\, avec plusieurs saveurs au choix pour satisfaire toutes les envies. 🍓🥭 Que vous soyez team classique\, fruité\, ou exotique\, il y en aura pour tous les goûts ! \nVenez avec vos amis\, détendez-vous\, et profitez dans une ambiance parfaite. 🎉
URL:https://www.ocargofoodcourt.com/evenement/soiree-mojito-13/2026-06-16/
LOCATION:Avignon\, Avignon\, France
CATEGORIES:Avignon
ATTACH;FMTTYPE=image/png:https://www.ocargofoodcourt.com/wp-content/uploads/2026/03/mojito.png
END:VEVENT
END:VCALENDAR